BEGIN:VCALENDAR
VERSION:2.0
PRODID:-//Notorious Jazz - ECPv6.15.17//NONSGML v1.0//EN
CALSCALE:GREGORIAN
METHOD:PUBLISH
X-WR-CALNAME:Notorious Jazz
X-ORIGINAL-URL:https://notoriousjazz.com
X-WR-CALDESC:Events for Notorious Jazz
REFRESH-INTERVAL;VALUE=DURATION:PT1H
X-Robots-Tag:noindex
X-PUBLISHED-TTL:PT1H
BEGIN:VTIMEZONE
TZID:America/New_York
BEGIN:DAYLIGHT
TZOFFSETFROM:-0500
TZOFFSETTO:-0400
TZNAME:EDT
DTSTART:20210314T070000
END:DAYLIGHT
BEGIN:STANDARD
TZOFFSETFROM:-0400
TZOFFSETTO:-0500
TZNAME:EST
DTSTART:20211107T060000
END:STANDARD
BEGIN:DAYLIGHT
TZOFFSETFROM:-0500
TZOFFSETTO:-0400
TZNAME:EDT
DTSTART:20220313T070000
END:DAYLIGHT
BEGIN:STANDARD
TZOFFSETFROM:-0400
TZOFFSETTO:-0500
TZNAME:EST
DTSTART:20221106T060000
END:STANDARD
BEGIN:DAYLIGHT
TZOFFSETFROM:-0500
TZOFFSETTO:-0400
TZNAME:EDT
DTSTART:20230312T070000
END:DAYLIGHT
BEGIN:STANDARD
TZOFFSETFROM:-0400
TZOFFSETTO:-0500
TZNAME:EST
DTSTART:20231105T060000
END:STANDARD
END:VTIMEZONE
BEGIN:VTIMEZONE
TZID:America/Chicago
BEGIN:DAYLIGHT
TZOFFSETFROM:-0600
TZOFFSETTO:-0500
TZNAME:CDT
DTSTART:20210314T080000
END:DAYLIGHT
BEGIN:STANDARD
TZOFFSETFROM:-0500
TZOFFSETTO:-0600
TZNAME:CST
DTSTART:20211107T070000
END:STANDARD
BEGIN:DAYLIGHT
TZOFFSETFROM:-0600
TZOFFSETTO:-0500
TZNAME:CDT
DTSTART:20220313T080000
END:DAYLIGHT
BEGIN:STANDARD
TZOFFSETFROM:-0500
TZOFFSETTO:-0600
TZNAME:CST
DTSTART:20221106T070000
END:STANDARD
BEGIN:DAYLIGHT
TZOFFSETFROM:-0600
TZOFFSETTO:-0500
TZNAME:CDT
DTSTART:20230312T080000
END:DAYLIGHT
BEGIN:STANDARD
TZOFFSETFROM:-0500
TZOFFSETTO:-0600
TZNAME:CST
DTSTART:20231105T070000
END:STANDARD
END:VTIMEZONE
BEGIN:VEVENT
DTSTART;TZID=America/New_York:20221101T200000
DTEND;TZID=America/New_York:20221106T233000
DTSTAMP:20260422T000119
CREATED:20221010T003055Z
LAST-MODIFIED:20221010T003055Z
UID:32068-1667332800-1667777400@notoriousjazz.com
SUMMARY:BEN WENDEL QUARTET
DESCRIPTION:Ben Wendel is a naturally inquisitive musician whose credentials branch out beyond jazz. He briefly toured with Snoop Dogg. He’s a member of Kneebody\, a postmillennial groove band with a sizable following\, as well as an accomplished solo artist and producer. \nBen Wendel – Saxophone\nGerald Clayton  – Piano\nLinda May Han Oh – Bass\nObed Calvaire – Drums
URL:https://notoriousjazz.com/event/ben-wendel-quartet
LOCATION:Village Vanguard\, 178 7th Avenue S\, New York City\, NY\, 10014\, United States
CATEGORIES:Club
ATTACH;FMTTYPE=image/jpeg:https://notoriousjazz.com/wp-content/uploads/2022/10/BEN-WENDEL.jpg
END:VEVENT
BEGIN:VEVENT
DTSTART;TZID=America/Chicago:20221102T193000
DTEND;TZID=America/Chicago:20221106T230000
DTSTAMP:20260422T000119
CREATED:20220920T211243Z
LAST-MODIFIED:20221012T174425Z
UID:31772-1667417400-1667775600@notoriousjazz.com
SUMMARY:JOHN PIZZARELLI
DESCRIPTION:John Pizzarelli\, the world-renowned guitarist and singer\, has established himself as a prime contemporary interpreter of the Great American Songbook and beyond\, with a repertoire that includes Joni Mitchell\, Neil Young\, Tom Waits\, Antônio Carlos Jobim\, and The Beatles. Following high-profile collaborations with Sir Paul McCartney and Michael McDonald\, Pizzarelli returns to his roots to honor his hero\, the legendary jazz/pop vocalist and pianist Nat King Cole\, whose centennial is being celebrated around the world. \nValet Parking ~ $10.00 prepaid \nValet parking is available for all Jazz St. Louis performances. Discounted $10 valet parking may be purchased when ordering your tickets. Please make sure to select the correct date and time when adding parking to your cart with your tickets before purchasing. \nPerformances \nNovember 2 ~ 7:30pm \nNovember 3 ~ 11:00am | 7:30pm \nNovember 4 ~ 7:30pm | 9:30pm \nNovember 5 ~ 7:30pm | 9:30pm \nNovember 6 ~ 6:30pm \n 
URL:https://notoriousjazz.com/event/john-pizzarelli-2
LOCATION:Jazz St. Louis\, 3536 Washington Avenue\, St. Louis\, MO\, 63103\, United States
CATEGORIES:Club
ATTACH;FMTTYPE=image/jpeg:https://notoriousjazz.com/wp-content/uploads/2022/09/JOHN-PIZZARELLI.jpg
END:VEVENT
BEGIN:VEVENT
DTSTART;TZID=America/New_York:20221104T190000
DTEND;TZID=America/New_York:20221104T230000
DTSTAMP:20260422T000119
CREATED:20221031T021227Z
LAST-MODIFIED:20221031T021354Z
UID:32442-1667588400-1667602800@notoriousjazz.com
SUMMARY:MARIA HOWELL & NOEL FRIEDLINE
DESCRIPTION:Middle C Jazz 3rd Anniversary | Noel & Maria: The Very Best of Billy\, Stevie\, Elton and Ray with a twist of… \nNoel & Maria: The Very Best of Billy\, Stevie\, Elton and Ray with a twist of Motown\, Chicago\, Sam Cooke\, Luther Vandross\, Donny Hathaway\, Peter Cetera\, Marvin Gaye\, The Temptations\, The Supremes\, Martha Reeves & the Vandellas\, The Four Tops\, the Jackson 5\, Gladys Knight\, and more! \nFriday ~ November 4 | 7:00pm & 9:15PM \nSaturday ~ November 5 | 7:00pm & 9:15PM
URL:https://notoriousjazz.com/event/maria-howell-noel-friedline-2
LOCATION:Middle C Jazz\, 300 South Brevard Street\, Charlotte\, NC\, 28202\, United States
CATEGORIES:Club
ATTACH;FMTTYPE=image/jpeg:https://notoriousjazz.com/wp-content/uploads/2022/10/MARIA-NOEL.jpg
END:VEVENT
BEGIN:VEVENT
DTSTART;TZID=America/New_York:20221104T190000
DTEND;TZID=America/New_York:20221106T230000
DTSTAMP:20260422T000119
CREATED:20220704T173931Z
LAST-MODIFIED:20220919T234046Z
UID:30852-1667588400-1667775600@notoriousjazz.com
SUMMARY:BOB JAMES
DESCRIPTION:From his first days in Marshall\, Missouri\, the music of Bob James has captivated audiences throughout the world.  Discovered by Quincy Jones at the Notre Dame Jazz Festival in 1963\, James recorded his first solo album\, Bold Conceptions\, that same year for Mercury Records. More than 60 albums and innumerable awards would follow through the nearly six decades. \nBob James honed his skills working with Creed Taylor\, and on albums for artists like Hank Crawford and Grover Washington\, Jr\, among others.  While with CTI\, James found great popular success overseeing significant hits for Paul Simon\, Neil Diamond\, Maynard Ferguson\, and Kenny Loggins. \nWhile James is recognized as one of the progenitors of smooth jazz\, his music has also had a profound effect on the history of hip hop. Two of James’ songs – “Nautilus” from 1974’s One and “Take Me to the Mardi Gras” from 1975’s Two – are among the most sampled in hip hop history. \nShowtimes: \n7:00 pm | Fri\, Sat~$55 Sun~$40.00 \n9:00 pm | Fri\, Sat~$55 Sun~$20.00 \n$15 food/beverage minimum per person not included in ticket price.
URL:https://notoriousjazz.com/event/bob-james
LOCATION:Blues Alley\, 1073 Wisconsin Avenue NW\, Washington\, DC\, 20007\, United States
CATEGORIES:Club
ATTACH;FMTTYPE=image/jpeg:https://notoriousjazz.com/wp-content/uploads/2022/07/BOB-JAMES.jpg
END:VEVENT
BEGIN:VEVENT
DTSTART;TZID=America/New_York:20221104T193000
DTEND;TZID=America/New_York:20221104T220000
DTSTAMP:20260422T000119
CREATED:20221030T021805Z
LAST-MODIFIED:20221030T203032Z
UID:32416-1667590200-1667599200@notoriousjazz.com
SUMMARY:CAROL ANN TAYLOR
DESCRIPTION:Love\, Peace & Jazz! The Sunshine Jazz Organization is celebrating our 36th Season! Promoting America’s Precious Art form in South Florida Since 1986. \nJoin Sunshine Jazz Organization at the beautiful Sandrell Rivers Theater for a spectacular performance by the incomparable Carole Ann Taylor! \nCarole Ann Taylor is a skillful interpreter of other people’s songs\, she turns classic tunes like “You Can Have Him” by Nina Simone and “For All We Know” by Nat King Cole into poignant renditions\, enriched by her own musical expression. “I am basically a singer of jazz standards\,” says Taylor. “I evoke another time when people sat in clubs and listened to music.” But the nostalgia stops there. In contrast to her role as a soul singer\, Taylor is progressive in her personal experiences. The balance between conviction and experimentation in her jazz singing voice is a natural extension of her speaking voice. And yet there is so much more. \nCOVID-19 Protocol & Practices: Read our guidelines: https://www.sandrellriverstheater.com/reopening \nADA Accommodations: It is our policy to comply with all of the requirements of the Americans with Disabilities Act. To request materials in accessible format\, and/or any accommodation to attend any Fantasy Theatre Factory event\, please contact Evelyn Gigiras Sullivan\, 305-284-8800\, evelyn@ftfshows.com\, at least five (5) days in advance to initiate your request\, TTY users may also call 711 (Florida Relay Service). \n*Ticket sales are FINAL and subject to venue facility fees. \nFor more information contact the Box Office at (305) 284-8872 or boxoffice@ftfshows.com
URL:https://notoriousjazz.com/event/carol-ann-taylor
LOCATION:Sandrell Rivers Theater\, 6103 NW 7th Avenue\, Miami\, FL\, 33127\, United States
CATEGORIES:Concert
ATTACH;FMTTYPE=image/jpeg:https://notoriousjazz.com/wp-content/uploads/2022/10/CAROL-ANN-TAYLOR.jpg
END:VEVENT
BEGIN:VEVENT
DTSTART;TZID=America/New_York:20221104T193000
DTEND;TZID=America/New_York:20221105T230000
DTSTAMP:20260422T000119
CREATED:20221014T155005Z
LAST-MODIFIED:20221016T001525Z
UID:32173-1667590200-1667689200@notoriousjazz.com
SUMMARY:CURTIS LUNDY TRIO
DESCRIPTION:Curtis Lundy is arguably one of the most prolific — in-demand bassists on the modern jazz scene — he is a disciple of the mainstream — straight ahead — hard bop school. Highly regarded for his robust\, lyrical\, ‘lead from the front’ approach to the acoustic bass — he delivers an unsurpassed brand of masterful excellence in performing standards\, originals and the American songbook. His fluid voicings and exceptional dexterity allow listeners to delve into a song — in any time signature — with an equal measure of challenge and enjoyment. \nBorn in 1963\, Cyrus Chestnut started his musical career at the age of three\, playing piano at the Mount Calvary StaR&Baptist Church at the age of six in his hometown of Baltimore\, MD. By age nine\, he was studying classical music at the Peabody Preparatory Institute in Baltimore. In the fall of 1981\, Cyrus began jazz education in Boston\, MA at the Berklee College of Music. In 1985\, he earned a degree in jazz composition and arranging. While at Berklee\, Chestnut was awarded the Eubie Blake Fellowship\, the Oscar Peterson\, Quincy Jones\, and Count Basie awards for exceptional performance standards at the college. His association with Betty Carter\, which began in 1991 significantly affected his outlook and approach to music\, confirming his already iconoclastic instincts. Carter advised him to “take chances” and play things I’ve never heard\,” Chestnut says. As Cyrus was absorbing experiences as a sideman\, he was also developing as a leader\, recording and playing live around the world. \nVictor Jones\, considered a visionary in today’s music business\, is a new breed of Drummer/Bandleader bringing new and exciting ideas to the world of jazz and world music. No stranger to traditional or modern jazz\, Victor Jones started his career as a teen-age musician playing in local bands in his birthplace of Newark\, New Jersey and touring world-wide with Lou Donaldson. In his early twenties he toured the world with Stan Getz.  Later tours were with James Moody\, Michel Petrucciani\, Joe\, Olivia\, Stanley Clarke\,\, Phyllis Hyman\,\, Dizzy Gillespie and Chaka Khan as well as others. Victor played on the Grammy nominated EMI Korean recording\, Second Moon\, which won Record of the Year in 2006. Victor also was featured on the Best Latin Jazz recording in 2008 with Papo Vasquez. When asked about his greatest achievement he replied\,  “My greatest achievement in life was having five children with my wife Ane Jones.” Since 2003 he has been a Bandleader with his own World Music Band\, Cultur-Versy\, these days specializing in a new age type of music\, a mix of dance music\, hip-hop and electro pop.
URL:https://notoriousjazz.com/event/curtis-lundy-trio
LOCATION:The Velvet Note\, 4075 Old Milton Parkway\, Alpharetta\, GA\, 30005\, United States
CATEGORIES:Club
ATTACH;FMTTYPE=image/png:https://notoriousjazz.com/wp-content/uploads/2022/10/CURTIS-LUNDY-TRIO.png
END:VEVENT
BEGIN:VEVENT
DTSTART;TZID=America/New_York:20221104T193000
DTEND;TZID=America/New_York:20221106T233000
DTSTAMP:20260422T000119
CREATED:20220703T215355Z
LAST-MODIFIED:20220920T001719Z
UID:30809-1667590200-1667777400@notoriousjazz.com
SUMMARY:DUDUKA DA FONSECA & BRAZILIAN ALL STARS
DESCRIPTION:Duduka Da Fonseca & Brazilian All Stars: Samba Jazz & Bossa Nova \nSpecial Guest: Maucha Adnet – voice \nFeaturing:\nBilly Drewes – sax & flute\nHelio Alves – piano\nPeter Washington – bass\nDuduka Da Fonseca – drums \nBorn in Rio de Janeiro\, Duduka Da Fonseca is a 4-time Grammy Award nominated drummer. He has appeared on over 250 albums alongside American Jazz icons as well as Brazilian Jazz Icons\, including 25 albums as a leader/co-leader\, making him one of the most recorded Brazilian drummers in this idiom. \nAlso born in Rio de Janeiro\, Brazil\, Maucha Adnet started singing professionally at age 15 as part of vocal group Céu da Boca\, from 1978 to 1984. With Céu da Boca\, Maucha toured around Brazil and recorded two albums released by Polygram. From 1984 until 1994\, Maucha performed all over the world with legendary composer Antonio Carlos Jobim and that’s how she ended up in New York\, where she has been living since 1987. \nShowtimes: \nStreaming: Fri\, Sat\, November 4~5\, 7:30 pm\n$10 + $1.70 fee \nLive: Fri\, Sat\, November 4~5\, 7:30 pm & 10:00 pm\n$35 – $45 + $3.46 – $4.16 fee
URL:https://notoriousjazz.com/event/duduka-da-fonseca-brazilian-all-stars
LOCATION:Keystone Korner Baltimore\, 1350 Lancaster Street\, Baltimore\, MD\, 21231\, United States
CATEGORIES:Club
ATTACH;FMTTYPE=image/png:https://notoriousjazz.com/wp-content/uploads/2022/07/DUDUKA-DA-FONSECA-MAUCHA-ADNET.png
END:VEVENT
BEGIN:VEVENT
DTSTART;TZID=America/Chicago:20221104T200000
DTEND;TZID=America/Chicago:20221104T213000
DTSTAMP:20260422T000119
CREATED:20221012T164321Z
LAST-MODIFIED:20221016T001744Z
UID:32122-1667592000-1667597400@notoriousjazz.com
SUMMARY:BRANFORD MARSALIS
DESCRIPTION:After four decades in the international spotlight\, the achievements of saxophonist Branford Marsalis continue to grow. He is an instrumentalist\, composer and bandleader to be reckoned with\, crossing stylistic boundaries while maintaining an unwavering creative integrity. With three Grammys and a citation by the National Endowment for the Arts as a Jazz Master\, he is an avatar of contemporary artistic excellence.
URL:https://notoriousjazz.com/event/branford-marsalis
LOCATION:Cullen Theater\, 501 Texas Avenue\, Houston\, TX\, 77002\, United States
CATEGORIES:Concert
ATTACH;FMTTYPE=image/jpeg:https://notoriousjazz.com/wp-content/uploads/2022/10/BRANFORD-MARSALIS.jpg
END:VEVENT
END:VCALENDAR