BEGIN:VCALENDAR
VERSION:2.0
PRODID:-//Notorious Jazz - ECPv6.15.17//NONSGML v1.0//EN
CALSCALE:GREGORIAN
METHOD:PUBLISH
X-ORIGINAL-URL:https://notoriousjazz.com
X-WR-CALDESC:Events for Notorious Jazz
REFRESH-INTERVAL;VALUE=DURATION:PT1H
X-Robots-Tag:noindex
X-PUBLISHED-TTL:PT1H
BEGIN:VTIMEZONE
TZID:America/New_York
BEGIN:DAYLIGHT
TZOFFSETFROM:-0500
TZOFFSETTO:-0400
TZNAME:EDT
DTSTART:20210314T070000
END:DAYLIGHT
BEGIN:STANDARD
TZOFFSETFROM:-0400
TZOFFSETTO:-0500
TZNAME:EST
DTSTART:20211107T060000
END:STANDARD
BEGIN:DAYLIGHT
TZOFFSETFROM:-0500
TZOFFSETTO:-0400
TZNAME:EDT
DTSTART:20220313T070000
END:DAYLIGHT
BEGIN:STANDARD
TZOFFSETFROM:-0400
TZOFFSETTO:-0500
TZNAME:EST
DTSTART:20221106T060000
END:STANDARD
BEGIN:DAYLIGHT
TZOFFSETFROM:-0500
TZOFFSETTO:-0400
TZNAME:EDT
DTSTART:20230312T070000
END:DAYLIGHT
BEGIN:STANDARD
TZOFFSETFROM:-0400
TZOFFSETTO:-0500
TZNAME:EST
DTSTART:20231105T060000
END:STANDARD
END:VTIMEZONE
BEGIN:VTIMEZONE
TZID:Europe/Zurich
BEGIN:DAYLIGHT
TZOFFSETFROM:+0100
TZOFFSETTO:+0200
TZNAME:CEST
DTSTART:20210328T010000
END:DAYLIGHT
BEGIN:STANDARD
TZOFFSETFROM:+0200
TZOFFSETTO:+0100
TZNAME:CET
DTSTART:20211031T010000
END:STANDARD
BEGIN:DAYLIGHT
TZOFFSETFROM:+0100
TZOFFSETTO:+0200
TZNAME:CEST
DTSTART:20220327T010000
END:DAYLIGHT
BEGIN:STANDARD
TZOFFSETFROM:+0200
TZOFFSETTO:+0100
TZNAME:CET
DTSTART:20221030T010000
END:STANDARD
BEGIN:DAYLIGHT
TZOFFSETFROM:+0100
TZOFFSETTO:+0200
TZNAME:CEST
DTSTART:20230326T010000
END:DAYLIGHT
BEGIN:STANDARD
TZOFFSETFROM:+0200
TZOFFSETTO:+0100
TZNAME:CET
DTSTART:20231029T010000
END:STANDARD
END:VTIMEZONE
BEGIN:VEVENT
DTSTART;TZID=America/New_York:20221108T080000
DTEND;TZID=America/New_York:20221113T233000
DTSTAMP:20260422T000246
CREATED:20221010T003504Z
LAST-MODIFIED:20221010T003504Z
UID:32071-1667894400-1668382200@notoriousjazz.com
SUMMARY:DONNY MCCASLIN QUINTET
DESCRIPTION:For more than two decades\, protean saxist and composer Donny McCaslin has relentlessly expanded his musical purview in a variety of ensemble settings: as a sideman\, as the pilot of his own diverse groups and\, more recently\, as a collaborator on the late Bowie’s final album\, Blackstar. That investment in genres outside of jazz is visible on the tenorist’s recent work. \nDonny McCaslin – Saxophone\nGregoire Maret – Harmonica\nJulian Lage – Guitar\nScott Colley – Bass\nJohnathan Blake – Drums
URL:https://notoriousjazz.com/event/donny-mccaslin-quintet
LOCATION:Village Vanguard\, 178 7th Avenue S\, New York City\, NY\, 10014\, United States
CATEGORIES:Club
ATTACH;FMTTYPE=image/jpeg:https://notoriousjazz.com/wp-content/uploads/2022/10/DONNY-MCCASLIN.jpg
END:VEVENT
BEGIN:VEVENT
DTSTART;TZID=America/New_York:20221110T190000
DTEND;TZID=America/New_York:20221112T203000
DTSTAMP:20260422T000246
CREATED:20221009T231754Z
LAST-MODIFIED:20221010T222525Z
UID:32040-1668106800-1668285000@notoriousjazz.com
SUMMARY:LESLIE UGGAMS
DESCRIPTION:Stage and screen legend Leslie Uggams returns to 54 Below with an all new show drawing from Broadway and beyond. Featuring musical theater showstoppers\, American Songbook classics\, jazz standards and current pop hits\, this timeless romp through an exciting song catalog will have audiences cheering\, “Hallelujah\, Baby!” \nMs. Uggams is a celebrated Tony® and Emmy Award-winning actress and singer whose seven-decade career has brought her from Harlem (The Apollo Theater) to Broadway (Hallelujah\, Baby!)\, the big screen (Deadpool\, Skyjacked) to television (“Empire\,” “The Leslie Uggams Show”). Perhaps best known for her stirring portrayal of Kizzy in the landmark TV mini-series Alex Haley’s “Roots” (Critics Choice Award\, Emmy and Golden Globe nominations)\, Leslie has performed to critical and popular acclaim ever since her first professional appearances at the age of nine at the famed Apollo Theater in New York City. \nDoors at 5:30pm
URL:https://notoriousjazz.com/event/leslie-uggams
LOCATION:54 Below\, 254 W 54th Street\, New York City\, NY\, 10019\, United States
CATEGORIES:Club,Restaurant
ATTACH;FMTTYPE=image/jpeg:https://notoriousjazz.com/wp-content/uploads/2022/10/LESLIE-UGGAMS.jpeg
END:VEVENT
BEGIN:VEVENT
DTSTART;TZID=America/New_York:20221111T100000
DTEND;TZID=America/New_York:20221113T233000
DTSTAMP:20260422T000246
CREATED:20221029T024352Z
LAST-MODIFIED:20221029T024352Z
UID:32360-1668160800-1668382200@notoriousjazz.com
SUMMARY:PALM SPRINGS WOMEN'S JAZZ FESTIVAL
DESCRIPTION:2021 Grammy Award winner Ledisi is a twelve-time Grammy nominated powerhouse vocalist with a career spanning almost two decades. Since arriving on the scene in the late 1990s\, she’s garnered three Soul Train Music Awards\, an NAACP Theater Award\, and six NAACP Image Award nominations. Most recently\, Ledisi received two LA Alliance Ovation Award nominations\, one for Best Featured Actress in a Musical. \nFriday | November 11 @ 4:000pm ~ Nnenna Freelon\, Cyrille Aimee\, Lea Delaria \nSaturday | November 12 @ 3:00pm-9:00pm ~ Ledisi | Sold Out \nSunday | November 13 @ 2:30pm ~ Divas Of The Desert (Hope Diamond\, Gennine Francis\, Melba Miller\, Cynthia Thomas\, Chris Bennett\, Rose Mallett\, Keisha D\, Yve Evans\, Patrice Morris) \nArt Faire | Friday & Saturday ~ 10am – 4pm\, concert begins at 7pm\, at the Palm Springs Convention Center. After party begin at 9pm. \nMore information: palmspringswomensjazzfestival.org
URL:https://notoriousjazz.com/event/palm-springs-womens-jazz-festival
LOCATION:Palm Springs Convention Center\, 271 N Avenida Caballeros\, Palm Springs\, CA\, 92262\, United States
CATEGORIES:Festival
ATTACH;FMTTYPE=image/png:https://notoriousjazz.com/wp-content/uploads/2022/10/PALM-SPRINGS-WOMENS-JAZZ-FESTIVAL.png
END:VEVENT
BEGIN:VEVENT
DTSTART;TZID=Europe/Zurich:20221111T200000
DTEND;TZID=Europe/Zurich:20221111T213000
DTSTAMP:20260422T000246
CREATED:20221010T113731Z
LAST-MODIFIED:20221012T173804Z
UID:32080-1668196800-1668202200@notoriousjazz.com
SUMMARY:CHRISTIAN MCBRIDE QUARTET
DESCRIPTION:Christian McBride is an American jazz bassist\, composer and arranger. He has appeared on more than 300 recordings as a sideman\, and is an eight-time Grammy Award winner. This group was the original Joshua Redman touring quartet of the 1990s. \nChristian McBride ~ Double Bass \nJoshua Redman ~ Saxophone \nBrad Mehldau ~ Piano \nBrian Blade ~ Drums
URL:https://notoriousjazz.com/event/christian-mcbride-quartet
LOCATION:Volkshaus\, Stauffacherstrasse 60\, 8004 Zurich\, Switzerland
CATEGORIES:Concert
ATTACH;FMTTYPE=image/jpeg:https://notoriousjazz.com/wp-content/uploads/2022/10/CHRISTIAN-MCBRIDE-QUARTET.jpg
END:VEVENT
BEGIN:VEVENT
DTSTART;TZID=America/New_York:20221111T200000
DTEND;TZID=America/New_York:20221112T220000
DTSTAMP:20260422T000246
CREATED:20220810T142210Z
LAST-MODIFIED:20220919T234347Z
UID:31274-1668196800-1668290400@notoriousjazz.com
SUMMARY:TITO PUENTE JR.
DESCRIPTION:Son of the legendary American salsa and Latin jazz musician Tito Puente\, he has big shoes to fill and he does! He returns for another night of exhilarating Latin rhythms that will get your feet moving. Always honoring his father’s legacy\, Tito Puente\, Jr. has also made a name for himself as one of the most exciting Latin musicians touring today. Puente\, Jr. has performed in over 300 shows in a variety of venues across the country\, from jazz festival stages to grand symphony halls. This time it’s Mambo!!!
URL:https://notoriousjazz.com/event/tito-puente-jr
LOCATION:Arts Garage\, 94 NE 2nd Avenue\, Delray Beach\, FL\, 33444\, United States
CATEGORIES:Club
ATTACH;FMTTYPE=image/png:https://notoriousjazz.com/wp-content/uploads/2022/08/TITO-PUENTE-JR.-.png
END:VEVENT
BEGIN:VEVENT
DTSTART;TZID=America/New_York:20221111T203000
DTEND;TZID=America/New_York:20221111T220000
DTSTAMP:20260422T000246
CREATED:20221014T040722Z
LAST-MODIFIED:20221016T002728Z
UID:32164-1668198600-1668204000@notoriousjazz.com
SUMMARY:RUSSELL MALONE
DESCRIPTION:Russell Malone is one of the signature guitar players of his generation. The leader of ten albums since 1992\, Malone is as well-known on the international circuit for helming a world-class quartet and trio as he is for his long-standing participation in Ron Carter’s Golden Striker Trio\, and his recent consequential contribution to the musical production of the likes of Sonny Rollins and Dianne Reeves\, who recruited Malone for his singular tone\, refined listening skills\, limitless chops\, and efflorescent imagination. In all these circumstances\, Malone addresses the tradition on its own terms\, refracting the vocabularies and syntax of such heroes as Charlie Christian\, Chet Atkins\, George Van Eps\, Johnny Smith\, Wes Montgomery\, Grant Green\, Kenny Burrell\, Pat Martino\, and George Benson into an argot entirely his own. A master of all tempos\, a relentless swinger\, he spins his stories —in idioms ranging from the urban and downhome blues\, country\, gospel\, various corners of the American Songbook\, and hardcore jazz—with a soulful\, instantly recognizable instrumental voice\, and seasons them with sophisticated harmonies that are never “too hip for the room.” “I take pride on being open enough to play with anybody\,” says Malone\, citing encounters with such diverse artists as B.B. King\, Aretha Franklin\, Gladys Knight\, Andy Williams\, James “Blood” Ulmer\, and Ornette Coleman. “I love to swing\, but I don’t look down my nose at other styles of music\, or other musicians. I’ll play with anybody\, if the music is good.” \nRussell Malone: Guitar \nRick Germanson: Piano \nVincent DuPont: Bass \nNeal Smith: Drums
URL:https://notoriousjazz.com/event/russell-malone
LOCATION:The Side Door\, Old Lyme Inn\, 85 Lyme Street\, Old Lyme\, CT\, 06371\, United States
CATEGORIES:Club
ATTACH;FMTTYPE=image/jpeg:https://notoriousjazz.com/wp-content/uploads/2022/10/RUSSELL-MALONE.jpg
END:VEVENT
END:VCALENDAR