BEGIN:VCALENDAR
VERSION:2.0
PRODID:-//Notorious Jazz - ECPv6.15.17//NONSGML v1.0//EN
CALSCALE:GREGORIAN
METHOD:PUBLISH
X-ORIGINAL-URL:https://notoriousjazz.com
X-WR-CALDESC:Events for Notorious Jazz
REFRESH-INTERVAL;VALUE=DURATION:PT1H
X-Robots-Tag:noindex
X-PUBLISHED-TTL:PT1H
BEGIN:VTIMEZONE
TZID:America/New_York
BEGIN:DAYLIGHT
TZOFFSETFROM:-0500
TZOFFSETTO:-0400
TZNAME:EDT
DTSTART:20210314T070000
END:DAYLIGHT
BEGIN:STANDARD
TZOFFSETFROM:-0400
TZOFFSETTO:-0500
TZNAME:EST
DTSTART:20211107T060000
END:STANDARD
BEGIN:DAYLIGHT
TZOFFSETFROM:-0500
TZOFFSETTO:-0400
TZNAME:EDT
DTSTART:20220313T070000
END:DAYLIGHT
BEGIN:STANDARD
TZOFFSETFROM:-0400
TZOFFSETTO:-0500
TZNAME:EST
DTSTART:20221106T060000
END:STANDARD
BEGIN:DAYLIGHT
TZOFFSETFROM:-0500
TZOFFSETTO:-0400
TZNAME:EDT
DTSTART:20230312T070000
END:DAYLIGHT
BEGIN:STANDARD
TZOFFSETFROM:-0400
TZOFFSETTO:-0500
TZNAME:EST
DTSTART:20231105T060000
END:STANDARD
END:VTIMEZONE
BEGIN:VTIMEZONE
TZID:America/Chicago
BEGIN:DAYLIGHT
TZOFFSETFROM:-0600
TZOFFSETTO:-0500
TZNAME:CDT
DTSTART:20210314T080000
END:DAYLIGHT
BEGIN:STANDARD
TZOFFSETFROM:-0500
TZOFFSETTO:-0600
TZNAME:CST
DTSTART:20211107T070000
END:STANDARD
BEGIN:DAYLIGHT
TZOFFSETFROM:-0600
TZOFFSETTO:-0500
TZNAME:CDT
DTSTART:20220313T080000
END:DAYLIGHT
BEGIN:STANDARD
TZOFFSETFROM:-0500
TZOFFSETTO:-0600
TZNAME:CST
DTSTART:20221106T070000
END:STANDARD
BEGIN:DAYLIGHT
TZOFFSETFROM:-0600
TZOFFSETTO:-0500
TZNAME:CDT
DTSTART:20230312T080000
END:DAYLIGHT
BEGIN:STANDARD
TZOFFSETFROM:-0500
TZOFFSETTO:-0600
TZNAME:CST
DTSTART:20231105T070000
END:STANDARD
END:VTIMEZONE
BEGIN:VEVENT
DTSTART;TZID=America/New_York:20221115T200000
DTEND;TZID=America/New_York:20221120T233000
DTSTAMP:20260422T000246
CREATED:20221010T003928Z
LAST-MODIFIED:20221010T003928Z
UID:32074-1668542400-1668987000@notoriousjazz.com
SUMMARY:TOM HARRELL QUINTET
DESCRIPTION:The trumpeter Tom Harrell has been doing this a long time\, through various schools and vogues: He can play slow and fast and in between\, sometimes all within a single line. But his improvising is always temperate and proportionate. He keeps you on the hook\, but doesn’t shout\, doesn’t stop the clock. Plenty of improvisers are specialists in now-ness\, revealing a solo as a series of events\, or present-tense flashes. With Mr. Harrell\, it’s all one event. He’s always processing ahead and behind\, and you feel as if you’re hearing the whole of the narrative at all times\, from was to is to will be. \nTom Harrell – Trumpet\, Flugelhorn\nDayna Stephens – Saxophone\nLuis Perdomo – Piano\nUgonna Okegwo – Bass\nAdam Cruz – Drums
URL:https://notoriousjazz.com/event/tom-harrell-quintet
LOCATION:Village Vanguard\, 178 7th Avenue S\, New York City\, NY\, 10014\, United States
CATEGORIES:Club
ATTACH;FMTTYPE=image/jpeg:https://notoriousjazz.com/wp-content/uploads/2022/10/TOM-HARRELL.jpg
END:VEVENT
BEGIN:VEVENT
DTSTART;TZID=America/Chicago:20221116T193000
DTEND;TZID=America/Chicago:20221120T230000
DTSTAMP:20260422T000246
CREATED:20220920T220643Z
LAST-MODIFIED:20230107T163358Z
UID:31775-1668627000-1668985200@notoriousjazz.com
SUMMARY:CÉCILE MCLORIN SALVANT & SULLIVAN FORTNER
DESCRIPTION:Vocalist Cécile McLorin Salvant & pianist Sullivan Fortner join forces for a very special collaboration that is sure to have Jazz St. Louis audiences buzzing. \nValet Parking ~ $10.00 prepaid \nValet parking is available for all Jazz St. Louis performances. Discounted $10 valet parking may be purchased when ordering your tickets. Please make sure to select the correct date and time when adding parking to your cart with your tickets before purchasing. \nPerformances: \nNovember 16 ~ 7:30pm \nNovember 17 ~ 7:30pm \nNovember 18 ~ 7:30pm | 9:30pm \nNovember 19~ 7:30pm | 9:30pm \nNovember 20 ~ 6:30pm
URL:https://notoriousjazz.com/event/cecile-mclorin-salvant-sullivan-fortner
LOCATION:Jazz St. Louis\, 3536 Washington Avenue\, St. Louis\, MO\, 63103\, United States
CATEGORIES:Club
ATTACH;FMTTYPE=image/jpeg:https://notoriousjazz.com/wp-content/uploads/2022/09/CÉCILE-MCLORIN-SALVANT.jpg
END:VEVENT
BEGIN:VEVENT
DTSTART;TZID=America/New_York:20221118T193000
DTEND;TZID=America/New_York:20221118T213000
DTSTAMP:20260422T000246
CREATED:20221014T165836Z
LAST-MODIFIED:20221016T005318Z
UID:32195-1668799800-1668807000@notoriousjazz.com
SUMMARY:JAVON JACKSON | THE GOSPEL ACCORDING TO NIKKI GIOVANNI
DESCRIPTION:Saxophonist and former Jazz Messenger Javon Jackson\, world-renowned poet laureate Nikki Giovanni\, and celebrated jazz vocalist Nnenna Freelon stand on the shoulders of their ancestors in The Gospel According to Nikki Giovanni\, a meaningful meditation on struggle\, sacrifice\, resilience\, liberation\, and victory. \nGiovanni\, one of today’s finest poets and thinkers\, makes a rare vocal appearance at this inspired evening of her favorite poetry\, hymns\, and Negro spirituals reimagined by Jackson as jazzy new compositions. “These songs are so important\,” says Giovanni of the historic collaboration. “I’m out here putting water on the flowers\, because they need a drink” (Broadway World).
URL:https://notoriousjazz.com/event/javon-jackson-the-gospel-according-to-nikki-giovanni
LOCATION:Kennedy Center | Terrace Theater\, 2700 F Street\, NW\, Washington\, DC\, 20566\, United States
CATEGORIES:Concert
ATTACH;FMTTYPE=image/jpeg:https://notoriousjazz.com/wp-content/uploads/2022/10/JAVON-JACKSON.jpeg
END:VEVENT
BEGIN:VEVENT
DTSTART;TZID=America/New_York:20221118T193000
DTEND;TZID=America/New_York:20221118T230000
DTSTAMP:20260422T000246
CREATED:20220930T162039Z
LAST-MODIFIED:20220930T180333Z
UID:31924-1668799800-1668812400@notoriousjazz.com
SUMMARY:ALLAN HARRIS
DESCRIPTION:Ever since he burst on the jazz scene in the latter part of the twentieth century\, The Brooklyn-born\, Harlem-based vocalist\, guitarist\, bandleader\, and composer Allan Harris has reigned supreme as the most accomplished and exceptional singer of his generation. Sharing the stage is pianist Arcoiris Sandoval\, bassist Brandi Disterheft and drummer Norman Edwards. \nSets: 7:30pm & 9:00pm \nWalk-in music charge is $25 | Reserve tickets are $35 Sunday through Thursdays and $40 on Friday and Saturday.
URL:https://notoriousjazz.com/event/allan-harris
LOCATION:Mezzrow\, 163 W. 10th Street\, New York City\, NY\, 10014\, United States
CATEGORIES:Club
ATTACH;FMTTYPE=image/png:https://notoriousjazz.com/wp-content/uploads/2022/09/ALLAN-HARRIS-1.png
END:VEVENT
BEGIN:VEVENT
DTSTART;TZID=America/New_York:20221118T193000
DTEND;TZID=America/New_York:20221120T233000
DTSTAMP:20260422T000246
CREATED:20220703T220649Z
LAST-MODIFIED:20220919T234503Z
UID:30812-1668799800-1668987000@notoriousjazz.com
SUMMARY:THE COOKERS
DESCRIPTION:Each member of the Cookers has spent time leading his own series of groups\, and each has a keenly individual sound. But it’s the unmistakable power of teamwork that makes this music so commanding and resonates with a kind of depth and beauty that speaks of the seasoned track record of its principals (combined\, the group has over 250 years of experience in the jazz world and has been a part of over 1\,000 recordings). You can feel the collective weight of that experience in their CDs and especially in their live performances. \nDavid Weiss\, trumpet\nEddie Henderson\, trumpet\nDonald Harrison\, alto sax\nBilly Harper\, tenor sax\nGeorge Cables\, piano\nCecil McBee\, bass\nBilly Hart\, drums \nShowtimes: \nStreaming: Fri\, Sat\, November 18~19\, 7:30 pm | Sun\, November 20\, 5:00 pm\n$10 + $1.70 fee \nLive: Fri\, Sat\, November 18~19\, 7:30 & 10:00 pm | Sun\, November 20\, 5:00 pm\n$35 – $45 + $3.46 – $4.16 fee
URL:https://notoriousjazz.com/event/the-cookers
LOCATION:Keystone Korner Baltimore\, 1350 Lancaster Street\, Baltimore\, MD\, 21231\, United States
CATEGORIES:Club
ATTACH;FMTTYPE=image/png:https://notoriousjazz.com/wp-content/uploads/2022/07/THE-COOKERS.png
END:VEVENT
BEGIN:VEVENT
DTSTART;TZID=America/New_York:20221118T213000
DTEND;TZID=America/New_York:20221118T213000
DTSTAMP:20260422T000246
CREATED:20221118T192123Z
LAST-MODIFIED:20221118T192123Z
UID:32718-1668807000-1668807000@notoriousjazz.com
SUMMARY:RENE MARIE
DESCRIPTION:In a span of two decades\, 11 recordings and countless stage performances\, vocalist René Marie has cemented her reputation as not only a singer but also a composer\, arranger\, theatrical performer and teacher. Guided and tempered by powerful life lessons and rooted in jazz traditions laid down by Ella Fitzgerald\, Dinah Washington and other leading ladies of past generations\, she borrows various elements of folk\, R&B and even classical and country to create a captivating hybrid style. Her body of work is musical\, but it’s more than just music. It’s an exploration of the bright and dark corners of the human experience\, and an affirmation of the power of the human spirit. \nPerformance is Sold Out!
URL:https://notoriousjazz.com/event/rene-marie-2
LOCATION:Belk Theatre at Blumenthal Performing Arts Center\, 130 N Tryon Street\, Charlotte\, NC\, 28202\, United States
CATEGORIES:Concert
ATTACH;FMTTYPE=image/jpeg:https://notoriousjazz.com/wp-content/uploads/2022/11/RENE-MARIE.jpg
END:VEVENT
END:VCALENDAR