BEGIN:VCALENDAR
VERSION:2.0
PRODID:-//Notorious Jazz - ECPv6.15.17//NONSGML v1.0//EN
CALSCALE:GREGORIAN
METHOD:PUBLISH
X-WR-CALNAME:Notorious Jazz
X-ORIGINAL-URL:https://notoriousjazz.com
X-WR-CALDESC:Events for Notorious Jazz
REFRESH-INTERVAL;VALUE=DURATION:PT1H
X-Robots-Tag:noindex
X-PUBLISHED-TTL:PT1H
BEGIN:VTIMEZONE
TZID:America/New_York
BEGIN:DAYLIGHT
TZOFFSETFROM:-0500
TZOFFSETTO:-0400
TZNAME:EDT
DTSTART:20210314T070000
END:DAYLIGHT
BEGIN:STANDARD
TZOFFSETFROM:-0400
TZOFFSETTO:-0500
TZNAME:EST
DTSTART:20211107T060000
END:STANDARD
BEGIN:DAYLIGHT
TZOFFSETFROM:-0500
TZOFFSETTO:-0400
TZNAME:EDT
DTSTART:20220313T070000
END:DAYLIGHT
BEGIN:STANDARD
TZOFFSETFROM:-0400
TZOFFSETTO:-0500
TZNAME:EST
DTSTART:20221106T060000
END:STANDARD
BEGIN:DAYLIGHT
TZOFFSETFROM:-0500
TZOFFSETTO:-0400
TZNAME:EDT
DTSTART:20230312T070000
END:DAYLIGHT
BEGIN:STANDARD
TZOFFSETFROM:-0400
TZOFFSETTO:-0500
TZNAME:EST
DTSTART:20231105T060000
END:STANDARD
END:VTIMEZONE
BEGIN:VEVENT
DTSTART;TZID=America/New_York:20221129T190000
DTEND;TZID=America/New_York:20221129T210000
DTSTAMP:20260421T221420
CREATED:20221115T014131Z
LAST-MODIFIED:20221115T160715Z
UID:32663-1669748400-1669755600@notoriousjazz.com
SUMMARY:BILLY HIGGINS BIRTHDAY CELEBRATION & CONCERT
DESCRIPTION:A community gathering presented by Performers Alley\, hosted by Robert J. Carmack. It’s a new jazz Series produced by Music Arts & World Stage Performance Gallery. Paying tribute to Billy Higgins\, the founder’s birthday concert and celebration of his legacy since 1989. An eclectic panel on stage during show friends and past peers that played or worked with him as an artist. musical guests include  Marvin “Smitty” Smith Sextet featuring saxophonists Ralph Moore & Dale Fielder. Also very special appearances by Jazz impresario\, Todd Barkin/Keystone Korner Baltimore\, Willie Jones III mentored by Higgins.  The show is Live Stream to the World. \nTickets are Available NOW exclusively at View stub.com  $15/$10(ONLINE ONLY) ticket online is On Demand capability/ Access code expire in two weeks\, One view only. We accept credit or debit. \nMedia: www.hipstersanctuary.com  More info @blues2jazzguy or pocketjazz@musician.com  call & leave info 951 560-2253 \n 
URL:https://notoriousjazz.com/event/billy-higgins-birthday-celebration-concert
LOCATION:World Stage Performance Gallery\, 4321 Degnan Boulevard\, Los Angeles\, CA\, 90008\, United States
CATEGORIES:Concert,Event
ATTACH;FMTTYPE=image/jpeg:https://notoriousjazz.com/wp-content/uploads/2022/11/BILLY-HIGGINS.jpg
END:VEVENT
BEGIN:VEVENT
DTSTART;TZID=America/New_York:20221129T193000
DTEND;TZID=America/New_York:20221129T210000
DTSTAMP:20260421T221420
CREATED:20221122T030514Z
LAST-MODIFIED:20221122T030514Z
UID:32793-1669750200-1669755600@notoriousjazz.com
SUMMARY:MARIA HOWELL & NOEL FRIEDLINE
DESCRIPTION:Home For The Holidays! Noel & Maria take tothe stage once again to bring you hoiday cheer in song. Charlotte knows they are a favorite\, so if you’re staying in Charlotte a few days after the Thanksgiving meal and family visit\, don’t miss experiencing a great performance. Check them out! They’ve been together for years and have a great conversation on stage as well as with the audience.
URL:https://notoriousjazz.com/event/maria-howell-noel-friedline-3
LOCATION:The Booth Playhouse At Blumenthal Performing Arts Center\, 130 N Tryon Street\, Charlotte\, NC\, 28202\, United States
CATEGORIES:Concert
ATTACH;FMTTYPE=image/jpeg:https://notoriousjazz.com/wp-content/uploads/2022/11/NoelMaria_570x440-37d6fe73a7.jpg
END:VEVENT
BEGIN:VEVENT
DTSTART;TZID=America/New_York:20221129T200000
DTEND;TZID=America/New_York:20221129T235900
DTSTAMP:20260421T221420
CREATED:20221119T041001Z
LAST-MODIFIED:20221119T132138Z
UID:32743-1669752000-1669766340@notoriousjazz.com
SUMMARY:BILL FRISELL FIVE
DESCRIPTION:Featuring Thomas Morgan\, Rudy Royston\, Tony Scherr\, Kenny Wollesen. Recognized as one of America’s 21 most vital and productive performing artists\, Bill Frisell was named an inaugural Doris Duke Artist in 2012.  He is also a recipient of grants from United States Artists\, Meet the Composer among others.  In 2016\, he was a beneficiary of the first FreshGrass Composition commission to preserve and support innovative grassroots music.  Upon San Francisco Jazz opening their doors in 2013\, he served as one of their Resident Artistic Directors.  Bill is also the subject of a new documentary film by director Emma Franz\, entitled Bill Frisell: A Portrait\, which examines his creative process in depth. \n$5 Minimum Per Person\, Full Bar & Dinner Menu | NO REFUNDS OR EXCHANGES. \nAll seating is first come\, first served. Table Seating is all ages\, Bar Area is 21+. Bar Area tickets for patrons under 21 will not be honored. Group Reservations: Groups larger than 10 must purchase a group package at club@bluenote.net\, or by calling 212.475.8592. Groups larger than 10 without a group package will be subject to group surcharges added to your bill. Groups arriving late or separately are not guaranteed to be seated together. All seating is first come\, first served. Arrive early for best seats. \nThrough December 4 | Bill Frisell ~ 12/1 | Bill Frisell Trio ~ 12/2~12/4
URL:https://notoriousjazz.com/event/bill-frisell-five
LOCATION:Blue Note ~ New York\, 131 W. 3rd Street\, New York City\, NY\, 10012\, United States
CATEGORIES:Club
ATTACH;FMTTYPE=image/jpeg:https://notoriousjazz.com/wp-content/uploads/2022/11/BILL-FRISELL.jpg
END:VEVENT
END:VCALENDAR