BEGIN:VCALENDAR
VERSION:2.0
PRODID:-//Notorious Jazz - ECPv6.15.17//NONSGML v1.0//EN
CALSCALE:GREGORIAN
METHOD:PUBLISH
X-ORIGINAL-URL:https://notoriousjazz.com
X-WR-CALDESC:Events for Notorious Jazz
REFRESH-INTERVAL;VALUE=DURATION:PT1H
X-Robots-Tag:noindex
X-PUBLISHED-TTL:PT1H
BEGIN:VTIMEZONE
TZID:America/Chicago
BEGIN:DAYLIGHT
TZOFFSETFROM:-0600
TZOFFSETTO:-0500
TZNAME:CDT
DTSTART:20210314T080000
END:DAYLIGHT
BEGIN:STANDARD
TZOFFSETFROM:-0500
TZOFFSETTO:-0600
TZNAME:CST
DTSTART:20211107T070000
END:STANDARD
BEGIN:DAYLIGHT
TZOFFSETFROM:-0600
TZOFFSETTO:-0500
TZNAME:CDT
DTSTART:20220313T080000
END:DAYLIGHT
BEGIN:STANDARD
TZOFFSETFROM:-0500
TZOFFSETTO:-0600
TZNAME:CST
DTSTART:20221106T070000
END:STANDARD
BEGIN:DAYLIGHT
TZOFFSETFROM:-0600
TZOFFSETTO:-0500
TZNAME:CDT
DTSTART:20230312T080000
END:DAYLIGHT
BEGIN:STANDARD
TZOFFSETFROM:-0500
TZOFFSETTO:-0600
TZNAME:CST
DTSTART:20231105T070000
END:STANDARD
END:VTIMEZONE
BEGIN:VEVENT
DTSTART;TZID=America/Chicago:20221206T190000
DTEND;TZID=America/Chicago:20221206T210000
DTSTAMP:20260421T221450
CREATED:20220920T223955Z
LAST-MODIFIED:20221012T172859Z
UID:31793-1670353200-1670360400@notoriousjazz.com
SUMMARY:NELSON ON NELSON
DESCRIPTION:Lecturer\, saxophonist\, flutist\, and music educator\, Oliver Nelson Jr.\, provides rare insights into the life and music of one of St. Louis’ most influential and successful jazz musicians\, saxophonist\, clarinetist\, arranger\, composer\, and bandleader\, Oliver Nelson Sr.
URL:https://notoriousjazz.com/event/nelson-on-nelson
LOCATION:Jazz St. Louis\, 3536 Washington Avenue\, St. Louis\, MO\, 63103\, United States
CATEGORIES:Event
ATTACH;FMTTYPE=image/jpeg:https://notoriousjazz.com/wp-content/uploads/2022/09/OLIVER-NELSON.jpg
END:VEVENT
END:VCALENDAR