BEGIN:VCALENDAR
VERSION:2.0
PRODID:-//Notorious Jazz - ECPv6.15.17//NONSGML v1.0//EN
CALSCALE:GREGORIAN
METHOD:PUBLISH
X-WR-CALNAME:Notorious Jazz
X-ORIGINAL-URL:https://notoriousjazz.com
X-WR-CALDESC:Events for Notorious Jazz
REFRESH-INTERVAL;VALUE=DURATION:PT1H
X-Robots-Tag:noindex
X-PUBLISHED-TTL:PT1H
BEGIN:VTIMEZONE
TZID:America/New_York
BEGIN:DAYLIGHT
TZOFFSETFROM:-0500
TZOFFSETTO:-0400
TZNAME:EDT
DTSTART:20210314T070000
END:DAYLIGHT
BEGIN:STANDARD
TZOFFSETFROM:-0400
TZOFFSETTO:-0500
TZNAME:EST
DTSTART:20211107T060000
END:STANDARD
BEGIN:DAYLIGHT
TZOFFSETFROM:-0500
TZOFFSETTO:-0400
TZNAME:EDT
DTSTART:20220313T070000
END:DAYLIGHT
BEGIN:STANDARD
TZOFFSETFROM:-0400
TZOFFSETTO:-0500
TZNAME:EST
DTSTART:20221106T060000
END:STANDARD
BEGIN:DAYLIGHT
TZOFFSETFROM:-0500
TZOFFSETTO:-0400
TZNAME:EDT
DTSTART:20230312T070000
END:DAYLIGHT
BEGIN:STANDARD
TZOFFSETFROM:-0400
TZOFFSETTO:-0500
TZNAME:EST
DTSTART:20231105T060000
END:STANDARD
END:VTIMEZONE
BEGIN:VEVENT
DTSTART;TZID=America/New_York:20221208T190000
DTEND;TZID=America/New_York:20221211T233000
DTSTAMP:20260421T221419
CREATED:20220704T175425Z
LAST-MODIFIED:20220919T234632Z
UID:30858-1670526000-1670801400@notoriousjazz.com
SUMMARY:JOHN PIZZARELLI
DESCRIPTION:John Pizzarelli\, the world-renowned jazz guitarist and singer\, was called “Hip with a wink” by Town & Country\, “madly creative” by the Los Angeles Times and “the genial genius of the guitar” by The Toronto Star. After his recent smash success with the Boston Pops\, he was hailed by the Boston Globe for “reinvigorating the Great American Songbook and re-popularizing jazz.” And the Seattle Times called him “a tour de force” and “a rare entertainer of the old school.” \nUsing performers like Nat “King” Cole\, Frank Sinatra and Joao Gilberto and the songs of composers from Richard Rodgers\, George Gershwin to James Taylor\, Antonio Carlos Jobim and Lennon & McCartney as touchstones\, John Pizzarelli has established himself as one of the prime interpreters of the Great American Songbook and beyond\, bringing to his work the cool jazz flavor of his brilliant guitar playing and singing. For Pizzarelli though\, his hero and foundation was Nat “King” Cole and the comparison to his iconic trio is the highest of compliments. “I’ve always said in my concerts that Nat ‘King’ Cole is why I do what I do.” But Pizzarelli adds\, “We aren’t trying to copy him. His sound was singular and inspired. I’ve always said we’re an extension\, a 21st century version of what that group was.” \nShowtimes: \n7:00 pm | Thurs\, Sun~$40.00\, Fri\, Sat~$50 \n9:00 pm | Thurs\, Sun~$20.00\, Fri\, Sat~$50 \n$15 food/beverage minimum per person not included in ticket price.
URL:https://notoriousjazz.com/event/john-pizzarelli
LOCATION:Blues Alley\, 1073 Wisconsin Avenue NW\, Washington\, DC\, 20007\, United States
CATEGORIES:Club
ATTACH;FMTTYPE=image/jpeg:https://notoriousjazz.com/wp-content/uploads/2022/07/JOHN-PIZZARELLI.jpg
END:VEVENT
END:VCALENDAR