BEGIN:VCALENDAR
VERSION:2.0
PRODID:-//Notorious Jazz - ECPv6.15.17//NONSGML v1.0//EN
CALSCALE:GREGORIAN
METHOD:PUBLISH
X-WR-CALNAME:Notorious Jazz
X-ORIGINAL-URL:https://notoriousjazz.com
X-WR-CALDESC:Events for Notorious Jazz
REFRESH-INTERVAL;VALUE=DURATION:PT1H
X-Robots-Tag:noindex
X-PUBLISHED-TTL:PT1H
BEGIN:VTIMEZONE
TZID:America/New_York
BEGIN:DAYLIGHT
TZOFFSETFROM:-0500
TZOFFSETTO:-0400
TZNAME:EDT
DTSTART:20210314T070000
END:DAYLIGHT
BEGIN:STANDARD
TZOFFSETFROM:-0400
TZOFFSETTO:-0500
TZNAME:EST
DTSTART:20211107T060000
END:STANDARD
BEGIN:DAYLIGHT
TZOFFSETFROM:-0500
TZOFFSETTO:-0400
TZNAME:EDT
DTSTART:20220313T070000
END:DAYLIGHT
BEGIN:STANDARD
TZOFFSETFROM:-0400
TZOFFSETTO:-0500
TZNAME:EST
DTSTART:20221106T060000
END:STANDARD
BEGIN:DAYLIGHT
TZOFFSETFROM:-0500
TZOFFSETTO:-0400
TZNAME:EDT
DTSTART:20230312T070000
END:DAYLIGHT
BEGIN:STANDARD
TZOFFSETFROM:-0400
TZOFFSETTO:-0500
TZNAME:EST
DTSTART:20231105T060000
END:STANDARD
END:VTIMEZONE
BEGIN:VTIMEZONE
TZID:America/Chicago
BEGIN:DAYLIGHT
TZOFFSETFROM:-0600
TZOFFSETTO:-0500
TZNAME:CDT
DTSTART:20210314T080000
END:DAYLIGHT
BEGIN:STANDARD
TZOFFSETFROM:-0500
TZOFFSETTO:-0600
TZNAME:CST
DTSTART:20211107T070000
END:STANDARD
BEGIN:DAYLIGHT
TZOFFSETFROM:-0600
TZOFFSETTO:-0500
TZNAME:CDT
DTSTART:20220313T080000
END:DAYLIGHT
BEGIN:STANDARD
TZOFFSETFROM:-0500
TZOFFSETTO:-0600
TZNAME:CST
DTSTART:20221106T070000
END:STANDARD
BEGIN:DAYLIGHT
TZOFFSETFROM:-0600
TZOFFSETTO:-0500
TZNAME:CDT
DTSTART:20230312T080000
END:DAYLIGHT
BEGIN:STANDARD
TZOFFSETFROM:-0500
TZOFFSETTO:-0600
TZNAME:CST
DTSTART:20231105T070000
END:STANDARD
END:VTIMEZONE
BEGIN:VEVENT
DTSTART;TZID=America/New_York:20221214T193000
DTEND;TZID=America/New_York:20221214T204500
DTSTAMP:20260421T221416
CREATED:20221214T002346Z
LAST-MODIFIED:20221214T002620Z
UID:33182-1671046200-1671050700@notoriousjazz.com
SUMMARY:TAL COHEN TRIO
DESCRIPTION:Grammy Award-winning Miami jazz pianist Tal Cohen has received much acclaim\, winning the Barry Harris National Piano Competition and receiving the prestigious Freedman Fellowship. He performed to a sold-out crowd at the Sydney Opera House. \nRecently\, Cohen played across the globe with Terence Blanchard\, Greg Osby\, Ignacio Berroa\, Joe Lovano and others. He currently leads his own ensemble\, which has performed at iconic jazz festivals and venues such as Jazz Bez in Ukraine\, Detroit Jazz Festival\, Melbourne Jazz Festival in Australia and a three-week residency at the Black Cat in San Francisco. His most recent album\, Gentle Giants\, has received international acclaim and many reviews\, including a four-star review from DownBeat magazine. \nCohen is among the most in-demand pianists as he continues to tour the globe with his blend of Jewish melodies\, traditional jazz harmonies and impeccable rhythmic palette. \nLive on the Plaza is a series of outdoor concerts on our Parker and Vann Thomson Plaza for the Arts. \nPlease note: Tables can be purchased for 1\, 2\, 3 or 4 guests. Ticket prices are per person. Locations are assigned in the order of purchase in parties of up to four guests based on reservation type. \nDoors open at 6 p.m. with light bites and beverage service.\nHappy hour pricing available until 7 p.m.\nPerformance starts at 7:30 p.m.
URL:https://notoriousjazz.com/event/tal-cohen
LOCATION:Adrienne Arsht Center | Thomson Plaza for the Arts\, 1300 Biscayne Avenue\, Miami\, FL\, 33132\, United States
CATEGORIES:Concert
ATTACH;FMTTYPE=image/jpeg:https://notoriousjazz.com/wp-content/uploads/2022/12/TAL-COHEN.jpeg
END:VEVENT
BEGIN:VEVENT
DTSTART;TZID=America/Chicago:20221214T193000
DTEND;TZID=America/Chicago:20221218T230000
DTSTAMP:20260421T221416
CREATED:20220920T225604Z
LAST-MODIFIED:20221012T172703Z
UID:31796-1671046200-1671404400@notoriousjazz.com
SUMMARY:ETIENNE CHARLES' CREOLE CHRISTMAS
DESCRIPTION:Jazz trumpeter Etienne Charles adds a new twist to the holidays with his dynamic Creole Christmas band! Charles and his ensemble celebrate the Christmas season with unique interpretations of pieces from Charles’ diverse musical roots\, featuring classic selections from the Caribbean\, American\, and European holiday songbooks. \nValet Parking ~ $10.00 prepaid \nValet parking is available for all Jazz St. Louis performances. Discounted $10 valet parking may be purchased when ordering your tickets. Please make sure to select the correct date and time when adding parking to your cart with your tickets before purchasing. \nDecember 14 ~ 7:30pm \nDecember 15 ~ 11:00am | 7:30pm \nDecember 16 ~ 7:30pm | 9:30 \nDecember 17 ~ 7:30pm | 9:30 \nDecember 18 ~ 6:30pm
URL:https://notoriousjazz.com/event/etienne-charles-creole-christmas
LOCATION:Jazz St. Louis\, 3536 Washington Avenue\, St. Louis\, MO\, 63103\, United States
CATEGORIES:Club
ATTACH;FMTTYPE=image/jpeg:https://notoriousjazz.com/wp-content/uploads/2022/09/ETIENNE-CHARLES.jpg
END:VEVENT
END:VCALENDAR