BEGIN:VCALENDAR
VERSION:2.0
PRODID:-//Notorious Jazz - ECPv6.15.17//NONSGML v1.0//EN
CALSCALE:GREGORIAN
METHOD:PUBLISH
X-ORIGINAL-URL:https://notoriousjazz.com
X-WR-CALDESC:Events for Notorious Jazz
REFRESH-INTERVAL;VALUE=DURATION:PT1H
X-Robots-Tag:noindex
X-PUBLISHED-TTL:PT1H
BEGIN:VTIMEZONE
TZID:America/New_York
BEGIN:DAYLIGHT
TZOFFSETFROM:-0500
TZOFFSETTO:-0400
TZNAME:EDT
DTSTART:20210314T070000
END:DAYLIGHT
BEGIN:STANDARD
TZOFFSETFROM:-0400
TZOFFSETTO:-0500
TZNAME:EST
DTSTART:20211107T060000
END:STANDARD
BEGIN:DAYLIGHT
TZOFFSETFROM:-0500
TZOFFSETTO:-0400
TZNAME:EDT
DTSTART:20220313T070000
END:DAYLIGHT
BEGIN:STANDARD
TZOFFSETFROM:-0400
TZOFFSETTO:-0500
TZNAME:EST
DTSTART:20221106T060000
END:STANDARD
BEGIN:DAYLIGHT
TZOFFSETFROM:-0500
TZOFFSETTO:-0400
TZNAME:EDT
DTSTART:20230312T070000
END:DAYLIGHT
BEGIN:STANDARD
TZOFFSETFROM:-0400
TZOFFSETTO:-0500
TZNAME:EST
DTSTART:20231105T060000
END:STANDARD
END:VTIMEZONE
BEGIN:VEVENT
DTSTART;TZID=America/New_York:20221220T200000
DTEND;TZID=America/New_York:20221225T233000
DTSTAMP:20260422T000244
CREATED:20221010T000328Z
LAST-MODIFIED:20221010T000511Z
UID:32052-1671566400-1672011000@notoriousjazz.com
SUMMARY:KENNY BARRON QUINTET
DESCRIPTION:w/ Kiyoshi Kitagawa\, Johnathan Blake\, Mike Rodriguez\, Dayna Stephens\nKenny Barron is an American jazz pianist\, who has appeared on hundreds of recordings as leader and sideman and is considered one of the most influential mainstream jazz pianists since the bebop era. \n 
URL:https://notoriousjazz.com/event/kenny-barron-quintet
LOCATION:Village Vanguard\, 178 7th Avenue S\, New York City\, NY\, 10014\, United States
CATEGORIES:Club
ATTACH;FMTTYPE=image/jpeg:https://notoriousjazz.com/wp-content/uploads/2022/10/KENNY-BARRON.jpg
END:VEVENT
BEGIN:VEVENT
DTSTART;TZID=America/New_York:20221220T203000
DTEND;TZID=America/New_York:20221224T235900
DTSTAMP:20260422T000244
CREATED:20221215T141445Z
LAST-MODIFIED:20221215T141445Z
UID:33226-1671568200-1671926340@notoriousjazz.com
SUMMARY:MONTY ALEXANDER
DESCRIPTION:GRAMMY nominated Monty Alexander returns to Birdland from December 20-24 with two sets each night!\n\n\nfrom Kingston\, Jamaica\, his hometown\, Grammy nominated pianist Monty Alexander is an American classic\, touring the world relentlessly with various projects\, delighting a global audience drawn to his vibrant personality and soulful message. A perennial favorite at Jazz festivals and venues worldwide and at the Montreux Jazz Festival where he has appeared 23 times since 1976\, his spirited conception is one informed by the timeless verities: endless melody-making\, effervescent grooves\, sophisticated voicings\, a romantic spirit\, and a consistent predisposition\, as Alexander accurately states\, “to build up the heat and kick up a storm.” In the course of any given performance\, Alexander applies those aesthetics to a repertoire spanning a broad range of jazz and Jamaican musical expressions—the American songbook and the blues\, gospel and bebop\, calypso and reggae. Documented on more than 75 recordings and cited as the fifth greatest jazz pianist ever in The Fifty Greatest Jazz Piano Players of All Time (Hal Leonard Publishing)\, the Jamaican government designated Alexander Commander in the Order of Distinction in 2000 and in 2018 The University of The West Indies bestowed him with an honorary doctorate degree (DLitt) in recognition of his accomplishments. \n\n\nShowtimes: 8:30pm & 10:30pm
URL:https://notoriousjazz.com/event/monty-alexander
LOCATION:Birdland\, 315 W 44th Street\, #5402\, New York City\, NY\, 10036\, United States
CATEGORIES:Club
ATTACH;FMTTYPE=image/jpeg:https://notoriousjazz.com/wp-content/uploads/2022/12/MONTY-ALEXANDER.jpg
END:VEVENT
BEGIN:VEVENT
DTSTART;TZID=America/New_York:20221222T193000
DTEND;TZID=America/New_York:20221223T230000
DTSTAMP:20260422T000244
CREATED:20221217T142335Z
LAST-MODIFIED:20221217T142335Z
UID:33256-1671737400-1671836400@notoriousjazz.com
SUMMARY:THE JAZZ GALLERY ALL~STARS
DESCRIPTION:Sachal Vasandani –vocals\nJaleel Shaw –alto saxophone\nCharles Altura –guitar\nFabian Almazan –piano\nJoel Ross -vibraphone\nMatt Brewer –bass\nMorgan Guerin -drums \nThe Jazz Gallery introduced the All-Stars at the JVC Jazz Festival in 2010 for its 15th Anniversary. The group consisted of some of the finest young musicians\, bandleaders and composers with serious connections to The Jazz Gallery\, including founding member\, trumpeter Roy Hargrove and MacArthur Fellow Miguel Zenon. On the 25th anniversary of the venue\, The Jazz Gallery All-Stars made a triumphant return. Their first concert in January at the 2020 Winter Jazz Festival was a massive success. While their concerts were all but been cancelled for 2020\, The Jazz Gallery All-Stars continue to perform\, propelling the vision and mission of The Jazz Gallery to the whole world. \nSets at 7.30pm + 9.30pm ET\n$35/$10 members; cabaret seating: $45/$20 members;\nLivestream (Fri only): $20/$5 members
URL:https://notoriousjazz.com/event/the-jazz-gallery-allstars
LOCATION:Jazz Gallery\, 1158 Broadway 5th Floor\, New York City\, NY\, 10001\, United States
CATEGORIES:Club
ATTACH;FMTTYPE=image/jpeg:https://notoriousjazz.com/wp-content/uploads/2022/12/JAZZ-GALLERY-ALLSTARS.jpg
END:VEVENT
BEGIN:VEVENT
DTSTART;TZID=America/New_York:20221222T200000
DTEND;TZID=America/New_York:20221222T230000
DTSTAMP:20260422T000244
CREATED:20221130T172748Z
LAST-MODIFIED:20221130T173845Z
UID:32941-1671739200-1671750000@notoriousjazz.com
SUMMARY:HARRY CONNICK JR.
DESCRIPTION:GRAMMY and Emmy Award-winning musician\, singer\, composer\, legendary live performer\, and multi-platinum best-selling artist\, Harry Connick\, Jr.\, invites you to celebrate the holidays with him and his band as he crosses the country in concert this holiday season. \nLong regarded as one of America’s finest vocalists and pianists\, Harry has continued to establish himself as one of the most beloved artists performing holiday music to date\, thrilling audiences around the world for decades with his definitive take on Christmas classics\, as well as his own originals and fan favorites like “(It Must’ve Been Ol’) Santa Claus” and “When My Heart Finds Christmas.” \nHarry Connick\, Jr. has exemplified excellence in every aspect of the entertainment world. He has received recognition with multiple GRAMMY and Emmy Awards as well as Tony nominations for his live and recorded musical performances\, his achievements on screens large and small\, and his appearances on Broadway as both an actor and a composer. He has sold millions of holiday albums\, which have become the soundtrack to Christmas for fans around the world.
URL:https://notoriousjazz.com/event/harry-connick-jr-2
LOCATION:Arlene Schnitzer Concert Hall\, 1037 SW Broadway Avenue\, Portland\, OR\, 97205\, United States
CATEGORIES:Concert
ATTACH;FMTTYPE=image/jpeg:https://notoriousjazz.com/wp-content/uploads/2022/11/HARRY-CONNICK-JR..jpg
END:VEVENT
END:VCALENDAR