BEGIN:VCALENDAR
VERSION:2.0
PRODID:-//Notorious Jazz - ECPv6.15.17//NONSGML v1.0//EN
CALSCALE:GREGORIAN
METHOD:PUBLISH
X-ORIGINAL-URL:https://notoriousjazz.com
X-WR-CALDESC:Events for Notorious Jazz
REFRESH-INTERVAL;VALUE=DURATION:PT1H
X-Robots-Tag:noindex
X-PUBLISHED-TTL:PT1H
BEGIN:VTIMEZONE
TZID:America/New_York
BEGIN:DAYLIGHT
TZOFFSETFROM:-0500
TZOFFSETTO:-0400
TZNAME:EDT
DTSTART:20220313T070000
END:DAYLIGHT
BEGIN:STANDARD
TZOFFSETFROM:-0400
TZOFFSETTO:-0500
TZNAME:EST
DTSTART:20221106T060000
END:STANDARD
BEGIN:DAYLIGHT
TZOFFSETFROM:-0500
TZOFFSETTO:-0400
TZNAME:EDT
DTSTART:20230312T070000
END:DAYLIGHT
BEGIN:STANDARD
TZOFFSETFROM:-0400
TZOFFSETTO:-0500
TZNAME:EST
DTSTART:20231105T060000
END:STANDARD
BEGIN:DAYLIGHT
TZOFFSETFROM:-0500
TZOFFSETTO:-0400
TZNAME:EDT
DTSTART:20240310T070000
END:DAYLIGHT
BEGIN:STANDARD
TZOFFSETFROM:-0400
TZOFFSETTO:-0500
TZNAME:EST
DTSTART:20241103T060000
END:STANDARD
END:VTIMEZONE
BEGIN:VEVENT
DTSTART;TZID=America/New_York:20230104T143000
DTEND;TZID=America/New_York:20230104T170000
DTSTAMP:20260421T221830
CREATED:20230103T040754Z
LAST-MODIFIED:20230105T135021Z
UID:33531-1672842600-1672851600@notoriousjazz.com
SUMMARY:JOHN & DAVID SNEIDER GENERATIONS QUINTET
DESCRIPTION:Lineup:\nJohn “Scrapper” Sneider – Trumpet | David Sneider – Trumpet | Andy Watson – Drums | Ugonna Okegwo – Bass | Jeb Patton – Piano \nAcclaimed trumpeter John Sneider has worked with artists like Larry Goldings\, Andy Bey. Curtis Stigers\, Brad Mehldau and Madeleine Peyroux. His latest album is “The Scrapper” on the Cellar Live label.\nDavid Sneider\, also on trumpet\, is forging his own career path in NYC. The Winner of the Carmine Caruso International Jazz Trumpet Competition in 2021\, David is currently pursuing his masters degree at The Juilliard School of Music and performing with notable artists like Dom Salvador and Ulysses Owens Jr.
URL:https://notoriousjazz.com/event/john-david-sneider-generations-quintet
LOCATION:The Django\, 2 6th Avenue | The Roxy Hotel\, New York City\, NY\, 10013\, United States
CATEGORIES:Club
ATTACH;FMTTYPE=image/jpeg:https://notoriousjazz.com/wp-content/uploads/2023/01/JOHN-SNEIDER.jpg
END:VEVENT
BEGIN:VEVENT
DTSTART;TZID=America/New_York:20230104T193000
DTEND;TZID=America/New_York:20230104T230000
DTSTAMP:20260421T221830
CREATED:20230104T194133Z
LAST-MODIFIED:20230104T194511Z
UID:33608-1672860600-1672873200@notoriousjazz.com
SUMMARY:VANESSA RUBIN
DESCRIPTION:Vocalist and songwriter Vanessa Rubin takes her time with every phrase. She has forged her own path through the music’s legacy of supreme storytellers\, finding nuance in each lyric. In addition to her original music\, Rubin interprets classic and lesser known repertoire — gestures memorialized by such legends as Nancy Wilson\, Billie Holiday\, Blue Mitchell\, and Stevie Wonder — with unique perspective\, heart\, and humor. The Cleveland native brings her swinging quartet to the Dizzy’s Club stage: Brandon McCune on piano\, Kenny Davis on bass\, and Winard Harper on drums. \n\n\n\n\nShowtimes ~ 7:30pm | 9:30pm \nLineup: \n\n\n\n\nVanessa Rubin\, vocals \nBrandon McCune\, piano \nKenny Davis\, bass \nWinard Harper\, drums \n 
URL:https://notoriousjazz.com/event/vanessa-rubin-2
LOCATION:Dizzy’s Club\, 10 Columbus Circle\, New York City\, NY\, 10019\, United States
CATEGORIES:Club
ATTACH;FMTTYPE=image/png:https://notoriousjazz.com/wp-content/uploads/2023/01/VANESSA-RUBIN.png
END:VEVENT
BEGIN:VEVENT
DTSTART;TZID=America/New_York:20230104T223000
DTEND;TZID=America/New_York:20230105T010000
DTSTAMP:20260421T221830
CREATED:20230103T041129Z
LAST-MODIFIED:20230107T163223Z
UID:33533-1672871400-1672880400@notoriousjazz.com
SUMMARY:ERIC ALEXANDER
DESCRIPTION:Eric Alexander is one of the most sought-after saxophonists on the modern jazz scene. “The people I listened to in college are still the cats that are influencing me today\,” says Alexander. “Monk\, Dizzy\, Sonny Stitt\, Clifford Brown\, Sonny Rollins\, Jackie McLean\, Joe Henderson – the legacy left by Bird and all the bebop pioneers\, that language and that feel\, that’s the bread and butter of everything I do.” Don’t miss this musical master as he returns to our stage!
URL:https://notoriousjazz.com/event/eric-alexander
LOCATION:The Django\, 2 6th Avenue | The Roxy Hotel\, New York City\, NY\, 10013\, United States
CATEGORIES:Club
ATTACH;FMTTYPE=image/jpeg:https://notoriousjazz.com/wp-content/uploads/2023/01/ERIC-ALEXANDER.jpg
END:VEVENT
END:VCALENDAR