BEGIN:VCALENDAR
VERSION:2.0
PRODID:-//Notorious Jazz - ECPv6.15.17//NONSGML v1.0//EN
CALSCALE:GREGORIAN
METHOD:PUBLISH
X-WR-CALNAME:Notorious Jazz
X-ORIGINAL-URL:https://notoriousjazz.com
X-WR-CALDESC:Events for Notorious Jazz
REFRESH-INTERVAL;VALUE=DURATION:PT1H
X-Robots-Tag:noindex
X-PUBLISHED-TTL:PT1H
BEGIN:VTIMEZONE
TZID:America/New_York
BEGIN:DAYLIGHT
TZOFFSETFROM:-0500
TZOFFSETTO:-0400
TZNAME:EDT
DTSTART:20220313T070000
END:DAYLIGHT
BEGIN:STANDARD
TZOFFSETFROM:-0400
TZOFFSETTO:-0500
TZNAME:EST
DTSTART:20221106T060000
END:STANDARD
BEGIN:DAYLIGHT
TZOFFSETFROM:-0500
TZOFFSETTO:-0400
TZNAME:EDT
DTSTART:20230312T070000
END:DAYLIGHT
BEGIN:STANDARD
TZOFFSETFROM:-0400
TZOFFSETTO:-0500
TZNAME:EST
DTSTART:20231105T060000
END:STANDARD
BEGIN:DAYLIGHT
TZOFFSETFROM:-0500
TZOFFSETTO:-0400
TZNAME:EDT
DTSTART:20240310T070000
END:DAYLIGHT
BEGIN:STANDARD
TZOFFSETFROM:-0400
TZOFFSETTO:-0500
TZNAME:EST
DTSTART:20241103T060000
END:STANDARD
END:VTIMEZONE
BEGIN:VEVENT
DTSTART;TZID=America/New_York:20230109T193000
DTEND;TZID=America/New_York:20230109T230000
DTSTAMP:20260422T000137
CREATED:20230104T195130Z
LAST-MODIFIED:20230104T195229Z
UID:33612-1673292600-1673305200@notoriousjazz.com
SUMMARY:LSAT: LAUREN SEVIAN & ALEXA TARANTINO
DESCRIPTION:Award-winning saxophonist-composers Lauren Sevian and Alexa Tarantino return to Dizzy’s Club to co-lead their acclaimed quintet LSAT\, engaging a swinging rhythm section primed for interaction and improvisation. Their sets transmit a shared vocabulary across original material as well as fresh interpretations of enduring favorites. In addition to appearing throughout the city and across the country\, the ensemble placed first at the 2018 Made in New York Jazz Competition and headlined the 2020 Jazz Education Network Conference. \n\n\n\n\nShowtimes ~ 7:30pm | 9:30pm \nLineup \n\n\n\n\nLauren Sevian\, baritone saxophone \nAlexa Tarantino\, alto saxophone \nSteven Feifke\, piano \nPhilip Norris\, bass \nE.J. Strickland\, drums
URL:https://notoriousjazz.com/event/lsat-lauren-sevian-alexa-tarantino
LOCATION:Dizzy’s Club\, 10 Columbus Circle\, New York City\, NY\, 10019\, United States
CATEGORIES:Club
ATTACH;FMTTYPE=image/png:https://notoriousjazz.com/wp-content/uploads/2023/01/LAUREN-SEVIAN-ALEXA-TARANTINO.png
END:VEVENT
BEGIN:VEVENT
DTSTART;TZID=America/New_York:20230109T200000
DTEND;TZID=America/New_York:20230109T230000
DTSTAMP:20260422T000137
CREATED:20230103T201558Z
LAST-MODIFIED:20230104T183908Z
UID:33558-1673294400-1673305200@notoriousjazz.com
SUMMARY:JACQUES LESURE JAM SESSION
DESCRIPTION:Jacques is a Detroit native currently residing in Inglewood\, California. His classic style along with his innovative yet sincere approach to the music are integral [arts of his signature sound.  It’s a sound steeped in the rich tradition of mentors like George Benson\, Kenny Burrell\, and a host of others\, but expressly through his own voice. It’s no secret that his music is rooted in the foundations of gospel\, blues and improvised Black American music. It’s his belief that the sounds of “today” are equally as relevant as those of glorious days gone by. It is that synergy that makes his music swing with a style like no other. \nMr. Lesure is proudly associated with the prestigious WJ3 Records imprint and now has three recordings as an artist on the label. All have received great reviews including a four star rating by DownBeat magazine and one of the “Top 100” on the Jazz Week chart. He is an honorary member of GHJazz Collective where they are keeping jazz alive in Accra\, Ghana at +233 Jazz Bar & Grill. \nJam Session takes place every Monday at 8:00pm through January (16\, 23\, 30) \n 
URL:https://notoriousjazz.com/event/jacques-lesure-jam-session
LOCATION:The Lighthouse Cafe\, 30 Pier Avenue\, Hermosa Beach\, CA\, 90254\, United States
CATEGORIES:Club
ATTACH;FMTTYPE=image/jpeg:https://notoriousjazz.com/wp-content/uploads/2023/01/JACQUES-LESURE.jpg
END:VEVENT
END:VCALENDAR