BEGIN:VCALENDAR
VERSION:2.0
PRODID:-//Notorious Jazz - ECPv6.15.17//NONSGML v1.0//EN
CALSCALE:GREGORIAN
METHOD:PUBLISH
X-ORIGINAL-URL:https://notoriousjazz.com
X-WR-CALDESC:Events for Notorious Jazz
REFRESH-INTERVAL;VALUE=DURATION:PT1H
X-Robots-Tag:noindex
X-PUBLISHED-TTL:PT1H
BEGIN:VTIMEZONE
TZID:America/New_York
BEGIN:DAYLIGHT
TZOFFSETFROM:-0500
TZOFFSETTO:-0400
TZNAME:EDT
DTSTART:20220313T070000
END:DAYLIGHT
BEGIN:STANDARD
TZOFFSETFROM:-0400
TZOFFSETTO:-0500
TZNAME:EST
DTSTART:20221106T060000
END:STANDARD
BEGIN:DAYLIGHT
TZOFFSETFROM:-0500
TZOFFSETTO:-0400
TZNAME:EDT
DTSTART:20230312T070000
END:DAYLIGHT
BEGIN:STANDARD
TZOFFSETFROM:-0400
TZOFFSETTO:-0500
TZNAME:EST
DTSTART:20231105T060000
END:STANDARD
BEGIN:DAYLIGHT
TZOFFSETFROM:-0500
TZOFFSETTO:-0400
TZNAME:EDT
DTSTART:20240310T070000
END:DAYLIGHT
BEGIN:STANDARD
TZOFFSETFROM:-0400
TZOFFSETTO:-0500
TZNAME:EST
DTSTART:20241103T060000
END:STANDARD
END:VTIMEZONE
BEGIN:VEVENT
DTSTART;TZID=America/New_York:20230111T190000
DTEND;TZID=America/New_York:20230111T210000
DTSTAMP:20260422T032442
CREATED:20221109T214410Z
LAST-MODIFIED:20221110T013014Z
UID:32587-1673463600-1673470800@notoriousjazz.com
SUMMARY:CHUCHITO VALDÉS
DESCRIPTION:Chuchito Valdés\, following in the footsteps of his famed father Chucho Valdés and grandfather Bebo Valdés\, continues the legacy of great piano players from Cuba. With influences of Caribbean rhythms and jazz\, Chuchito creates an exciting and energetic blend of spicy music that drives audiences wild. This piano master captivates with his sensitivity and drives excitement with his dynamic band. \nHe is recognized as a master of Cuban music including Son\, Danzon\, Cuban Timba and Guaguanco. He has also extensively studied classical music including harmony and composition. His original compositions and arrangements draw on classical harmonic and structural techniques. In his performances\, Chuchito’s music draws on many styles including Afro-Cuban Latin Jazz\, Bebop\, Danzon\, Cha-Cha-Cha\, Son Montuno and much more.
URL:https://notoriousjazz.com/event/chuchito-valdes-2
LOCATION:Amaturo Theater At The Broward Center For The Performing Arts\, 201 SW 5th Avenue\, Ft. Lauderdale\, FL\, 33312\, United States
CATEGORIES:Concert
ATTACH;FMTTYPE=image/jpeg:https://notoriousjazz.com/wp-content/uploads/2022/11/CHUCHITO-VALDÉS.jpg
END:VEVENT
BEGIN:VEVENT
DTSTART;TZID=America/New_York:20230111T193000
DTEND;TZID=America/New_York:20230112T230000
DTSTAMP:20260422T032442
CREATED:20230104T195744Z
LAST-MODIFIED:20230104T195744Z
UID:33615-1673465400-1673564400@notoriousjazz.com
SUMMARY:STEVE TURRE
DESCRIPTION:A colossal presence in the music\, Steve Turre has garnered praise and amassed countless accolades from such respected outlets as DownBeat\, JazzTimes\, and JazzIz for his unique mastery of both trombone and seashells. The former Jazz Messenger has performed with innovative\, genre-defining artists\, including Ray Charles\, Dizzy Gillespie\, McCoy Tyner\, Herbie Hancock\, the recently departed Pharoah Sanders\, and Rahsaan Roland Kirk\, who would prompt Turre’s sonic exploration of shells. His Generations outfit champions bandstand mentorship\, embracing the new era of creative artists: Wallace Roney\, Jr.\, Emilio Modeste\, Isaiah J. Thompson\, and Orion Turre. \nShowtimes ~ 7:30pm | 9:30pm \nLineup \nSteve Turre\, trombone\, shells \nMarquis Hill\, trumpet \nBen Solomon\, tenor and soprano saxophones \nDavis Whitfield\, piano \nCorcoran Holt\, bass \nOrion Turre\, drums
URL:https://notoriousjazz.com/event/steve-turre-2
LOCATION:Dizzy’s Club\, 10 Columbus Circle\, New York City\, NY\, 10019\, United States
CATEGORIES:Club
ATTACH;FMTTYPE=image/png:https://notoriousjazz.com/wp-content/uploads/2023/01/STEVE-TURRE.png
END:VEVENT
END:VCALENDAR