BEGIN:VCALENDAR
VERSION:2.0
PRODID:-//Notorious Jazz - ECPv6.15.17//NONSGML v1.0//EN
CALSCALE:GREGORIAN
METHOD:PUBLISH
X-ORIGINAL-URL:https://notoriousjazz.com
X-WR-CALDESC:Events for Notorious Jazz
REFRESH-INTERVAL;VALUE=DURATION:PT1H
X-Robots-Tag:noindex
X-PUBLISHED-TTL:PT1H
BEGIN:VTIMEZONE
TZID:America/New_York
BEGIN:DAYLIGHT
TZOFFSETFROM:-0500
TZOFFSETTO:-0400
TZNAME:EDT
DTSTART:20220313T070000
END:DAYLIGHT
BEGIN:STANDARD
TZOFFSETFROM:-0400
TZOFFSETTO:-0500
TZNAME:EST
DTSTART:20221106T060000
END:STANDARD
BEGIN:DAYLIGHT
TZOFFSETFROM:-0500
TZOFFSETTO:-0400
TZNAME:EDT
DTSTART:20230312T070000
END:DAYLIGHT
BEGIN:STANDARD
TZOFFSETFROM:-0400
TZOFFSETTO:-0500
TZNAME:EST
DTSTART:20231105T060000
END:STANDARD
BEGIN:DAYLIGHT
TZOFFSETFROM:-0500
TZOFFSETTO:-0400
TZNAME:EDT
DTSTART:20240310T070000
END:DAYLIGHT
BEGIN:STANDARD
TZOFFSETFROM:-0400
TZOFFSETTO:-0500
TZNAME:EST
DTSTART:20241103T060000
END:STANDARD
END:VTIMEZONE
BEGIN:VEVENT
DTSTART;VALUE=DATE:20230113
DTEND;VALUE=DATE:20230122
DTSTAMP:20260422T000254
CREATED:20220704T162013Z
LAST-MODIFIED:20220704T191710Z
UID:30827-1673596800-1674273599@notoriousjazz.com
SUMMARY:BLUE NOTE AT SEA
DESCRIPTION:Hosts: Marcus Miller\, Robert Glasper\, Don Was\, Alonzo Bodden \nPerformers: Chris Botti\, Christian McBride\, Sheila E\, Cécile McLorin Salvant\, David Sanborn\, Brad Mehldau\, Chief Adjudah (formerly Christian Scott)\, The Baylor Project\, Damien Escobar \nSpecial Room Rates \n\n\n\nCategory 7\, 8\, – Deck 2\n$2\,525/person\n\n\nCategory 5\, 6 – Deck 3\n$2\,575/person\n\n\nCategory 4 – Deck 6 & 7\n$2\,625/person\n\n\n\nOcean View Staterooms are always priced reasonably\, but\, for the next few weeks\, we’re doubling down on that claim and lowering the prices even further.\n\nThese special prices can’t be beaten. Great accommodations. Great food and service. Hundreds of hours of the greatest music. Just think\, for about the cost of a daily latte for one year\, you can enjoy 7 days and 7 nights of fun\, excitement\, and camaraderie.\nUse Promo Code: AWAY \nThis offer is available to everyone and supersedes prior offers whether they have expired or not. The only limitation on this offer is that it ends on July 4 or earlier if all staterooms are reserved. Blue Note at Sea’s guest services staff is happy to help at 844.768.5157 (9am – 5pm Central Time Monday – Friday). Whether you book online or by phone be sure to use promo code: AWAY
URL:https://notoriousjazz.com/event/blue-note-at-sea
LOCATION:Celebrity Millennium Cruise Line\, Ft. Lauderdale\, FL\, United States
CATEGORIES:Cruise
ATTACH;FMTTYPE=image/png:https://notoriousjazz.com/wp-content/uploads/2022/07/BLUE-NOTE-AT-SEA.png
END:VEVENT
BEGIN:VEVENT
DTSTART;TZID=America/New_York:20230114T190000
DTEND;TZID=America/New_York:20230115T230000
DTSTAMP:20260422T000254
CREATED:20230111T032832Z
LAST-MODIFIED:20230111T032832Z
UID:33708-1673722800-1673823600@notoriousjazz.com
SUMMARY:BERNARD LINNETTE INTERACTIVE
DESCRIPTION:Featuring: Julie Dexter ~ Vocals\, Terence Harper ~ Trumpet\, Louis Heriveaux ~ Piano\, Frank Houston ~ TEnor Saxophone\, Dishan Harper ~ Bass\, and Bernard Linnette ~ Drums \nShowtimes: \nJanuary 14 ~ 7:30pm | 9:30pm \nJanuary 15 ~ 7:00pm | 9:00pm
URL:https://notoriousjazz.com/event/bernard-linnette-interactive
LOCATION:The Velvet Note\, 4075 Old Milton Parkway\, Alpharetta\, GA\, 30005\, United States
CATEGORIES:Club
ATTACH;FMTTYPE=image/jpeg:https://notoriousjazz.com/wp-content/uploads/2023/01/BERNARD-LINNETTE.jpg
END:VEVENT
BEGIN:VEVENT
DTSTART;TZID=America/New_York:20230115T123000
DTEND;TZID=America/New_York:20230115T200000
DTSTAMP:20260422T000254
CREATED:20221214T030458Z
LAST-MODIFIED:20230102T182652Z
UID:33212-1673785800-1673812800@notoriousjazz.com
SUMMARY:APAP ARTIST SHOWCASES
DESCRIPTION:Regular Registration Rate (after November 9\, 2022): $795 \nGroup Rate for up to 10 attendees: Please inquire. \nStudent Rate: $200 \nOnline-Only Access Pass*: $100 \nShowcases: \nTatiana Eva~Marie & The Avalon Jazz Band ~ Djangology | 11:30 am | http://tatianaevamarie.com \nAcute Inflections ~ Jazz Vocal & Bass | 12:30 pm | acuteinflections.com \nEugenie Jones ~ Jazz Vocal | 1:00 pm | https://www.eugeniejones.com \nDennis Jeter ~ Jazz Vocal & Trumpet | 1:30 pm | dennisjeter.com/index.cfm \nYamandu Costa ~ Brazilian Guitarist | 3:00 pm | braziliannites.com/tours  \nJuumane Smith ~ Jazz Trumpet & Vocal | 5:00 pm | jumaanesmith.com \nJo Harrop ~ UK Based Jazz Vocalist | 7:00 pm |joharrop.com \nTatiana Eva~Marie & The Avalon Jazz Band ~ Djangology |7:30 pm | http://tatianaevamarie.com
URL:https://notoriousjazz.com/event/apap-artist-showcases-2
LOCATION:New York Hilton | New York Suite\, 1335 Avenue Of The Americas\, New York City\, NY\, 10019\, United States
CATEGORIES:Event
ATTACH;FMTTYPE=image/jpeg:https://notoriousjazz.com/wp-content/uploads/2022/12/ALLAN-PAT-HARRIS.jpg
END:VEVENT
BEGIN:VEVENT
DTSTART;TZID=America/New_York:20230115T160000
DTEND;TZID=America/New_York:20230115T200000
DTSTAMP:20260422T000254
CREATED:20221207T205731Z
LAST-MODIFIED:20221207T205933Z
UID:33059-1673798400-1673812800@notoriousjazz.com
SUMMARY:KLAUS MUELLER BRAZILIAN QUARTET
DESCRIPTION:A jazz pianist of diverse influences and abilities\, Klaus Mueller\, was born in Germany and raised in Japan\, Chile\, and Brazil. He began piano lessons in Japan at the age of six. After graduating from Stuttgart University of Music and Performing Arts in 1998\, he was granted a full scholarship from the German Academic Exchange Service to further complete his studies at the New School in New York. \nHe has been an integral part of the New York Jazz and Brazilian music scene\, having performed and recorded with artists including Portinho\, Ron Carter\, New York Voices\, Harry Allen\, Leny Andrade\, Paquito D’ Rivera\, Steve LaSpina\, Emilio Santiago\, Marcos Valle\, Toninho Horta\, and Filó Machado. Tours and workshops have led him throughout the United States\, Europe\, the United Kingdom\, Russia\, and the Caribbean. \nMueller is not only regarded as a fine keyboardist but also as an arranger\, most notably for jazz piano legend Herbie Hancock\, creating orchestral versions of songs from Hancock’s critically acclaimed “Gershwin’s World” album in collaboration with Robert Sadin in 2003. He also arranged music for the prestigious classical label Deutsche Grammophon\, and worked as a musical director and accompanist for the opera singer and Tony Award-winner Paulo Szot. \nOn Mueller’s 2012 album release Far-Faraway\, he performed with jazz bassist Ron Carter and Brazilian drummer Portinho. His latest album Village Samba\, released in 2016\, features mostly original compositions interpreted by some of today’s finest Brazilian and New York-based musicians. \nShowtimes: 4:00pm & 6:00pm
URL:https://notoriousjazz.com/event/klaus-mueller-brazilian-quartet
LOCATION:Jazz Forum Arts\, 1 Dixon Lane\, Tarrytown\, NY\, 10591\, United States
CATEGORIES:Club
ATTACH;FMTTYPE=image/jpeg:https://notoriousjazz.com/wp-content/uploads/2022/12/KLAUS-MUELLER.jpg
END:VEVENT
BEGIN:VEVENT
DTSTART;TZID=America/New_York:20230115T170000
DTEND;TZID=America/New_York:20230115T210000
DTSTAMP:20260422T000254
CREATED:20230104T203743Z
LAST-MODIFIED:20230104T203949Z
UID:33630-1673802000-1673816400@notoriousjazz.com
SUMMARY:KENNY WASHINGTON AND HIS TRIO
DESCRIPTION:Internationally acclaimed vocalist Kenny Washington released his debut studio album in 2020\, earning him a Grammy nomination for Best Jazz Vocal Album. The Bay Area artist from New Orleans has performed across the globe. He’s delivered his distinctive improvising and song interpretation alongside such diverse artists as Wynton Marsalis\, Gregory Porter\, and Eric Reed\, and been part of a renowned residency tradition at Dizzy’s Club with vibraphonist Joe Locke. Featuring Josh Nelson on piano\, Sam Bevan on bass\, and Darrell Green on drums\, Washington’s quartet explores the Great American Songbook and other beloved repertoire. \nShowtimes~ 5:00pm | 7:30pm \n\n\n\n\nLineup: \n\n\n\n\nKenny Washington\, vocals \nJosh nelson\, piano \nSam Bevan\, bass \nDarrell Green\, drums
URL:https://notoriousjazz.com/event/kenny-washington-and-his-trio
LOCATION:Dizzy’s Club\, 10 Columbus Circle\, New York City\, NY\, 10019\, United States
CATEGORIES:Club
ATTACH;FMTTYPE=image/png:https://notoriousjazz.com/wp-content/uploads/2023/01/KENNY-WASHINGTON.png
END:VEVENT
END:VCALENDAR