BEGIN:VCALENDAR
VERSION:2.0
PRODID:-//Notorious Jazz - ECPv6.15.17//NONSGML v1.0//EN
CALSCALE:GREGORIAN
METHOD:PUBLISH
X-ORIGINAL-URL:https://notoriousjazz.com
X-WR-CALDESC:Events for Notorious Jazz
REFRESH-INTERVAL;VALUE=DURATION:PT1H
X-Robots-Tag:noindex
X-PUBLISHED-TTL:PT1H
BEGIN:VTIMEZONE
TZID:America/New_York
BEGIN:DAYLIGHT
TZOFFSETFROM:-0500
TZOFFSETTO:-0400
TZNAME:EDT
DTSTART:20220313T070000
END:DAYLIGHT
BEGIN:STANDARD
TZOFFSETFROM:-0400
TZOFFSETTO:-0500
TZNAME:EST
DTSTART:20221106T060000
END:STANDARD
BEGIN:DAYLIGHT
TZOFFSETFROM:-0500
TZOFFSETTO:-0400
TZNAME:EDT
DTSTART:20230312T070000
END:DAYLIGHT
BEGIN:STANDARD
TZOFFSETFROM:-0400
TZOFFSETTO:-0500
TZNAME:EST
DTSTART:20231105T060000
END:STANDARD
BEGIN:DAYLIGHT
TZOFFSETFROM:-0500
TZOFFSETTO:-0400
TZNAME:EDT
DTSTART:20240310T070000
END:DAYLIGHT
BEGIN:STANDARD
TZOFFSETFROM:-0400
TZOFFSETTO:-0500
TZNAME:EST
DTSTART:20241103T060000
END:STANDARD
END:VTIMEZONE
BEGIN:VEVENT
DTSTART;TZID=America/New_York:20230125T193000
DTEND;TZID=America/New_York:20230125T204500
DTSTAMP:20260422T032442
CREATED:20221214T003826Z
LAST-MODIFIED:20221214T003826Z
UID:33192-1674675000-1674679500@notoriousjazz.com
SUMMARY:THE FRENCH HORN COLLECTIVE
DESCRIPTION:The French Horn Collective is an energetic and progressive band that performs an eclectic variety of Gypsy jazz\, swing and original French music. \nLed by Parisian musician\, multi-instrumentalist\, composer\, singer and songwriter Vincent Raffard\, the diverse international group consists of five highly talented musicians from myriad musical backgrounds and countries. \nLive on the Plaza is a series of outdoor concerts on our Parker and Vann Thomson Plaza for the Arts. \nPlease note: Tables can be purchased for 1\, 2\, 3 or 4 guests. Ticket prices are per person. Locations are assigned in the order of purchase in parties of up to four guests based on reservation type. \nDoors open at 6 p.m. with light bites and beverage service.\nHappy hour pricing available until 7 p.m.\nPerformance starts at 7:30 p.m.
URL:https://notoriousjazz.com/event/the-french-horn-collective
LOCATION:Adrienne Arsht Center | Thomson Plaza for the Arts\, 1300 Biscayne Avenue\, Miami\, FL\, 33132\, United States
CATEGORIES:Concert
ATTACH;FMTTYPE=image/jpeg:https://notoriousjazz.com/wp-content/uploads/2022/12/FRENCH-HORN-COLLECTIVE.jpeg
END:VEVENT
BEGIN:VEVENT
DTSTART;TZID=America/New_York:20230125T193000
DTEND;TZID=America/New_York:20230125T220000
DTSTAMP:20260422T032442
CREATED:20230103T192932Z
LAST-MODIFIED:20230104T185140Z
UID:33547-1674675000-1674684000@notoriousjazz.com
SUMMARY:MIKE DIRUBBO QUARTET
DESCRIPTION:Alto saxophonist Mike DiRubbo is the real deal. Ever since he arrived in New York two decades ago\, DiRubbo has reigned supreme as one of the most durable and dynamic musicians of his generation. That bold statement is augmented by the aural evidence of his work with the brightest jazz stars including Al Foster\, Larry Willis\, Jimmy Cobb\, Harold Mabern\, Eddie Henderson\, and others.
URL:https://notoriousjazz.com/event/mike-dirubbo-quartet
LOCATION:The Django\, 2 6th Avenue | The Roxy Hotel\, New York City\, NY\, 10013\, United States
CATEGORIES:Club
ATTACH;FMTTYPE=image/jpeg:https://notoriousjazz.com/wp-content/uploads/2023/01/MIKE-DIRUBBO.jpg
END:VEVENT
BEGIN:VEVENT
DTSTART;TZID=America/New_York:20230125T223000
DTEND;TZID=America/New_York:20230126T010000
DTSTAMP:20260422T032442
CREATED:20230103T193245Z
LAST-MODIFIED:20230104T185254Z
UID:33549-1674685800-1674694800@notoriousjazz.com
SUMMARY:T.K. BLUE QUARTET
DESCRIPTION:The acclaimed saxophonist and alum of the bands of Randy Weston\, Jimmy Scott and Abdullah Ibrahim fronts a powerhouse band of his own
URL:https://notoriousjazz.com/event/t-k-blue-quartet
LOCATION:The Django\, 2 6th Avenue | The Roxy Hotel\, New York City\, NY\, 10013\, United States
CATEGORIES:Club
ATTACH;FMTTYPE=image/jpeg:https://notoriousjazz.com/wp-content/uploads/2023/01/T.K.-BLUE.jpg
END:VEVENT
END:VCALENDAR