BEGIN:VCALENDAR
VERSION:2.0
PRODID:-//Notorious Jazz - ECPv6.15.17//NONSGML v1.0//EN
CALSCALE:GREGORIAN
METHOD:PUBLISH
X-WR-CALNAME:Notorious Jazz
X-ORIGINAL-URL:https://notoriousjazz.com
X-WR-CALDESC:Events for Notorious Jazz
REFRESH-INTERVAL;VALUE=DURATION:PT1H
X-Robots-Tag:noindex
X-PUBLISHED-TTL:PT1H
BEGIN:VTIMEZONE
TZID:America/New_York
BEGIN:DAYLIGHT
TZOFFSETFROM:-0500
TZOFFSETTO:-0400
TZNAME:EDT
DTSTART:20220313T070000
END:DAYLIGHT
BEGIN:STANDARD
TZOFFSETFROM:-0400
TZOFFSETTO:-0500
TZNAME:EST
DTSTART:20221106T060000
END:STANDARD
BEGIN:DAYLIGHT
TZOFFSETFROM:-0500
TZOFFSETTO:-0400
TZNAME:EDT
DTSTART:20230312T070000
END:DAYLIGHT
BEGIN:STANDARD
TZOFFSETFROM:-0400
TZOFFSETTO:-0500
TZNAME:EST
DTSTART:20231105T060000
END:STANDARD
BEGIN:DAYLIGHT
TZOFFSETFROM:-0500
TZOFFSETTO:-0400
TZNAME:EDT
DTSTART:20240310T070000
END:DAYLIGHT
BEGIN:STANDARD
TZOFFSETFROM:-0400
TZOFFSETTO:-0500
TZNAME:EST
DTSTART:20241103T060000
END:STANDARD
END:VTIMEZONE
BEGIN:VEVENT
DTSTART;TZID=America/New_York:20230127T190000
DTEND;TZID=America/New_York:20230128T230000
DTSTAMP:20260421T221224
CREATED:20221207T205146Z
LAST-MODIFIED:20221207T205146Z
UID:33056-1674846000-1674946800@notoriousjazz.com
SUMMARY:BUSTER WILLIAMS & SOMETHING MORE!
DESCRIPTION:Charles Anthony “Buster” Williams is an American jazz bassist. Williams is known for his membership in pianist Herbie Hancock’s early 1970s group\, working with guitarist Larry Coryell from the 1980s to present\, working in the Thelonious Monk repertory band Sphere and as the accompanist of choice for many singers\, including Nancy Wilson. \nShowtimes: 7:00pm & 9:30pm
URL:https://notoriousjazz.com/event/buster-williams-something-more
LOCATION:Jazz Forum Arts\, 1 Dixon Lane\, Tarrytown\, NY\, 10591\, United States
CATEGORIES:Club
ATTACH;FMTTYPE=image/jpeg:https://notoriousjazz.com/wp-content/uploads/2022/12/BUSTER-WILLIAMS.jpeg
END:VEVENT
BEGIN:VEVENT
DTSTART;TZID=America/New_York:20230127T193000
DTEND;TZID=America/New_York:20230129T230000
DTSTAMP:20260421T221224
CREATED:20230103T204236Z
LAST-MODIFIED:20230104T185636Z
UID:33563-1674847800-1675033200@notoriousjazz.com
SUMMARY:CYRUS CHESTNUT & AFFIRMATION: 60TH BIRTHDAY CELEBRATION
DESCRIPTION:Cyrus Chestnut – Piano\nTim Green – Saxophone\nObasi Koto – Bass\nEric Kennedy – Drums \n“Chestnut showed what pervasive spontaneity and deep swing rhythm are all about. Chestnut made spirits soar” – Chicago Tribune  \nA masterful jazz pianist and Baltimore native\, Cyrus Chestnut balances his lithe technical skill with a robust\, soulful style that speaks to his deep gospel roots and love of swinging hard bop. Raised in the church\, he learned how to infuse his swinging\, classically trained style with a warm gospel sound\, a style that first marked his work as a sideman\, backing legendary vocalists Jon Hendricks and Betty Carter\, as well as with instrumentalists like Donald Harrison and Wynton Marsalis. The future is bright with great possibilities for Cyrus. Expect a unique and unforgettable show as he takes the stage at Keystone Korner Baltimore. \nWe could not be more deeply grateful about the deeply swinging and soulful music that Cyrus Chestnut\, Tim Green\, Obasi Akoto\, and Eric Kennedy are sharing with us as they lift our spirits with every note at Keystone Korner Baltimore. This is truly music that makes the heart dance and our souls sing\, no matter what the daunting challenges of our time. Eternal gratitude\, faith\, and enduring love…. \nShowtimes \nFriday & Saturday ~ 7:00pm | 9:30pm \nSunday ~ 5:00pm | 7:30pm \nStream @ 5:00pm & 7:00pm Only : $10.00
URL:https://notoriousjazz.com/event/cyrus-chestnut-affirmation-60th-birthday-celebration
LOCATION:Keystone Korner Baltimore\, 1350 Lancaster Street\, Baltimore\, MD\, 21231\, United States
CATEGORIES:Club
ATTACH;FMTTYPE=image/jpeg:https://notoriousjazz.com/wp-content/uploads/2023/01/CYRUS-CHESTNUT.jpg
END:VEVENT
END:VCALENDAR