BEGIN:VCALENDAR
VERSION:2.0
PRODID:-//Notorious Jazz - ECPv6.15.17//NONSGML v1.0//EN
CALSCALE:GREGORIAN
METHOD:PUBLISH
X-WR-CALNAME:Notorious Jazz
X-ORIGINAL-URL:https://notoriousjazz.com
X-WR-CALDESC:Events for Notorious Jazz
REFRESH-INTERVAL;VALUE=DURATION:PT1H
X-Robots-Tag:noindex
X-PUBLISHED-TTL:PT1H
BEGIN:VTIMEZONE
TZID:America/New_York
BEGIN:DAYLIGHT
TZOFFSETFROM:-0500
TZOFFSETTO:-0400
TZNAME:EDT
DTSTART:20220313T070000
END:DAYLIGHT
BEGIN:STANDARD
TZOFFSETFROM:-0400
TZOFFSETTO:-0500
TZNAME:EST
DTSTART:20221106T060000
END:STANDARD
BEGIN:DAYLIGHT
TZOFFSETFROM:-0500
TZOFFSETTO:-0400
TZNAME:EDT
DTSTART:20230312T070000
END:DAYLIGHT
BEGIN:STANDARD
TZOFFSETFROM:-0400
TZOFFSETTO:-0500
TZNAME:EST
DTSTART:20231105T060000
END:STANDARD
BEGIN:DAYLIGHT
TZOFFSETFROM:-0500
TZOFFSETTO:-0400
TZNAME:EDT
DTSTART:20240310T070000
END:DAYLIGHT
BEGIN:STANDARD
TZOFFSETFROM:-0400
TZOFFSETTO:-0500
TZNAME:EST
DTSTART:20241103T060000
END:STANDARD
END:VTIMEZONE
BEGIN:VEVENT
DTSTART;TZID=America/New_York:20230303T190000
DTEND;TZID=America/New_York:20230305T230000
DTSTAMP:20260421T221710
CREATED:20230128T195651Z
LAST-MODIFIED:20230128T202306Z
UID:33863-1677870000-1678057200@notoriousjazz.com
SUMMARY:RAVI COLTRANE QUARTET
DESCRIPTION:Ravi Coltrane is a critically acclaimed Grammy™ nominated saxophonist\, bandleader\, and composer. In the course of a twenty plus year career\, Mr. Coltrane has worked as a sideman to many\, recorded noteworthy albums for himself and others and founded a prominent independent record label\, RKM. \nBorn in Long Island\, the second son of John Coltrane and Alice Coltrane\, Ravi was named after Indian sitar legend Ravi Shankar. He was raised in Los Angeles where his family moved after his father’s death in 1967. His mother\, Alice Coltrane\, was a significant influence on Ravi and it was he who encouraged Alice to return to performance and the recording studio after a long absence. Subsequently\, Ravi produced and played on Alice Coltrane’s powerful\, ‘Translinear Light’\, which was released in 2004. \nRavi has released six albums as a leader. His latest\, ‘Spirit Fiction’\, was released in June of 2012 for the Blue Note label. Additional credits include performances as well as recordings with Elvin Jones\, Terence Blanchard\, Kenny Baron\, Steve Coleman\, McCoy Tyner\, Jack DeJohnette\, Matt Garrison\, Jeff ‘Tain’ Watts\, Geri Allen\, Joanne Brackeem\, The Blue Note 7\, among others. He is a co-leader of the Saxophone Summit with Joe Lovano and Dave Liebman. \nRavi lives in Brooklyn\, NY and maintains a fast paced touring\, recording\, composing and performance schedule. He leads the effort to restore the John Coltrane Home in Dix Hills\, Long Island thecoltranehome.org and presides over important reissues of his parent’s recordings. \nFriday 3/3 ~ 7:00 pm  & 9:30 pm | $35~$45 + fee \nSaturday 3/4 ~ 7:00 pm  & 9:30 pm | $35~$45 + fee\nSunday 3/5 ~ 5:00 pm & 7:30 pm  | $35~$45 + fee \nStreaming Pass: 5:00pm & 7:00pm only | $10.00 + fee
URL:https://notoriousjazz.com/event/ravi-coltrane-quartet
LOCATION:Keystone Korner Baltimore\, 1350 Lancaster Street\, Baltimore\, MD\, 21231\, United States
CATEGORIES:Club
ATTACH;FMTTYPE=image/jpeg:https://notoriousjazz.com/wp-content/uploads/2023/01/RAVI-COLTRANE.jpg
END:VEVENT
END:VCALENDAR