BEGIN:VCALENDAR
VERSION:2.0
PRODID:-//Notorious Jazz - ECPv6.15.17//NONSGML v1.0//EN
CALSCALE:GREGORIAN
METHOD:PUBLISH
X-WR-CALNAME:Notorious Jazz
X-ORIGINAL-URL:https://notoriousjazz.com
X-WR-CALDESC:Events for Notorious Jazz
REFRESH-INTERVAL;VALUE=DURATION:PT1H
X-Robots-Tag:noindex
X-PUBLISHED-TTL:PT1H
BEGIN:VTIMEZONE
TZID:America/New_York
BEGIN:DAYLIGHT
TZOFFSETFROM:-0500
TZOFFSETTO:-0400
TZNAME:EDT
DTSTART:20220313T070000
END:DAYLIGHT
BEGIN:STANDARD
TZOFFSETFROM:-0400
TZOFFSETTO:-0500
TZNAME:EST
DTSTART:20221106T060000
END:STANDARD
BEGIN:DAYLIGHT
TZOFFSETFROM:-0500
TZOFFSETTO:-0400
TZNAME:EDT
DTSTART:20230312T070000
END:DAYLIGHT
BEGIN:STANDARD
TZOFFSETFROM:-0400
TZOFFSETTO:-0500
TZNAME:EST
DTSTART:20231105T060000
END:STANDARD
BEGIN:DAYLIGHT
TZOFFSETFROM:-0500
TZOFFSETTO:-0400
TZNAME:EDT
DTSTART:20240310T070000
END:DAYLIGHT
BEGIN:STANDARD
TZOFFSETFROM:-0400
TZOFFSETTO:-0500
TZNAME:EST
DTSTART:20241103T060000
END:STANDARD
END:VTIMEZONE
BEGIN:VEVENT
DTSTART;TZID=America/New_York:20230309T190000
DTEND;TZID=America/New_York:20230311T230000
DTSTAMP:20260421T170645
CREATED:20230305T142204Z
LAST-MODIFIED:20230305T142204Z
UID:34361-1678388400-1678575600@notoriousjazz.com
SUMMARY:CAROL RIDDICK & GERALD VEASLEY
DESCRIPTION:The groundbreaking collaboration between Gerald Veasley and Carol Riddick pairs two legends of jazz and soul music to celebrate an iconic artist. The act\, consisting of vocals and three instrumentalists\, has performed in many festivals\, jazz clubs and churches to a sold-out crowds pays homage to “The High Priestess of Soul”\, singer\, song writer and activist\, Nina Simone. \nSimone was one of the most extraordinary artists of the twentieth century; an icon of American music. She was the consummate musical storyteller\, a griot as she would come to learn\, who used her remarkable talent to create a legacy of liberation\, empowerment\, passion\, and love through a magnificent body of works. She earned the moniker “High Priestess of Soul” for she could weave a spell so seductive and hypnotic that the listener lost track of time and space as they became absorbed in the moment. \nAll Shows ~ SOLD OUT!
URL:https://notoriousjazz.com/event/carol-riddick-gerald-veasley
LOCATION:South\, 600 N. Broad Street\, Philadelphia\, PA\, 19130\, United States
CATEGORIES:Club
ATTACH;FMTTYPE=image/png:https://notoriousjazz.com/wp-content/uploads/2023/03/RIDDICK-VEASLEY.png
END:VEVENT
BEGIN:VEVENT
DTSTART;TZID=America/New_York:20230309T190000
DTEND;TZID=America/New_York:20230312T235900
DTSTAMP:20260421T170645
CREATED:20230309T043338Z
LAST-MODIFIED:20230309T043338Z
UID:34460-1678388400-1678665540@notoriousjazz.com
SUMMARY:ERIC REED
DESCRIPTION:Eric Reed – piano\nChris Lewis – saxophone\nDezron Douglas – bass\nKendrick Scott – drums \nEric Reed celebrates the release of his inspiring new album Black\, Brown\, and Blue\, which features a program of compositions written by composers of color. It includes works by jazz masters such as Duke Ellington\, Thelonious Monk\, McCoy Tyner\, Wayne Shorter\, Benny Golson\, Horace Silver\, Buddy Collette\, and Buster Williams\, along with jazz-conversant pop/R&B songwriters Stevie Wonder and Bill Withers. Reed calls Black\, Brown\, and Blue\, “the culmination of my life thus far. I’m freer than I’ve ever been in my personal life\, and I’m freer than I’ve ever been in my music. I’m accepting who I am. I love who I am. And as I continue to evolve – my artistry\, my sexuality\, and my overall humanity – my music will continue to become more and more personal.” A widely respected and popular musician and mentor\, he first rose to fame with Wynton Marsalis and has performed with artists as varied as Jessye Norman\, Quincy Jones\, and Patti Labelle. His perpetually swinging and sophisticated style has made him one of the important ambassadors of the music.
URL:https://notoriousjazz.com/event/eric-reed
LOCATION:Smoke Jazz & Supper Club\, 2751 Broadway\, New York City\, NY\, 10025\, United States
CATEGORIES:Club
ATTACH;FMTTYPE=image/jpeg:https://notoriousjazz.com/wp-content/uploads/2023/03/ERIC-REED.jpg
END:VEVENT
END:VCALENDAR