BEGIN:VCALENDAR
VERSION:2.0
PRODID:-//Notorious Jazz - ECPv6.15.17//NONSGML v1.0//EN
CALSCALE:GREGORIAN
METHOD:PUBLISH
X-WR-CALNAME:Notorious Jazz
X-ORIGINAL-URL:https://notoriousjazz.com
X-WR-CALDESC:Events for Notorious Jazz
REFRESH-INTERVAL;VALUE=DURATION:PT1H
X-Robots-Tag:noindex
X-PUBLISHED-TTL:PT1H
BEGIN:VTIMEZONE
TZID:America/New_York
BEGIN:DAYLIGHT
TZOFFSETFROM:-0500
TZOFFSETTO:-0400
TZNAME:EDT
DTSTART:20220313T070000
END:DAYLIGHT
BEGIN:STANDARD
TZOFFSETFROM:-0400
TZOFFSETTO:-0500
TZNAME:EST
DTSTART:20221106T060000
END:STANDARD
BEGIN:DAYLIGHT
TZOFFSETFROM:-0500
TZOFFSETTO:-0400
TZNAME:EDT
DTSTART:20230312T070000
END:DAYLIGHT
BEGIN:STANDARD
TZOFFSETFROM:-0400
TZOFFSETTO:-0500
TZNAME:EST
DTSTART:20231105T060000
END:STANDARD
BEGIN:DAYLIGHT
TZOFFSETFROM:-0500
TZOFFSETTO:-0400
TZNAME:EDT
DTSTART:20240310T070000
END:DAYLIGHT
BEGIN:STANDARD
TZOFFSETFROM:-0400
TZOFFSETTO:-0500
TZNAME:EST
DTSTART:20241103T060000
END:STANDARD
END:VTIMEZONE
BEGIN:VEVENT
DTSTART;TZID=America/New_York:20230313T200000
DTEND;TZID=America/New_York:20230313T233000
DTSTAMP:20260421T184239
CREATED:20230307T230120Z
LAST-MODIFIED:20230307T232504Z
UID:34402-1678737600-1678750200@notoriousjazz.com
SUMMARY:VANGUARD JAZZ ORCHESTRA
DESCRIPTION:The Vanguard Jazz Orchestra began its life as the Thad Jones/Mel Lewis Orchestra in 1966.The world-famous Village Vanguard jazz club in New York City booked the newly formed band for three Monday nights that February. Those performances were wildly successful and the engagement was extended indefinitely. The Village Vanguard’s owner\, Max Gordon\, told Mel Lewis\, “We’ll keep it going until it tapers off.” Over half a century and more than 2700 Monday nights later\, it still hasn’t. The Vanguard Jazz Orchestra stands apart from all other modern ensembles of its kind and is still as strong and vital as ever. \nEVERY MONDAY NIGHT \n\n\n\n\nSAXOPHONES: Dick Oatts (lead alto) Billy Drewes (alto) Rich Perry (tenor) Ralph Lalama (tenor) Gary Smulyan (bari) \nTRUMPETS: Nick Marchione (lead trumpet) John Chudoba\, Terell Stafford\, Scott Wendholt \nTROMBONES: Marshall Gilkes (lead trombone) Jason Jackson\, Dion Tucker\, Douglas Purviance (bass trombone) \nRHYTHM SECTION: Adam Birnbaum (piano) David Wong (bass) John Riley (drums) \nTwo Sets ~ 8:00pm | 10:00pm
URL:https://notoriousjazz.com/event/vanguard-jazz-orchestra
LOCATION:Village Vanguard\, 178 7th Avenue S\, New York City\, NY\, 10014\, United States
CATEGORIES:Club
ATTACH;FMTTYPE=image/jpeg:https://notoriousjazz.com/wp-content/uploads/2023/03/VANGUARD-JAZZ-ORCHESTRA-1.jpg
END:VEVENT
END:VCALENDAR