BEGIN:VCALENDAR
VERSION:2.0
PRODID:-//Notorious Jazz - ECPv6.15.17//NONSGML v1.0//EN
CALSCALE:GREGORIAN
METHOD:PUBLISH
X-ORIGINAL-URL:https://notoriousjazz.com
X-WR-CALDESC:Events for Notorious Jazz
REFRESH-INTERVAL;VALUE=DURATION:PT1H
X-Robots-Tag:noindex
X-PUBLISHED-TTL:PT1H
BEGIN:VTIMEZONE
TZID:America/New_York
BEGIN:DAYLIGHT
TZOFFSETFROM:-0500
TZOFFSETTO:-0400
TZNAME:EDT
DTSTART:20220313T070000
END:DAYLIGHT
BEGIN:STANDARD
TZOFFSETFROM:-0400
TZOFFSETTO:-0500
TZNAME:EST
DTSTART:20221106T060000
END:STANDARD
BEGIN:DAYLIGHT
TZOFFSETFROM:-0500
TZOFFSETTO:-0400
TZNAME:EDT
DTSTART:20230312T070000
END:DAYLIGHT
BEGIN:STANDARD
TZOFFSETFROM:-0400
TZOFFSETTO:-0500
TZNAME:EST
DTSTART:20231105T060000
END:STANDARD
BEGIN:DAYLIGHT
TZOFFSETFROM:-0500
TZOFFSETTO:-0400
TZNAME:EDT
DTSTART:20240310T070000
END:DAYLIGHT
BEGIN:STANDARD
TZOFFSETFROM:-0400
TZOFFSETTO:-0500
TZNAME:EST
DTSTART:20241103T060000
END:STANDARD
END:VTIMEZONE
BEGIN:VTIMEZONE
TZID:America/Los_Angeles
BEGIN:DAYLIGHT
TZOFFSETFROM:-0800
TZOFFSETTO:-0700
TZNAME:PDT
DTSTART:20220313T100000
END:DAYLIGHT
BEGIN:STANDARD
TZOFFSETFROM:-0700
TZOFFSETTO:-0800
TZNAME:PST
DTSTART:20221106T090000
END:STANDARD
BEGIN:DAYLIGHT
TZOFFSETFROM:-0800
TZOFFSETTO:-0700
TZNAME:PDT
DTSTART:20230312T100000
END:DAYLIGHT
BEGIN:STANDARD
TZOFFSETFROM:-0700
TZOFFSETTO:-0800
TZNAME:PST
DTSTART:20231105T090000
END:STANDARD
BEGIN:DAYLIGHT
TZOFFSETFROM:-0800
TZOFFSETTO:-0700
TZNAME:PDT
DTSTART:20240310T100000
END:DAYLIGHT
BEGIN:STANDARD
TZOFFSETFROM:-0700
TZOFFSETTO:-0800
TZNAME:PST
DTSTART:20241103T090000
END:STANDARD
END:VTIMEZONE
BEGIN:VEVENT
DTSTART;TZID=America/New_York:20230323T190000
DTEND;TZID=America/New_York:20230326T230000
DTSTAMP:20260421T184411
CREATED:20230309T150554Z
LAST-MODIFIED:20230309T150554Z
UID:34475-1679598000-1679871600@notoriousjazz.com
SUMMARY:BOBBY WATSON QUINTET
DESCRIPTION:“Back Home In  Kansas City” Record Release \nBobby Watson – alto saxophone\nWallace Roney Jr – trumpet\nCyrus Chestnut – piano\nCurtis Lundy – bass\nVictor Jones – drums \nAlto saxophonist Bobby Watson\, one of the most acclaimed and beloved artists of the last 40+ years\, returns to New York City and Smoke to celebrate belatedly the 2022 release of his latest record Back Home in Kansas City with the stellar rhythm section featured on it including pianist Cyrus Chestnut\, bassist Curtis Lundy\, and drummer Victor Jones with the special addition here of trumpeter Wallace Roney Jr. Audiophile Audition recommends this album for listeners who “love Cannonball Adderley\, and the soulfulness of Gene Ammons and Sonny Stitt\, and hearing church gospel roots with blues influences.” \nLIVESTREAM ~$15.00 + fees
URL:https://notoriousjazz.com/event/bobby-watson-quintet
LOCATION:Smoke Jazz & Supper Club\, 2751 Broadway\, New York City\, NY\, 10025\, United States
CATEGORIES:Club
ATTACH;FMTTYPE=image/png:https://notoriousjazz.com/wp-content/uploads/2023/03/BOBBY-WATSON.png
END:VEVENT
BEGIN:VEVENT
DTSTART;TZID=America/New_York:20230324T200000
DTEND;TZID=America/New_York:20230325T220000
DTSTAMP:20260421T184411
CREATED:20230128T231726Z
LAST-MODIFIED:20230128T232249Z
UID:33913-1679688000-1679781600@notoriousjazz.com
SUMMARY:ROSA PASSOS
DESCRIPTION:It’s the return of Brazilian vocalist and guitarist in The Appel Room since her sold-out performance in 2016. \nRosa Passos with Kenny Barron and Ron Carter brings the iconic Brazilian vocalist and guitarist to the Appel Room for the first time since her sold-out 2016 appearance with NEA Jazz Master pianist Kenny Barron. Their spellbinding simpatico will be enhanced by Passos’ reunion with Ron Carter—also an NEA Jazz Master who bass virtuoso Stanley Clarke once described “as the most important bass player of the last fifty years.”—after their lauded 2003 “Entre Amigos” album. While Passos has been called the “female João Gilberto” she is a prolific and distinct vocalist and guitarist with a playful yet sophisticated style\, marked by perfect pitch and spacious elegance. Enhancing this first-ever meeting of these three masters is first-call Brazilian drummer\, Rafael Barata. \nYou can purchase the 9:30 performances on March 24 and 25 as part of the 9:30 in The Appel Room series – three 9:30 Appel Room shows for $99 (including fees) for any seat in the house while seats are available. Your Appel Room ticket stub can be used for a free cover to that evening’s Dizzy’s Late Night Session \nFriday 3/24 @ 7:00pm | $115.50~$135.50 / @ 9:30pm – $70.50~90.50 \nSaturday @ 7:00pm | $115.50~$135.50 / @ 9:30pm – $75.50~95.50
URL:https://notoriousjazz.com/event/rosa-passos
LOCATION:The Appel Room | Jazz At Lincoln Center\, 10 Columbus Circle\, New York City\, NY\, 10019\, United States
CATEGORIES:Concert
ATTACH;FMTTYPE=image/jpeg:https://notoriousjazz.com/wp-content/uploads/2023/01/ROSA-PASSOS.jpeg
END:VEVENT
BEGIN:VEVENT
DTSTART;TZID=America/New_York:20230325T190000
DTEND;TZID=America/New_York:20230325T230000
DTSTAMP:20260421T184411
CREATED:20230307T234404Z
LAST-MODIFIED:20230307T234404Z
UID:34413-1679770800-1679785200@notoriousjazz.com
SUMMARY:BOBBY BROOM
DESCRIPTION:Harlem born\, New York City raised\, Bobby Broom has been heralded as “one of the most musical guitarists of our time” by jazz historian and author\, Ted Gioia. Playing Carnegie Hall with Sonny Rollins and Donald Byrd at age 16\, Broom recorded his debut as a leader\, “Clean Sweep\,” for GRP Records at age 20. He’s played and /or recorded with Kenny Burrell\, Hugh Masakela\, Art Blakey’s Jazz Messengers\, Stanley Turrentine\, Dave Grusin\, Charles Earland\, Miles Davis\, Kenny Garrett and Dr. John\, among others. Broom has been recognized as one of the top guitarists by Down Beat magazine’s annual Reader’s Poll in 2015 & 2020\, as well as their Critics Poll for four years\, from 2012-2014 and again in 2017. His latest quartet recording\, “Keyed Up\,” released in late 2022\, is an homage to some of the great pianist/composers in jazz.
URL:https://notoriousjazz.com/event/bobby-broom
LOCATION:The Jazz Kitchen\, 5377 N College Avenue\, Indianapolis\, IN\, 46220\, United States
CATEGORIES:Club
ATTACH;FMTTYPE=image/png:https://notoriousjazz.com/wp-content/uploads/2023/03/BOBBY-BROOM.png
END:VEVENT
BEGIN:VEVENT
DTSTART;TZID=America/New_York:20230325T190000
DTEND;TZID=America/New_York:20230326T230000
DTSTAMP:20260421T184411
CREATED:20230128T193631Z
LAST-MODIFIED:20230128T203706Z
UID:33856-1679770800-1679871600@notoriousjazz.com
SUMMARY:TIERNEY SUTTON
DESCRIPTION:“Ms. Sutton is a pure jazz spirit who respects a song. Even when going out on an improvisatory limb\, she never lets its essence slip away.” — The New York Times \nAn 9-time Grammy nominee\, Tierney Sutton has received 8 Nominations for “Best Jazz Vocal Album” as well as a 9th for arranging. Known for her impeccable voice and superbly imaginative arrangements\, Sutton is heralded for her ability to transform even the most familiar song into a revelation. She is a story-teller. \nHer 15 recordings as leader have addressed themes such as materialism and the pursuit of happiness as well as paying tribute to the music of Bill Evans\, Frank Sinatra and Sting. Her 2013 Joni Mitchell tribute\, “After Blue” featured NEA Jazz Master Hubert Laws as well as jazz vocal legend Al Jarreau. Her latest album\, “Paris Sessions 2” features Serge Merlaud\, Kevin Axt and Hubert Laws. The pandemic found Tierney deepening her collaboration with piano powerhouse Tamir Hendelman. This exciting duo has an album in the works. Director Clint Eastwood has called Sutton “my favorite singer”and hired her\, along with TSB pianist Christian Jacob and The Tierney Sutton Band to score his 2016 film\, “Sully.” \nSince 1993 Sutton has fronted The Tierney Sutton Band which has featured instrumental virtuosos Christian Jacob\, Trey Henry\, Kevin Axt and Ray Brinker. After 29 years together with the same personnel\, Tierney has recently opened the band to exciting new members\, yet retaining the same creative\, united energy that has fueled the last 3 decades. \nSaturday 3/25 ~ 7:00 pm  & 9:30 pm | $35~$45 + fee\nSunday 3/26 5:00 pm & 7:30 pm  | $35~45 + fee \nStreaming Pass: 5:00pm & 7:00pm Only | $10.00 + fee
URL:https://notoriousjazz.com/event/tierney-sutton-2
LOCATION:Keystone Korner Baltimore\, 1350 Lancaster Street\, Baltimore\, MD\, 21231\, United States
CATEGORIES:Club
ATTACH;FMTTYPE=image/jpeg:https://notoriousjazz.com/wp-content/uploads/2023/01/TIERNEY-SUTTON.jpg
END:VEVENT
BEGIN:VEVENT
DTSTART;TZID=America/Los_Angeles:20230325T210000
DTEND;TZID=America/Los_Angeles:20230325T230000
DTSTAMP:20260421T184411
CREATED:20230313T195944Z
LAST-MODIFIED:20230313T195944Z
UID:34563-1679778000-1679785200@notoriousjazz.com
SUMMARY:MACHADO MIJIGA
DESCRIPTION:Multi-instrumentalist and Portland native Machado Mijiga wears many hats\, both literally and metaphorically. Classically-trained\, jazz-weathered\, and eclectically inclined\, Mijiga left the proverbial creative “box” at a very early age\, with access to many instruments and a diverse musical background brought about by an intercultural heritage.\n\n\nMijiga is a musical polymath; composer\, producer\, bandleader\, educator\, gear fanatic\, and audio engineer\, to name a few. Authenticity and uniquity assume the locus of Mijiga’s artistic identity. Self-expression is the prime directive\, and the medium of choice changes like the weather.
URL:https://notoriousjazz.com/event/machado-mijiga
LOCATION:The Jack London Revue\, 529 SW 4th\, Portland\, OR\, 97204\, United States
CATEGORIES:Club
ATTACH;FMTTYPE=image/png:https://notoriousjazz.com/wp-content/uploads/2023/03/MACHADO-MIJIGA.png
END:VEVENT
END:VCALENDAR