BEGIN:VCALENDAR
VERSION:2.0
PRODID:-//Notorious Jazz - ECPv6.15.17//NONSGML v1.0//EN
CALSCALE:GREGORIAN
METHOD:PUBLISH
X-ORIGINAL-URL:https://notoriousjazz.com
X-WR-CALDESC:Events for Notorious Jazz
REFRESH-INTERVAL;VALUE=DURATION:PT1H
X-Robots-Tag:noindex
X-PUBLISHED-TTL:PT1H
BEGIN:VTIMEZONE
TZID:America/New_York
BEGIN:DAYLIGHT
TZOFFSETFROM:-0500
TZOFFSETTO:-0400
TZNAME:EDT
DTSTART:20220313T070000
END:DAYLIGHT
BEGIN:STANDARD
TZOFFSETFROM:-0400
TZOFFSETTO:-0500
TZNAME:EST
DTSTART:20221106T060000
END:STANDARD
BEGIN:DAYLIGHT
TZOFFSETFROM:-0500
TZOFFSETTO:-0400
TZNAME:EDT
DTSTART:20230312T070000
END:DAYLIGHT
BEGIN:STANDARD
TZOFFSETFROM:-0400
TZOFFSETTO:-0500
TZNAME:EST
DTSTART:20231105T060000
END:STANDARD
BEGIN:DAYLIGHT
TZOFFSETFROM:-0500
TZOFFSETTO:-0400
TZNAME:EDT
DTSTART:20240310T070000
END:DAYLIGHT
BEGIN:STANDARD
TZOFFSETFROM:-0400
TZOFFSETTO:-0500
TZNAME:EST
DTSTART:20241103T060000
END:STANDARD
END:VTIMEZONE
BEGIN:VTIMEZONE
TZID:America/Los_Angeles
BEGIN:DAYLIGHT
TZOFFSETFROM:-0800
TZOFFSETTO:-0700
TZNAME:PDT
DTSTART:20220313T100000
END:DAYLIGHT
BEGIN:STANDARD
TZOFFSETFROM:-0700
TZOFFSETTO:-0800
TZNAME:PST
DTSTART:20221106T090000
END:STANDARD
BEGIN:DAYLIGHT
TZOFFSETFROM:-0800
TZOFFSETTO:-0700
TZNAME:PDT
DTSTART:20230312T100000
END:DAYLIGHT
BEGIN:STANDARD
TZOFFSETFROM:-0700
TZOFFSETTO:-0800
TZNAME:PST
DTSTART:20231105T090000
END:STANDARD
BEGIN:DAYLIGHT
TZOFFSETFROM:-0800
TZOFFSETTO:-0700
TZNAME:PDT
DTSTART:20240310T100000
END:DAYLIGHT
BEGIN:STANDARD
TZOFFSETFROM:-0700
TZOFFSETTO:-0800
TZNAME:PST
DTSTART:20241103T090000
END:STANDARD
END:VTIMEZONE
BEGIN:VEVENT
DTSTART;TZID=America/New_York:20230412T183000
DTEND;TZID=America/New_York:20230415T220000
DTSTAMP:20260421T171602
CREATED:20230331T000655Z
LAST-MODIFIED:20230331T000739Z
UID:34784-1681324200-1681596000@notoriousjazz.com
SUMMARY:GENE DUNLAP
DESCRIPTION:Gene Dunlap is a diverse “Grammy Award Nominated” musician. His music is a combination of late night groove\, contemporary jazz and smooth R&B. He manages to have fun with his music while retaining his artistic integrity. Dunlap is an artist for our time that continues to grow and serve the public through his love of music. \nSEATING TIMES:\nWednesday – Thursday\n1 Seating $10 Cover Per Person\nSeating: 6:00pm-8:30pm\nBand Performs: 7:00pm-8:30pm \nFriday – Saturday\n2 Seatings $15 Cover Per Person\n1st Seating: 6:00pm-8:00pm\nBand Performs: 6:30pm-7:30pm\n2nd Seating: 8:30pm-10:30pm\nBand Performs: 9:00pm-10:00pm
URL:https://notoriousjazz.com/event/gene-dunlap
LOCATION:Dirty Dog Jazz Cafe\, 97 Kercheval Avenue\, Grosse Pointe Farms\, MI\, 48236\, United States
CATEGORIES:Club
ATTACH;FMTTYPE=image/jpeg:https://notoriousjazz.com/wp-content/uploads/2023/03/GENE-DUNLAP.jpg
END:VEVENT
BEGIN:VEVENT
DTSTART;TZID=America/New_York:20230413T190000
DTEND;TZID=America/New_York:20230416T230000
DTSTAMP:20260421T171602
CREATED:20230309T153924Z
LAST-MODIFIED:20230409T171841Z
UID:34493-1681412400-1681686000@notoriousjazz.com
SUMMARY:BUSTER WILLIAMS & SOMETHING MORE
DESCRIPTION:“UNALONE” Record Release \nBruce Williams – alto saxophone\nStefon Harris – vibraphone\nGeorge Colligan – piano\nBuster Williams – bass\nLenny White – drums \nBassist Buster Williams celebrates the release of his exciting new album\, Unalome (Smoke Sessions)\, accompanied by his acclaimed quintet\, Something More. This well-known and beloved ensemble features vibraphonist Stefon Harris\, saxophonist Bruce Williams\, pianist George Colligan\, as well as fellow music legend\, drummer Lenny White. The Guardian calls Williams “one of the great acoustic bassists\,” and JazzTimes adds “Williams’ résumé ranks with that of any bassist in the modern era.” That resume includes working with Gene Ammons and Sonny Stitt when he was only 17; backing the singing legends Betty Carter\, Sarah Vaughan\, and Nancy Wilson in the ’60s; anchoring Herbie Hancock’s Mwandishi sextet into the ’70s; and co-founding the Timeless All-Stars and Sphere after that. As important as he is as a bassist\, he is also well-known as a composer and bandleader. The New Yorker hails his music as “modern\, mainstream at its best.” \nLiveStream: $15.00 + fees
URL:https://notoriousjazz.com/event/buster-williams-something-more-2
LOCATION:Smoke Jazz & Supper Club\, 2751 Broadway\, New York City\, NY\, 10025\, United States
CATEGORIES:Club
ATTACH;FMTTYPE=image/jpeg:https://notoriousjazz.com/wp-content/uploads/2023/03/BUSTER-WILLIAMS.jpg
END:VEVENT
BEGIN:VEVENT
DTSTART;TZID=America/New_York:20230415T190000
DTEND;TZID=America/New_York:20230415T230000
DTSTAMP:20260421T171602
CREATED:20230410T152918Z
LAST-MODIFIED:20230410T152918Z
UID:34911-1681585200-1681599600@notoriousjazz.com
SUMMARY:HARLEM JAZZ CLUB REVIVAL FESTIVAL
DESCRIPTION:BILL SAXTON & THE HARLEM ALL-STARS | BILL’S PLACE (JAZZ)\, 148 W 133rd Street | 7:00pm & 9:00pm \n\n\nPATRICK’S PLACE (BLUES) VICTOR JONESTRIO FEAT ALEX BLAKE & ROBERTA PIKET! | 2835 Frederick Douglass Boulevard | 7:00pm ~ 11:00pm \n\n\nRICK ANTHONY W/COTTON CLUB ALL STARS | COTTON CLUB (BIG BAND)\, 656 W 125TH Street | 7:00pm ~ 11:00pm \n\n\nBRUFF DA CROWD PLEASER (FUNK\, HIP HOP\, SOUL) | DINOSAUR BBQ (SOUL/R&B)\, 700 W 125th Street | 8:00pm ~ 11:00pm
URL:https://notoriousjazz.com/event/harlem-jazz-club-revival-festival-2
LOCATION:FL
CATEGORIES:Club,Festival
ATTACH;FMTTYPE=image/jpeg:https://notoriousjazz.com/wp-content/uploads/2023/04/HARLEM-JAZZ-CLUB-REVIVAL-FESTIVAL.jpg
END:VEVENT
BEGIN:VEVENT
DTSTART;TZID=America/Los_Angeles:20230415T193000
DTEND;TZID=America/Los_Angeles:20230415T210000
DTSTAMP:20260421T171602
CREATED:20230313T182247Z
LAST-MODIFIED:20230313T182935Z
UID:34554-1681587000-1681592400@notoriousjazz.com
SUMMARY:EUGENIE JONES
DESCRIPTION:with Saxophonist Maureese Itson\, pianist Nick Allison\, bassist James Clark\, drummer John Oliver \nSinger/Songwriter Eugenie Jones is an exceptional vocalist and cleverly gifted lyricist who has released highly-praised\, primarily original\, vocal projects. Her current release – Players – was a Best Jazz Vocal Album Grammy® contender and internationally ranked #7 on Jazz Week’s top 50 charts. Jones is additionally an Earshot Jazz Vocalist of the Year award recipient and the first vocal recording artist to receive Earshot’s Recording of the Year Golden Ear award. \nA warm\, engaging entertainer\, she’s described by critics as an artist that “can make you feel jazz\,” and she and her recordings have received favorable coverage in every major jazz publication\, including DownBeat\, JazzTimes\, JazzIz\, The Gazette/NY\, and many others. Described as a “deft vocalist\,” Jones has also proven to be a skillful songwriter\, releasing 29 originals on her recordings.
URL:https://notoriousjazz.com/event/eugenie-jones
LOCATION:The Royal Room\, 5000 Rainier Avenue S\,\, Seattle\, WA\, 98118\, United States
CATEGORIES:Club
ATTACH;FMTTYPE=image/jpeg:https://notoriousjazz.com/wp-content/uploads/2023/03/EUGENIE-JONES.jpg
END:VEVENT
BEGIN:VEVENT
DTSTART;TZID=America/New_York:20230415T200000
DTEND;TZID=America/New_York:20230415T213000
DTSTAMP:20260421T171602
CREATED:20230210T010713Z
LAST-MODIFIED:20230210T010857Z
UID:34090-1681588800-1681594200@notoriousjazz.com
SUMMARY:ANDERSON BROTHERS PLAY BENNY GOODMAN
DESCRIPTION:Hailed as “virtuosos on clarinet and saxophone” by the New York Times\, Peter & Will Anderson have performed concerts together since the age of 9. They’re Juilliard graduates\, and have performed on Broadway\, Carnegie Hall\, The Kennedy Center\, the New Orleans Jazz Festival\, can be heard on the Grammy winning soundtrack to HBO’s Boardwalk Empire with Vince Giordano’s Nighthawks\, and received a Drama Desk Nomination for their Off-Broadway Production “Le Jazz Hot” in 2012. They can be seen and heard as saxophonists in the upcoming Martin Scorsese film\, “Killers of the Flower Moon.” Aside from leading performances in over 45 U.S. States\, Japan\, Brazil\, Canada\, and the United Kingdom\, they’ve lectured at over a dozen Universities across the country. \nBAND MEMBERS:Peter Anderson – Tenor Saxophone\, ClarinetWill Anderson – Alto Saxophone\, Clarinet\, Flute
URL:https://notoriousjazz.com/event/anderson-brothers-play-benny-goodman
LOCATION:Arts Garage\, 94 NE 2nd Avenue\, Delray Beach\, FL\, 33444\, United States
CATEGORIES:Concert
ATTACH;FMTTYPE=image/png:https://notoriousjazz.com/wp-content/uploads/2023/02/ANDERSON-BROTHERS.png
END:VEVENT
END:VCALENDAR