BEGIN:VCALENDAR
VERSION:2.0
PRODID:-//Notorious Jazz - ECPv6.15.17//NONSGML v1.0//EN
CALSCALE:GREGORIAN
METHOD:PUBLISH
X-ORIGINAL-URL:https://notoriousjazz.com
X-WR-CALDESC:Events for Notorious Jazz
REFRESH-INTERVAL;VALUE=DURATION:PT1H
X-Robots-Tag:noindex
X-PUBLISHED-TTL:PT1H
BEGIN:VTIMEZONE
TZID:America/New_York
BEGIN:DAYLIGHT
TZOFFSETFROM:-0500
TZOFFSETTO:-0400
TZNAME:EDT
DTSTART:20220313T070000
END:DAYLIGHT
BEGIN:STANDARD
TZOFFSETFROM:-0400
TZOFFSETTO:-0500
TZNAME:EST
DTSTART:20221106T060000
END:STANDARD
BEGIN:DAYLIGHT
TZOFFSETFROM:-0500
TZOFFSETTO:-0400
TZNAME:EDT
DTSTART:20230312T070000
END:DAYLIGHT
BEGIN:STANDARD
TZOFFSETFROM:-0400
TZOFFSETTO:-0500
TZNAME:EST
DTSTART:20231105T060000
END:STANDARD
BEGIN:DAYLIGHT
TZOFFSETFROM:-0500
TZOFFSETTO:-0400
TZNAME:EDT
DTSTART:20240310T070000
END:DAYLIGHT
BEGIN:STANDARD
TZOFFSETFROM:-0400
TZOFFSETTO:-0500
TZNAME:EST
DTSTART:20241103T060000
END:STANDARD
END:VTIMEZONE
BEGIN:VEVENT
DTSTART;TZID=America/New_York:20230413T190000
DTEND;TZID=America/New_York:20230416T230000
DTSTAMP:20260421T153840
CREATED:20230309T153924Z
LAST-MODIFIED:20230409T171841Z
UID:34493-1681412400-1681686000@notoriousjazz.com
SUMMARY:BUSTER WILLIAMS & SOMETHING MORE
DESCRIPTION:“UNALONE” Record Release \nBruce Williams – alto saxophone\nStefon Harris – vibraphone\nGeorge Colligan – piano\nBuster Williams – bass\nLenny White – drums \nBassist Buster Williams celebrates the release of his exciting new album\, Unalome (Smoke Sessions)\, accompanied by his acclaimed quintet\, Something More. This well-known and beloved ensemble features vibraphonist Stefon Harris\, saxophonist Bruce Williams\, pianist George Colligan\, as well as fellow music legend\, drummer Lenny White. The Guardian calls Williams “one of the great acoustic bassists\,” and JazzTimes adds “Williams’ résumé ranks with that of any bassist in the modern era.” That resume includes working with Gene Ammons and Sonny Stitt when he was only 17; backing the singing legends Betty Carter\, Sarah Vaughan\, and Nancy Wilson in the ’60s; anchoring Herbie Hancock’s Mwandishi sextet into the ’70s; and co-founding the Timeless All-Stars and Sphere after that. As important as he is as a bassist\, he is also well-known as a composer and bandleader. The New Yorker hails his music as “modern\, mainstream at its best.” \nLiveStream: $15.00 + fees
URL:https://notoriousjazz.com/event/buster-williams-something-more-2
LOCATION:Smoke Jazz & Supper Club\, 2751 Broadway\, New York City\, NY\, 10025\, United States
CATEGORIES:Club
ATTACH;FMTTYPE=image/jpeg:https://notoriousjazz.com/wp-content/uploads/2023/03/BUSTER-WILLIAMS.jpg
END:VEVENT
BEGIN:VEVENT
DTSTART;TZID=America/New_York:20230416T121500
DTEND;TZID=America/New_York:20230416T230000
DTSTAMP:20260421T153840
CREATED:20230410T154005Z
LAST-MODIFIED:20230410T154030Z
UID:34913-1681647300-1681686000@notoriousjazz.com
SUMMARY:HARLEM JAZZ CLUB REVIVAL FESTIVAL
DESCRIPTION:SING HARLEM CHOIR | Red Rooster Harlem\, 310 Lenox Avenue | 12:15pm ~ 1:45pm \n\n\nSUNDAY JAZZ BRUNCH WITH BONCELLIA LEWIS | PATRICK’S PLACE (JAZZ)\, 2835 Frederick Douglass Boulevard | 1:00pm ~ 4:00pm \n\n\nSOUL POWER BAND\, NYC W/C. KELLY WRIGHT | HARLEM SHAKE:(Soul)\, 100 W 124th Street | 3:00pm ~ 6:00pm \n\n\nTHE NATE LUCAS ALL-STARS | RED ROOSTER (Organ Jazz)\, 310 Lenox Avenue | 5:00pm ~ 8:00pm \n\n\nTHE SELENO CLARKE TRIBUTE BAND | AMERICAN LEGION POST 398\, 248 W 132nd Street | 6:00pm ~ 10:00pm \n\n\nJAM AND JAZZ W/MIMI JONES & FRIENDS | Room 623\, 271 W 119th Street | 8:00pm ~ 11:00pm
URL:https://notoriousjazz.com/event/harlem-jazz-club-revival-festival-3
LOCATION:FL
CATEGORIES:Club,Festival
ATTACH;FMTTYPE=image/jpeg:https://notoriousjazz.com/wp-content/uploads/2023/04/HARLEM-JAZZ-CLUB-REVIVAL-FESTIVAL.jpg
END:VEVENT
BEGIN:VEVENT
DTSTART;TZID=America/New_York:20230416T200000
DTEND;TZID=America/New_York:20230416T220000
DTSTAMP:20260421T153840
CREATED:20230317T171931Z
LAST-MODIFIED:20230317T171931Z
UID:34599-1681675200-1681682400@notoriousjazz.com
SUMMARY:ELIANE ELIAS
DESCRIPTION:Hot off her 2022 GRAMMY® win for Best Latin Jazz Album for Mirror Mirror\, (also recently nominated for a Latin GRAMMY®) internationally acclaimed recording artist\, pianist\, singer\, composer and arranger Eliane Elias’ distinctive musical style and artistry is one of the most celebrated and recognizable sounds in jazz and Brazilian music.  She blends her Brazilian roots and alluring voice with her virtuosic instrumental jazz\, her classical and compositional skills\, while she consistently displays her pianistic mastery and ability to integrate the many artistic roles she takes on.
URL:https://notoriousjazz.com/event/eliane-elias-2
LOCATION:City Winery Atlanta\, Ponce City Market\, 650 North Avenue NE\, Atlanta\, GA\, 30308\, United States
CATEGORIES:Club
ATTACH;FMTTYPE=image/png:https://notoriousjazz.com/wp-content/uploads/2023/03/ELIANE-ELIAS.png
END:VEVENT
END:VCALENDAR