BEGIN:VCALENDAR
VERSION:2.0
PRODID:-//Notorious Jazz - ECPv6.15.17//NONSGML v1.0//EN
CALSCALE:GREGORIAN
METHOD:PUBLISH
X-WR-CALNAME:Notorious Jazz
X-ORIGINAL-URL:https://notoriousjazz.com
X-WR-CALDESC:Events for Notorious Jazz
REFRESH-INTERVAL;VALUE=DURATION:PT1H
X-Robots-Tag:noindex
X-PUBLISHED-TTL:PT1H
BEGIN:VTIMEZONE
TZID:America/New_York
BEGIN:DAYLIGHT
TZOFFSETFROM:-0500
TZOFFSETTO:-0400
TZNAME:EDT
DTSTART:20220313T070000
END:DAYLIGHT
BEGIN:STANDARD
TZOFFSETFROM:-0400
TZOFFSETTO:-0500
TZNAME:EST
DTSTART:20221106T060000
END:STANDARD
BEGIN:DAYLIGHT
TZOFFSETFROM:-0500
TZOFFSETTO:-0400
TZNAME:EDT
DTSTART:20230312T070000
END:DAYLIGHT
BEGIN:STANDARD
TZOFFSETFROM:-0400
TZOFFSETTO:-0500
TZNAME:EST
DTSTART:20231105T060000
END:STANDARD
BEGIN:DAYLIGHT
TZOFFSETFROM:-0500
TZOFFSETTO:-0400
TZNAME:EDT
DTSTART:20240310T070000
END:DAYLIGHT
BEGIN:STANDARD
TZOFFSETFROM:-0400
TZOFFSETTO:-0500
TZNAME:EST
DTSTART:20241103T060000
END:STANDARD
END:VTIMEZONE
BEGIN:VEVENT
DTSTART;TZID=America/New_York:20230417T180000
DTEND;TZID=America/New_York:20230417T233000
DTSTAMP:20260421T153619
CREATED:20230410T154921Z
LAST-MODIFIED:20230410T154921Z
UID:34915-1681754400-1681774200@notoriousjazz.com
SUMMARY:HARLEM JAZZ CLUB REVIVAL FESTIVAL
DESCRIPTION:PHIL’S HOUSE OF BLUES | SILVANA (AUTHENTIC BLUES)\, 300 W 116th Street | 6:00pm ~ 10:00pm \n\n\n\n\n\nMANNY’S BOOGALOO CREW | NEW AMSTERDAM MUSICAL ASSN\, 107 W 130th Street | 7:00pm ~ 11:00pm \n\n\n\n\nOMAR EDWARDS MUSIC | THE SHRINE (TAP MUSICIAN)\, 2271 Adam Clayton Powell Jr. Boulevard | 8:00pm ~ 9:30pm \n\n\n\n\nTHE CHILD SUPPORT BAND | HARLEM NIGHTS (OPEN MIC)\, 2361 Adam Clayton Powell Jr. Boulevard | 8:00pm ~ 11:00pm \n\n\n\n\nTHE HARMONY EXPERIENCE| THE SHRINE (FUNK & SOUL)\, 2271 Adam Clayton Powell Jr. Boulevard | 10:00pm ~ 11:30pm \n\n\n\n 
URL:https://notoriousjazz.com/event/harlem-jazz-club-revival-festival-4
LOCATION:FL
CATEGORIES:Club,Festival
ATTACH;FMTTYPE=image/jpeg:https://notoriousjazz.com/wp-content/uploads/2023/04/HARLEM-JAZZ-CLUB-REVIVAL-FESTIVAL.jpg
END:VEVENT
END:VCALENDAR