BEGIN:VCALENDAR
VERSION:2.0
PRODID:-//Notorious Jazz - ECPv6.15.17//NONSGML v1.0//EN
CALSCALE:GREGORIAN
METHOD:PUBLISH
X-ORIGINAL-URL:https://notoriousjazz.com
X-WR-CALDESC:Events for Notorious Jazz
REFRESH-INTERVAL;VALUE=DURATION:PT1H
X-Robots-Tag:noindex
X-PUBLISHED-TTL:PT1H
BEGIN:VTIMEZONE
TZID:America/New_York
BEGIN:DAYLIGHT
TZOFFSETFROM:-0500
TZOFFSETTO:-0400
TZNAME:EDT
DTSTART:20220313T070000
END:DAYLIGHT
BEGIN:STANDARD
TZOFFSETFROM:-0400
TZOFFSETTO:-0500
TZNAME:EST
DTSTART:20221106T060000
END:STANDARD
BEGIN:DAYLIGHT
TZOFFSETFROM:-0500
TZOFFSETTO:-0400
TZNAME:EDT
DTSTART:20230312T070000
END:DAYLIGHT
BEGIN:STANDARD
TZOFFSETFROM:-0400
TZOFFSETTO:-0500
TZNAME:EST
DTSTART:20231105T060000
END:STANDARD
BEGIN:DAYLIGHT
TZOFFSETFROM:-0500
TZOFFSETTO:-0400
TZNAME:EDT
DTSTART:20240310T070000
END:DAYLIGHT
BEGIN:STANDARD
TZOFFSETFROM:-0400
TZOFFSETTO:-0500
TZNAME:EST
DTSTART:20241103T060000
END:STANDARD
END:VTIMEZONE
BEGIN:VEVENT
DTSTART;TZID=America/New_York:20230418T190000
DTEND;TZID=America/New_York:20230418T210000
DTSTAMP:20260421T171356
CREATED:20230324T004023Z
LAST-MODIFIED:20230324T124822Z
UID:34706-1681844400-1681851600@notoriousjazz.com
SUMMARY:JEREMEY POPARAD JAZZ ORCHESTRA
DESCRIPTION:Jeremey Poparad brings his jazz orchestra back to The Bop Stop for a special birthday concert! Tickets to attend this show are $15 each for the general public. CSU students can attend for free with student ID. This event will not be livestreamed. \n\n\nTo celebrate his 40th\, Jeremey has called upon his friends in the Norhteast Ohio jazz scene for an evening of all original compositions and arrangemenets by Jeremey as well as Andrew Wegierski of the Danjo Jazz Orchestra and Bryan Kennard\, director of The Bop Stop. The evening will feature two special guest vocalists from groups that Jeremey performs with: Bassel Almadani from Bassel and the Supernaturals and Heidi Swinford of Axon-Neuron. The band for the evening includes: \nFlute: Bryan Kennard \nSaxophones: Chris Coles\, Nathan-Paul Davis\, AJ Kluth\, BJ Quimby\, Brad Wagner \nTrumpets: Tim Coyne\, Garret Folgler\, Mark Russo\, Tommy Lehman \nTrombones: BJ Bishop\, Eric Dregne\, Mark Mauldin\, Andrew Wegierski \nRhythm: Andru Dennis\, piano; Jeremey Poparad\, guitar; Kevin Martinez\, bass; Anthony Taddeo\, drums
URL:https://notoriousjazz.com/event/jeremey-poparad-jazz-orchestra
LOCATION:Bop Stop At The Settlement\, 2920 Detroit Avenue\, Cleveland\, OH\, 44133\, United States
CATEGORIES:Club
ATTACH;FMTTYPE=image/jpeg:https://notoriousjazz.com/wp-content/uploads/2023/03/JEREMY-POPARAD.jpg
END:VEVENT
BEGIN:VEVENT
DTSTART;TZID=America/New_York:20230418T193000
DTEND;TZID=America/New_York:20230418T230000
DTSTAMP:20260421T171356
CREATED:20230410T155611Z
LAST-MODIFIED:20230410T155611Z
UID:34917-1681846200-1681858800@notoriousjazz.com
SUMMARY:HARLEM JAZZ CLUB REVIVAL FESTIVAL
DESCRIPTION:JAZZ HISTORY TREE™ (PRESENTATION & PANEL) | NEW AMSTERDAM MUSICAL ASSN\, 107 W 130th Street | 7:30pm ~ 9:00pm \n\n\n\n\n\n\nREGGIE WORKMAN PRESENTS | New Amsterdam Musical Association\, 107 W 130th Street | 9:00pm ~ 10:30pm \n\n\n\n\n\n\nOPEN MIC @ THE SHRINE | Shrine Bar Restaurant / World Music \, 2271 Adam Clayton Powell Jr Blvd\, Unit 133 | 9:00pm ~ 11:00pm
URL:https://notoriousjazz.com/event/harlem-jazz-club-revival-festival-5
LOCATION:FL
CATEGORIES:Club,Festival
ATTACH;FMTTYPE=image/jpeg:https://notoriousjazz.com/wp-content/uploads/2023/04/HARLEM-JAZZ-CLUB-REVIVAL-FESTIVAL.jpg
END:VEVENT
END:VCALENDAR