BEGIN:VCALENDAR
VERSION:2.0
PRODID:-//Notorious Jazz - ECPv6.15.17//NONSGML v1.0//EN
CALSCALE:GREGORIAN
METHOD:PUBLISH
X-WR-CALNAME:Notorious Jazz
X-ORIGINAL-URL:https://notoriousjazz.com
X-WR-CALDESC:Events for Notorious Jazz
REFRESH-INTERVAL;VALUE=DURATION:PT1H
X-Robots-Tag:noindex
X-PUBLISHED-TTL:PT1H
BEGIN:VTIMEZONE
TZID:America/New_York
BEGIN:DAYLIGHT
TZOFFSETFROM:-0500
TZOFFSETTO:-0400
TZNAME:EDT
DTSTART:20220313T070000
END:DAYLIGHT
BEGIN:STANDARD
TZOFFSETFROM:-0400
TZOFFSETTO:-0500
TZNAME:EST
DTSTART:20221106T060000
END:STANDARD
BEGIN:DAYLIGHT
TZOFFSETFROM:-0500
TZOFFSETTO:-0400
TZNAME:EDT
DTSTART:20230312T070000
END:DAYLIGHT
BEGIN:STANDARD
TZOFFSETFROM:-0400
TZOFFSETTO:-0500
TZNAME:EST
DTSTART:20231105T060000
END:STANDARD
BEGIN:DAYLIGHT
TZOFFSETFROM:-0500
TZOFFSETTO:-0400
TZNAME:EDT
DTSTART:20240310T070000
END:DAYLIGHT
BEGIN:STANDARD
TZOFFSETFROM:-0400
TZOFFSETTO:-0500
TZNAME:EST
DTSTART:20241103T060000
END:STANDARD
END:VTIMEZONE
BEGIN:VTIMEZONE
TZID:America/Chicago
BEGIN:DAYLIGHT
TZOFFSETFROM:-0600
TZOFFSETTO:-0500
TZNAME:CDT
DTSTART:20220313T080000
END:DAYLIGHT
BEGIN:STANDARD
TZOFFSETFROM:-0500
TZOFFSETTO:-0600
TZNAME:CST
DTSTART:20221106T070000
END:STANDARD
BEGIN:DAYLIGHT
TZOFFSETFROM:-0600
TZOFFSETTO:-0500
TZNAME:CDT
DTSTART:20230312T080000
END:DAYLIGHT
BEGIN:STANDARD
TZOFFSETFROM:-0500
TZOFFSETTO:-0600
TZNAME:CST
DTSTART:20231105T070000
END:STANDARD
BEGIN:DAYLIGHT
TZOFFSETFROM:-0600
TZOFFSETTO:-0500
TZNAME:CDT
DTSTART:20240310T080000
END:DAYLIGHT
BEGIN:STANDARD
TZOFFSETFROM:-0500
TZOFFSETTO:-0600
TZNAME:CST
DTSTART:20241103T070000
END:STANDARD
END:VTIMEZONE
BEGIN:VEVENT
DTSTART;TZID=America/New_York:20230419T183000
DTEND;TZID=America/New_York:20230422T220000
DTSTAMP:20260421T184213
CREATED:20230331T004025Z
LAST-MODIFIED:20230414T064154Z
UID:34789-1681929000-1682200800@notoriousjazz.com
SUMMARY:DAVE BENNETT
DESCRIPTION:Dave Bennett doesn’t fit the mold. For starters\, you don’t find many jazz clarinet players who name Alice Cooper\, Stevie Ray Vaughan\, and Chris Isaak among their influences. You won’t find many musicians who are equally conversant with the music of Benny Goodman (the “King of Swing”) and Roy Orbison (“The Soul of Rock and Roll”). In fact\, you may not find even one other clarinet virtuoso who breaks from his Swing Era repertoire to sing rockabilly hits while accompanying himself at the piano or electric guitar. \nSEATING TIMES:\nWednesday – Thursday\n2 Seatings\n1st Seating: 6:00pm-8:00pm\nBand Performs: 6:30pm-7:30pm\n2nd Seating: 8:30pm-10:30pm\nBand Performs: 9:00pm-10:00pm \nFriday – Saturday\n2 Seatings\n1st Seating: 6:00pm-8:00pm\nBand Performs: 6:30pm-7:30pm\n2nd Seating: 8:30pm-10:30pm\nBand Performs: 9:00pm-10:00pm
URL:https://notoriousjazz.com/event/dave-bennett
LOCATION:Dirty Dog Jazz Cafe\, 97 Kercheval Avenue\, Grosse Pointe Farms\, MI\, 48236\, United States
CATEGORIES:Club
ATTACH;FMTTYPE=image/jpeg:https://notoriousjazz.com/wp-content/uploads/2023/03/DAVE-BENNETT.jpg
END:VEVENT
BEGIN:VEVENT
DTSTART;TZID=America/New_York:20230420T190000
DTEND;TZID=America/New_York:20230423T230000
DTSTAMP:20260421T184213
CREATED:20230309T155601Z
LAST-MODIFIED:20230309T155601Z
UID:34500-1682017200-1682290800@notoriousjazz.com
SUMMARY:WAYNE ESCOFFERY
DESCRIPTION:“Like Minds” Record Release \nWayne Escoffery – tenor saxophone\nNicholas Payton – trumpet\nDavid Kikoski – piano\nUgonna Okegwo – bass\nMark Whitfield Jr. – drums \nSaxophonist Wayne Escoffery celebrates the release of his anticipated new album Like Minds (Smoke Sessions) by performing the music from with a superb quintet—special guest trumpeter Nicholas Payton\, pianist David Kikoski\, bassist Ugonna Okegwo\, and drummer Mark Whitfield Jr. Escoffery\, a prominent protégé of the great Jackie McLean\, faithfully channels his former mentor’s powerful approach. All About Jazz says\, “Not since the works of bassist Charles Mingus and saxophonist John Coltrane has there been music so charged with emotion and so engulfed in spirituality.” Stereogum adds\, “the leader’s playing has thoughtfulness and muscle in equal measure.” \n“Every time he plays\, saxophonist Wayne Escoffery brings a sense memory that includes early days in the church choir in New Haven\, Connecticut; the wisdom and watchful eye of the legendary Jackie McLean; time spent with The Mingus Big Band\, Ron Carter and Tom Harrell.” – Gary Walker\, WBGO.org \nLiveStream: $15.00 + fees
URL:https://notoriousjazz.com/event/wayne-escoffery
LOCATION:Smoke Jazz & Supper Club\, 2751 Broadway\, New York City\, NY\, 10025\, United States
CATEGORIES:Club,Concert
ATTACH;FMTTYPE=image/jpeg:https://notoriousjazz.com/wp-content/uploads/2023/03/WAYNE-ESCOFFERY.jpg
END:VEVENT
BEGIN:VEVENT
DTSTART;TZID=America/New_York:20230421T190000
DTEND;TZID=America/New_York:20230422T190000
DTSTAMP:20260421T184213
CREATED:20230410T161843Z
LAST-MODIFIED:20230410T161843Z
UID:34923-1682103600-1682190000@notoriousjazz.com
SUMMARY:HARLEM JAZZ CLUB REVIVAL FESTIVAL
DESCRIPTION:BILL SAXTON & THE HARLEM ALL-STARSBILL’S PLACE (JAZZ) | 148 W 133rd Street | 7:00pm & 9:00pm \n\n\nBERTA INDEED W/PUCCI JHONES & FRIENDS | HAMILTON BAR (JAZZ)\, 3570 Broadway | 7:00pm ~ 11:00pm \n\n\nHARLEM LATE NIGHT JAM LATE NIGHT EDITION | PATRICK’S PLACE (JAM)\, 2835 Frederick Douglass Boulevard | 8:00pm ~ 12:00am
URL:https://notoriousjazz.com/event/harlem-jazz-club-revival-festival-8
LOCATION:FL
CATEGORIES:Club,Festival
ATTACH;FMTTYPE=image/jpeg:https://notoriousjazz.com/wp-content/uploads/2023/04/HARLEM-JAZZ-CLUB-REVIVAL-FESTIVAL.jpg
END:VEVENT
BEGIN:VEVENT
DTSTART;TZID=America/New_York:20230422T130000
DTEND;TZID=America/New_York:20230423T020000
DTSTAMP:20260421T184213
CREATED:20230410T163424Z
LAST-MODIFIED:20230410T163424Z
UID:34925-1682168400-1682215200@notoriousjazz.com
SUMMARY:HARLEM JAZZ CLUB REVIVAL FESTIVAL
DESCRIPTION:HARLEM DERBY PRESENTS: HATS\, JULEPS & JAZZ | The National Jazz Museum In Harlem\, 58 W 129th Street | 1:00pm ~ 6:00pm \n\n\nBILL SAXTON & THE HARLEM ALL-STARS | BILL’S PLACE (JAZZ)\, 148 W 133rd Street | 7:00pm & 9:00pm \n\n\nPAT TANDY | PATRICK’S PLACE (BLUES) 2835 Frederick Douglass Boulevard | 7:00pm ~ 11:00pm \n\n\n\n\n\n\nLEE OLIVE TUCKER | New Amsterdam Musical Association\, 107 W 130th Street | 8:00pm ~ 11:00pm \n\n\nTHE UNTOUCHABLES | DINOSAUR BBQ (R&B)\, 700 W 125th Street | 8:00pm ~ 11:00pm \n\n\nLATE NIGHT JAZZ PARTY @ NAMA | New Amsterdam Musical Association\, 107 W 130th Street | 11:00pm ~ 2:00am \n\n\n\n\n\n\n\n\n\n\n 
URL:https://notoriousjazz.com/event/harlem-jazz-club-revival-festival-9
LOCATION:FL
CATEGORIES:Club,Festival
ATTACH;FMTTYPE=image/jpeg:https://notoriousjazz.com/wp-content/uploads/2023/04/HARLEM-JAZZ-CLUB-REVIVAL-FESTIVAL.jpg
END:VEVENT
BEGIN:VEVENT
DTSTART;TZID=America/New_York:20230422T190000
DTEND;TZID=America/New_York:20230423T230000
DTSTAMP:20260421T184213
CREATED:20230128T205421Z
LAST-MODIFIED:20230128T210409Z
UID:33889-1682190000-1682290800@notoriousjazz.com
SUMMARY:CHELSEY GREEN & THE GREEN PROJECT
DESCRIPTION:Described as “passionate\, electrifying\, and innovative\,” international\, Billboard-charting recording artists\, Chelsey Green and The Green Project\, break down stereotypes of traditional string playing. By fusing traditional classical technique with popular songs and original pieces in various genres – including R&B\, Pop\, Soul\, Funk\, Jazz and more – The Green Project brings vibrant violin\, viola and rich vocals to audiences in a whole new way. \nThe Green Project has toured around the world and performed many prestigious venues and events including the Strathmore Music Center\, the opening of the Smithsonian National Museum of African American History and Culture\, BET Honors Awards Dinner\, Capital Jazz SuperCruise\, The John F. Kennedy Center\, Port-Au-Prince International Jazz Festival\, The Citadel in Cairo\, Kuwait National Opera House\, Bahrain Spring of Culture Festival\, Boise State University and more! \nAdditionally\, Chelsey Green and The Green Project have been honored to have feature debut performances of their original music and arrangements with several internationally acclaimed and award winning professional ensembles including the US Air Force Band\, the National Symphony Orchestra\, the Prince Georges Philharmonicand more! \nThe Green Project released their debut EP\, Still Green: The EP in April 2012 to rave reviews. Their second release and first full length album\, The Green Room\, debuted on the Billboard Contemporary Jazz Album Chart at #22 and #7 on the iTunes Jazz Albums chart! The group has also released a holiday single\, “Sleigh Ride” (2015) and a hot summer single\, “Summertime” (2018) which features talented multi-instrumentalist\, Warren Wolf. \nMost recently\, The Green Project has released “ReEnvisioned” (2020). This 4-track\, genre-bending EP acts as both palate cleanser and preview to their new musical direction. Released in July 2020\, this special project features new instrumental and vocal originals and a fresh interpretation of a classic jazz standard that features jazz trumpet great\, Sean Jones. ReEnvisioned reached #4 on the iTunes Jazz Chart on the day of its release and continued to chart worldwide for several months. ReEnvisioned has also received acclaim in many notable written publications including The Hollywood Digest\, SoulTracks.com and more! \nSaturday 4/22 ~ 7:00 pm  & 9:30 pm | $35~$45 + fee \nSunday 4/23 5:00 pm & 7:30 pm  | $35~$45 + fee \nStreaming Pass: 5:00pm & 7:00pm only | $10.00 + fee
URL:https://notoriousjazz.com/event/chelsey-green-the-green-project
LOCATION:Keystone Korner Baltimore\, 1350 Lancaster Street\, Baltimore\, MD\, 21231\, United States
CATEGORIES:Club
ATTACH;FMTTYPE=image/jpeg:https://notoriousjazz.com/wp-content/uploads/2023/01/CHELSEY-GREEN.jpg
END:VEVENT
BEGIN:VEVENT
DTSTART;TZID=America/Chicago:20230422T193000
DTEND;TZID=America/Chicago:20230422T213000
DTSTAMP:20260421T184213
CREATED:20230318T154154Z
LAST-MODIFIED:20230318T160850Z
UID:34624-1682191800-1682199000@notoriousjazz.com
SUMMARY:LIZZIE THOMAS
DESCRIPTION:New York-based vocalist Lizzie Thomas presents her career-defining fifth album\, DUO Encounters. The inventive jazz singer – gifted with an inviting voice and a swinging style – teams up with a dozen of her favorite artists to perform a set of intimate and adventurous duets. Over the course of twelve tracks\, Thomas digs deep into the lyrics\, and uplifts each song with her individualistic approach. Turning away from the conventional\, these interpretations of carefully curated tunes are fun and adventurous. The result is a memorable set of superbly sung\, and often surprising music and it’s Lizzie Thomas’ most rewarding recording to date.
URL:https://notoriousjazz.com/event/lizzie-thomas
LOCATION:Nashville Jazz Workshop\, 1012 Buchanan Street\, Nashville\, TN\, 37208\, United States
CATEGORIES:Concert
ATTACH;FMTTYPE=image/jpeg:https://notoriousjazz.com/wp-content/uploads/2023/03/LIZZIE-THOMAS.jpg
END:VEVENT
BEGIN:VEVENT
DTSTART;TZID=America/New_York:20230422T200000
DTEND;TZID=America/New_York:20230422T220000
DTSTAMP:20260421T184213
CREATED:20230210T011852Z
LAST-MODIFIED:20230210T011937Z
UID:34094-1682193600-1682200800@notoriousjazz.com
SUMMARY:LAUREN HENDERSON
DESCRIPTION:Described as “somewhere between a comforting whisper and a cogent declaration” by The New York Times\, Lauren Henderson’s music resonates with listeners around the world. \nRecently featured in the Financial Times\, breaking the Jazz Charts Top 5\, and the Year End Jazz Week Top 50 (2020)\, Henderson’s eclectic vocal influences spread across genres producing a distinct yet versatile sound. \nHer music is featured in the Netflix hit series\, Sky Rojo\, The Drowning\, starring Julia Stiles\, Avan Jogia\, and Josh Charles\, El Juego de Las Llaves\, starring Ela Velden\, Maite Perroni\, and Marimar Vega\, and Romeo y Julieta starring Lupita Nyong’o and Juan Castano\, scored by one of Lauren’s musical partners\, Michael Thurber. \nHenderson uncovers the layers of her diverse background in English and Spanish. Her compositions paint stories reflecting journeys imposed through the African Diaspora in connection to Henderson’s Panamanian\, Montserratian\, and vast Caribbean roots as they interplay with her North American upbringing. \nJazz\, Latin jazz\, flamenco\, R&B and soul roots aid in an exploration of culture\, society\, race relations and the complexities encountered as we navigate life’s obstacles. \nBAND MEMBERS:Lauren Henderson – VocalsNick Tannura – GuitarTBA – BassTBA – Drums
URL:https://notoriousjazz.com/event/lauren-henderson
LOCATION:Arts Garage\, 94 NE 2nd Avenue\, Delray Beach\, FL\, 33444\, United States
CATEGORIES:Concert
ATTACH;FMTTYPE=image/png:https://notoriousjazz.com/wp-content/uploads/2023/02/LAUREN-HENDERSON.png
END:VEVENT
END:VCALENDAR