BEGIN:VCALENDAR
VERSION:2.0
PRODID:-//Notorious Jazz - ECPv6.15.17//NONSGML v1.0//EN
CALSCALE:GREGORIAN
METHOD:PUBLISH
X-WR-CALNAME:Notorious Jazz
X-ORIGINAL-URL:https://notoriousjazz.com
X-WR-CALDESC:Events for Notorious Jazz
REFRESH-INTERVAL;VALUE=DURATION:PT1H
X-Robots-Tag:noindex
X-PUBLISHED-TTL:PT1H
BEGIN:VTIMEZONE
TZID:America/New_York
BEGIN:DAYLIGHT
TZOFFSETFROM:-0500
TZOFFSETTO:-0400
TZNAME:EDT
DTSTART:20220313T070000
END:DAYLIGHT
BEGIN:STANDARD
TZOFFSETFROM:-0400
TZOFFSETTO:-0500
TZNAME:EST
DTSTART:20221106T060000
END:STANDARD
BEGIN:DAYLIGHT
TZOFFSETFROM:-0500
TZOFFSETTO:-0400
TZNAME:EDT
DTSTART:20230312T070000
END:DAYLIGHT
BEGIN:STANDARD
TZOFFSETFROM:-0400
TZOFFSETTO:-0500
TZNAME:EST
DTSTART:20231105T060000
END:STANDARD
BEGIN:DAYLIGHT
TZOFFSETFROM:-0500
TZOFFSETTO:-0400
TZNAME:EDT
DTSTART:20240310T070000
END:DAYLIGHT
BEGIN:STANDARD
TZOFFSETFROM:-0400
TZOFFSETTO:-0500
TZNAME:EST
DTSTART:20241103T060000
END:STANDARD
END:VTIMEZONE
BEGIN:VEVENT
DTSTART;TZID=America/New_York:20230420T190000
DTEND;TZID=America/New_York:20230423T230000
DTSTAMP:20260421T153649
CREATED:20230309T155601Z
LAST-MODIFIED:20230309T155601Z
UID:34500-1682017200-1682290800@notoriousjazz.com
SUMMARY:WAYNE ESCOFFERY
DESCRIPTION:“Like Minds” Record Release \nWayne Escoffery – tenor saxophone\nNicholas Payton – trumpet\nDavid Kikoski – piano\nUgonna Okegwo – bass\nMark Whitfield Jr. – drums \nSaxophonist Wayne Escoffery celebrates the release of his anticipated new album Like Minds (Smoke Sessions) by performing the music from with a superb quintet—special guest trumpeter Nicholas Payton\, pianist David Kikoski\, bassist Ugonna Okegwo\, and drummer Mark Whitfield Jr. Escoffery\, a prominent protégé of the great Jackie McLean\, faithfully channels his former mentor’s powerful approach. All About Jazz says\, “Not since the works of bassist Charles Mingus and saxophonist John Coltrane has there been music so charged with emotion and so engulfed in spirituality.” Stereogum adds\, “the leader’s playing has thoughtfulness and muscle in equal measure.” \n“Every time he plays\, saxophonist Wayne Escoffery brings a sense memory that includes early days in the church choir in New Haven\, Connecticut; the wisdom and watchful eye of the legendary Jackie McLean; time spent with The Mingus Big Band\, Ron Carter and Tom Harrell.” – Gary Walker\, WBGO.org \nLiveStream: $15.00 + fees
URL:https://notoriousjazz.com/event/wayne-escoffery
LOCATION:Smoke Jazz & Supper Club\, 2751 Broadway\, New York City\, NY\, 10025\, United States
CATEGORIES:Club,Concert
ATTACH;FMTTYPE=image/jpeg:https://notoriousjazz.com/wp-content/uploads/2023/03/WAYNE-ESCOFFERY.jpg
END:VEVENT
BEGIN:VEVENT
DTSTART;TZID=America/New_York:20230422T190000
DTEND;TZID=America/New_York:20230423T230000
DTSTAMP:20260421T153649
CREATED:20230128T205421Z
LAST-MODIFIED:20230128T210409Z
UID:33889-1682190000-1682290800@notoriousjazz.com
SUMMARY:CHELSEY GREEN & THE GREEN PROJECT
DESCRIPTION:Described as “passionate\, electrifying\, and innovative\,” international\, Billboard-charting recording artists\, Chelsey Green and The Green Project\, break down stereotypes of traditional string playing. By fusing traditional classical technique with popular songs and original pieces in various genres – including R&B\, Pop\, Soul\, Funk\, Jazz and more – The Green Project brings vibrant violin\, viola and rich vocals to audiences in a whole new way. \nThe Green Project has toured around the world and performed many prestigious venues and events including the Strathmore Music Center\, the opening of the Smithsonian National Museum of African American History and Culture\, BET Honors Awards Dinner\, Capital Jazz SuperCruise\, The John F. Kennedy Center\, Port-Au-Prince International Jazz Festival\, The Citadel in Cairo\, Kuwait National Opera House\, Bahrain Spring of Culture Festival\, Boise State University and more! \nAdditionally\, Chelsey Green and The Green Project have been honored to have feature debut performances of their original music and arrangements with several internationally acclaimed and award winning professional ensembles including the US Air Force Band\, the National Symphony Orchestra\, the Prince Georges Philharmonicand more! \nThe Green Project released their debut EP\, Still Green: The EP in April 2012 to rave reviews. Their second release and first full length album\, The Green Room\, debuted on the Billboard Contemporary Jazz Album Chart at #22 and #7 on the iTunes Jazz Albums chart! The group has also released a holiday single\, “Sleigh Ride” (2015) and a hot summer single\, “Summertime” (2018) which features talented multi-instrumentalist\, Warren Wolf. \nMost recently\, The Green Project has released “ReEnvisioned” (2020). This 4-track\, genre-bending EP acts as both palate cleanser and preview to their new musical direction. Released in July 2020\, this special project features new instrumental and vocal originals and a fresh interpretation of a classic jazz standard that features jazz trumpet great\, Sean Jones. ReEnvisioned reached #4 on the iTunes Jazz Chart on the day of its release and continued to chart worldwide for several months. ReEnvisioned has also received acclaim in many notable written publications including The Hollywood Digest\, SoulTracks.com and more! \nSaturday 4/22 ~ 7:00 pm  & 9:30 pm | $35~$45 + fee \nSunday 4/23 5:00 pm & 7:30 pm  | $35~$45 + fee \nStreaming Pass: 5:00pm & 7:00pm only | $10.00 + fee
URL:https://notoriousjazz.com/event/chelsey-green-the-green-project
LOCATION:Keystone Korner Baltimore\, 1350 Lancaster Street\, Baltimore\, MD\, 21231\, United States
CATEGORIES:Club
ATTACH;FMTTYPE=image/jpeg:https://notoriousjazz.com/wp-content/uploads/2023/01/CHELSEY-GREEN.jpg
END:VEVENT
BEGIN:VEVENT
DTSTART;TZID=America/New_York:20230423T121500
DTEND;TZID=America/New_York:20230423T230000
DTSTAMP:20260421T153649
CREATED:20230410T164235Z
LAST-MODIFIED:20230410T164730Z
UID:34927-1682252100-1682290800@notoriousjazz.com
SUMMARY:HARLEM JAZZ CLUB REVIVAL FESTIVAL
DESCRIPTION:SING HARLEM CHOIR | RED ROOSTER (GOSPEL)\, 310 Lenox Avenue | 12:15pm ~ 1:45pm \n\n\nSUNDAY JAZZ BRUNCH WITH THE LV PROJECT! | PATRICK’S PLACE (JAZZ/SOUL)\, 2835 Frederick Douglass Boulevard | 1:00pm ~ 4:00pm \n\n\nSOUL POWER BAND\, NYC W/C. KELLY WRIGHT | HARLEM SHAKE (SOUL)\, 100 W 124th Street | 3:00pm ~ 6:00pm \n\n\nTHE NATE LUCAS ALL-STARS | RED ROOSTER (ORGAN JAZZ)\, 310 Lenox Avenue | 5:00pm ~ 8:00pm \n\n\nTHE SELENO CLARKE TRIBUTE BAND | AMERICAN LEGION POST 398\, 248 W 132nd Street | 6:00pm ~ 10:00pm \n\n\nJOHN COLTRANE SAX SUMMIT | CLUB HARLEM (JAZZ)\, 104 Malcolm X @ Harlem Heritage | 7:00pm ~ 11:00pm \n\n\n\n\n\n\n\n\n\n\n\n\n\n\n 
URL:https://notoriousjazz.com/event/harlem-jazz-club-revival-festival-10
LOCATION:FL
CATEGORIES:Club,Festival
ATTACH;FMTTYPE=image/jpeg:https://notoriousjazz.com/wp-content/uploads/2023/04/HARLEM-JAZZ-CLUB-REVIVAL-FESTIVAL.jpg
END:VEVENT
END:VCALENDAR