BEGIN:VCALENDAR
VERSION:2.0
PRODID:-//Notorious Jazz - ECPv6.15.17//NONSGML v1.0//EN
CALSCALE:GREGORIAN
METHOD:PUBLISH
X-ORIGINAL-URL:https://notoriousjazz.com
X-WR-CALDESC:Events for Notorious Jazz
REFRESH-INTERVAL;VALUE=DURATION:PT1H
X-Robots-Tag:noindex
X-PUBLISHED-TTL:PT1H
BEGIN:VTIMEZONE
TZID:America/New_York
BEGIN:DAYLIGHT
TZOFFSETFROM:-0500
TZOFFSETTO:-0400
TZNAME:EDT
DTSTART:20220313T070000
END:DAYLIGHT
BEGIN:STANDARD
TZOFFSETFROM:-0400
TZOFFSETTO:-0500
TZNAME:EST
DTSTART:20221106T060000
END:STANDARD
BEGIN:DAYLIGHT
TZOFFSETFROM:-0500
TZOFFSETTO:-0400
TZNAME:EDT
DTSTART:20230312T070000
END:DAYLIGHT
BEGIN:STANDARD
TZOFFSETFROM:-0400
TZOFFSETTO:-0500
TZNAME:EST
DTSTART:20231105T060000
END:STANDARD
BEGIN:DAYLIGHT
TZOFFSETFROM:-0500
TZOFFSETTO:-0400
TZNAME:EDT
DTSTART:20240310T070000
END:DAYLIGHT
BEGIN:STANDARD
TZOFFSETFROM:-0400
TZOFFSETTO:-0500
TZNAME:EST
DTSTART:20241103T060000
END:STANDARD
END:VTIMEZONE
BEGIN:VEVENT
DTSTART;TZID=America/New_York:20230527T130000
DTEND;TZID=America/New_York:20230529T220000
DTSTAMP:20260421T140209
CREATED:20230325T155506Z
LAST-MODIFIED:20230325T155526Z
UID:34713-1685192400-1685397600@notoriousjazz.com
SUMMARY:ATLANTA JAZZ FESTIVAL 2023
DESCRIPTION:Saturday | May 27th \n1:00pm | Lakecia Benjamin \n3:00pm | Tony Hightower \n5:00 | David Sanchez  \n7:00pm | Samara Joy  \n9:00pm | Wynton Marsalis & Jazz At Lincoln Center Orchestra \n  \nSunday | My 28th \n1:00pm | Sélène Saint~Aimé \n3:00pm | Brandee Younger \n5:00pm | Javon Jackson & The Gospel According To Nikki Giovanni \n7:00pm | Jose James \n9:00pm | Stanley Clarke \n  \nMonday | May 29th \n1:00pm | Satya \n3:00pm | James Frances \n5:00pm | Brenda Nicole Moorer \n7:00pm | Chief Xian Atunde Adjuah (Formerly Christian Scott) \n9:00pm | Ledisi
URL:https://notoriousjazz.com/event/atlanta-jazz-festival-2023
LOCATION:Atlanta Jazz Festival\, Piedmont Park | 10th Street & Charles Allen\, Atlanta\, GA\, United States
CATEGORIES:Festival
ATTACH;FMTTYPE=image/jpeg:https://notoriousjazz.com/wp-content/uploads/2018/05/ATLANTA-JAZZ-FESTIVAL.jpg
END:VEVENT
BEGIN:VEVENT
DTSTART;TZID=America/New_York:20230528T183000
DTEND;TZID=America/New_York:20230528T220000
DTSTAMP:20260421T140209
CREATED:20230527T160220Z
LAST-MODIFIED:20230527T160533Z
UID:35377-1685298600-1685311200@notoriousjazz.com
SUMMARY:JASON MARSALIS: LIONEL HAMPTON TRIBUTE
DESCRIPTION:From a very young age it was clear that Jason Marsalis had what it took to be great. Jason is the son of pianist and music educator Ellis Marsalis and the youngest sibling of Wynton\, Branford and Delfeayo. Together\, the four brothers and their patriarch Ellis\, comprise New Orleans venerable first family of jazz. \nAs a drummer who established his career on the red-hot New Orleans jazz scene\, he spent more than a decade in the Marcus Roberts Trio\, one of jazz’s most accomplished and stylistically encompassing ensembles. \nShowtimes: 6:30pm & 8:30pm \nFees Applied To All Ticket Purchases
URL:https://notoriousjazz.com/event/jason-marsalis-lionel-hampton-tribute
LOCATION:South\, 600 N. Broad Street\, Philadelphia\, PA\, 19130\, United States
CATEGORIES:Club
ATTACH;FMTTYPE=image/jpeg:https://notoriousjazz.com/wp-content/uploads/2023/05/JASON-MARSALIS.jpg
END:VEVENT
END:VCALENDAR