BEGIN:VCALENDAR
VERSION:2.0
PRODID:-//Notorious Jazz - ECPv6.15.17//NONSGML v1.0//EN
CALSCALE:GREGORIAN
METHOD:PUBLISH
X-ORIGINAL-URL:https://notoriousjazz.com
X-WR-CALDESC:Events for Notorious Jazz
REFRESH-INTERVAL;VALUE=DURATION:PT1H
X-Robots-Tag:noindex
X-PUBLISHED-TTL:PT1H
BEGIN:VTIMEZONE
TZID:America/New_York
BEGIN:DAYLIGHT
TZOFFSETFROM:-0500
TZOFFSETTO:-0400
TZNAME:EDT
DTSTART:20220313T070000
END:DAYLIGHT
BEGIN:STANDARD
TZOFFSETFROM:-0400
TZOFFSETTO:-0500
TZNAME:EST
DTSTART:20221106T060000
END:STANDARD
BEGIN:DAYLIGHT
TZOFFSETFROM:-0500
TZOFFSETTO:-0400
TZNAME:EDT
DTSTART:20230312T070000
END:DAYLIGHT
BEGIN:STANDARD
TZOFFSETFROM:-0400
TZOFFSETTO:-0500
TZNAME:EST
DTSTART:20231105T060000
END:STANDARD
BEGIN:DAYLIGHT
TZOFFSETFROM:-0500
TZOFFSETTO:-0400
TZNAME:EDT
DTSTART:20240310T070000
END:DAYLIGHT
BEGIN:STANDARD
TZOFFSETFROM:-0400
TZOFFSETTO:-0500
TZNAME:EST
DTSTART:20241103T060000
END:STANDARD
END:VTIMEZONE
BEGIN:VEVENT
DTSTART;TZID=America/New_York:20230531T190000
DTEND;TZID=America/New_York:20230531T230000
DTSTAMP:20260421T123628
CREATED:20230527T142515Z
LAST-MODIFIED:20230527T151117Z
UID:35344-1685559600-1685574000@notoriousjazz.com
SUMMARY:LEZLIE HARRISON QUINTET
DESCRIPTION:Lezlie Harrison – vocals\nAntoine Drye – trumpet\nJohn DiMartino – piano\nYoshi Waki – bass\nRussell Carter – drums \nVocalist Lezlie Harrison\, whose burnished\, soulful alto strikingly illuminates a distinctive blend of standards\, classic 70s soul\, and her original music\, leads a quintet with trumpeter Antoine Drye\, pianist John DiMartino\, bassist Yoshi Waki\, and drummer Russell Carter. Drawing her diverse repertoire from foundational sources like the soul music of her childhood\, the gospel she sang in her grandfather’s church\, and the omnipresent traditional jazz standards throughout her life\, Harrison creates captivating and personal music that listeners love. The New York Amsterdam News says\, “Lezlie Harrison has a smoky sensuous voice that keeps you on the edge of your chair.” \nShowtimes: 7:00pm & 9:00pm \nFess Applied To All Ticket/Pass Purchases
URL:https://notoriousjazz.com/event/lezlie-harrison-quintet
LOCATION:Smoke Jazz & Supper Club\, 2751 Broadway\, New York City\, NY\, 10025\, United States
CATEGORIES:Club
ATTACH;FMTTYPE=image/jpeg:https://notoriousjazz.com/wp-content/uploads/2023/05/LEZLIE-HARRISON.jpg
END:VEVENT
BEGIN:VEVENT
DTSTART;TZID=America/New_York:20230531T193000
DTEND;TZID=America/New_York:20230531T230000
DTSTAMP:20260421T123628
CREATED:20230527T220928Z
LAST-MODIFIED:20230527T220928Z
UID:35411-1685561400-1685574000@notoriousjazz.com
SUMMARY:NOAH JACKSON
DESCRIPTION:A Detroit original\, Noah Jackson is a bassist\, cellist\, and composer specializing in black american music and classical music.  Aimed with a curiosity to where sound could touch audiences from within\, he has both written and performed music for large international audiences since 2010.  A graduate of Michigan State University (B.M.)\, and Manhattan School of Music (M.M.)\, Noah has performed with world renowned artists such as NEA Jazz Master Abdullah Ibrahim\, Branford Marsails\, Jason Marsalis\, The Marsalis Family\, Hugh Masekela\, Nnenna Freelon\, Kenny Garrett\, Wizard Harper\, George Burton\, Jazzmeia Horn\, and Christian Sands. Additionally\, he’s performed in many prominent venues and jazz festivals including Radio City Music Hall\, Dizzy’s Club Coca-Cola\, Jazz @ Lincoln Center\, Blue Note Jazz Club (New York City and Milan)\, Royal Albert Hall\, Victoria Hall (Geneva)\, Jazz in Marciac (Marciac\, France)\, The Library of Congress\, The Kennedy Center\, SFJAZZ\, The New Orleans Jazz & Heritage Festival\, London Jazz Festival\, Montreal Jazz Festival\, and North Sea Jazz Festival. Noah Jackson also performed as part of the ceremony for the NEA Jazz Masters Award in 2019. He also recorded bass and cello on The Balance with Abdullah Ibrahim which reached #3 on the Billboard Jazz Charts (June 2019).
URL:https://notoriousjazz.com/event/noah-jackson
LOCATION:Cliff Bell’s\, 2030 Park Avenue\, Detroit\, MI\, 48226\, United States
CATEGORIES:Club
ATTACH;FMTTYPE=image/jpeg:https://notoriousjazz.com/wp-content/uploads/2023/05/NOAH-JACKSON.jpg
END:VEVENT
END:VCALENDAR