BEGIN:VCALENDAR
VERSION:2.0
PRODID:-//Notorious Jazz - ECPv6.15.17//NONSGML v1.0//EN
CALSCALE:GREGORIAN
METHOD:PUBLISH
X-WR-CALNAME:Notorious Jazz
X-ORIGINAL-URL:https://notoriousjazz.com
X-WR-CALDESC:Events for Notorious Jazz
REFRESH-INTERVAL;VALUE=DURATION:PT1H
X-Robots-Tag:noindex
X-PUBLISHED-TTL:PT1H
BEGIN:VTIMEZONE
TZID:America/New_York
BEGIN:DAYLIGHT
TZOFFSETFROM:-0500
TZOFFSETTO:-0400
TZNAME:EDT
DTSTART:20220313T070000
END:DAYLIGHT
BEGIN:STANDARD
TZOFFSETFROM:-0400
TZOFFSETTO:-0500
TZNAME:EST
DTSTART:20221106T060000
END:STANDARD
BEGIN:DAYLIGHT
TZOFFSETFROM:-0500
TZOFFSETTO:-0400
TZNAME:EDT
DTSTART:20230312T070000
END:DAYLIGHT
BEGIN:STANDARD
TZOFFSETFROM:-0400
TZOFFSETTO:-0500
TZNAME:EST
DTSTART:20231105T060000
END:STANDARD
BEGIN:DAYLIGHT
TZOFFSETFROM:-0500
TZOFFSETTO:-0400
TZNAME:EDT
DTSTART:20240310T070000
END:DAYLIGHT
BEGIN:STANDARD
TZOFFSETFROM:-0400
TZOFFSETTO:-0500
TZNAME:EST
DTSTART:20241103T060000
END:STANDARD
END:VTIMEZONE
BEGIN:VTIMEZONE
TZID:America/Los_Angeles
BEGIN:DAYLIGHT
TZOFFSETFROM:-0800
TZOFFSETTO:-0700
TZNAME:PDT
DTSTART:20220313T100000
END:DAYLIGHT
BEGIN:STANDARD
TZOFFSETFROM:-0700
TZOFFSETTO:-0800
TZNAME:PST
DTSTART:20221106T090000
END:STANDARD
BEGIN:DAYLIGHT
TZOFFSETFROM:-0800
TZOFFSETTO:-0700
TZNAME:PDT
DTSTART:20230312T100000
END:DAYLIGHT
BEGIN:STANDARD
TZOFFSETFROM:-0700
TZOFFSETTO:-0800
TZNAME:PST
DTSTART:20231105T090000
END:STANDARD
BEGIN:DAYLIGHT
TZOFFSETFROM:-0800
TZOFFSETTO:-0700
TZNAME:PDT
DTSTART:20240310T100000
END:DAYLIGHT
BEGIN:STANDARD
TZOFFSETFROM:-0700
TZOFFSETTO:-0800
TZNAME:PST
DTSTART:20241103T090000
END:STANDARD
END:VTIMEZONE
BEGIN:VEVENT
DTSTART;TZID=America/New_York:20230601T190000
DTEND;TZID=America/New_York:20230604T234500
DTSTAMP:20260421T123320
CREATED:20230527T143951Z
LAST-MODIFIED:20230527T151050Z
UID:35347-1685646000-1685922300@notoriousjazz.com
SUMMARY:GEORGE COLEMAN
DESCRIPTION:George Coleman – tenor saxophone\nPeter Bernstein – guitar\nTadataka Unno – piano\nJohn Webber – bass\nGeorge Coleman Jr. – drums \nLegendary tenor saxophonist George Coleman—a renowned performer and living legend—is no stranger to SMOKE Jazz Club. The NEA Jazz Master opened the club in 1999 and returned to christen its reopening in July 2022. This upcoming visit has Coleman at the helm of a special quintet that includes guitarist Peter Bernstein\, bassist John Webber\, and his drummer son George Coleman Jr. He is still making some of the most inspired music of his celebrated career\, which has included work with B.B. King\, Miles Davis\, and Herbie Hancock\, among many others. Originally from Memphis\, Tennessee\, the blues remains at the heart of Coleman’s harmonically advanced music. Downbeat reports\, “When you hear the tenor sax of George Coleman\, you know it’s him within a few notes. That deep park of a tone evokes a time and place—be it his historic work with Max Roach\, Chet Baker\, and Miles Davis\, or as a leader in his own right.” \nShowtimes: 7:00pm | 9:00pm | 10:30pm \nStreaming: $15.oo ~ Friday & Saturday Shows \nFess Applied To All Ticket/Pass Purchases
URL:https://notoriousjazz.com/event/george-coleman
LOCATION:Smoke Jazz & Supper Club\, 2751 Broadway\, New York City\, NY\, 10025\, United States
CATEGORIES:Club
ATTACH;FMTTYPE=image/jpeg:https://notoriousjazz.com/wp-content/uploads/2023/05/GEORGE-COLEMAN.jpg
END:VEVENT
BEGIN:VEVENT
DTSTART;TZID=America/Los_Angeles:20230602T173000
DTEND;TZID=America/Los_Angeles:20230603T210000
DTSTAMP:20260421T123320
CREATED:20230528T081852Z
LAST-MODIFIED:20230528T082209Z
UID:35431-1685727000-1685826000@notoriousjazz.com
SUMMARY:LAKECIA BENJAMIN & PHOENIX
DESCRIPTION:Lakecia Benjamin\, Saxophone\nZaccai Curtis\, Piano\nIvan Taylor\, Bass\nEJ Strickland\, Drums\n\nPHOENIX\, released in January 2023 on Whirlwind Records and was masterfully produced by Terri Lyne Carrington alongside an incredible cast of soon-to-be-announced iconic special guests. The live tour will feature Benjamin’s quartet. The new album is a deeply personal outing for Lakecia and presents mostly all original compositions and arrangements\, solidifying her standing as not just an amazing player but as a formidable composer and arranger. The record continues Lakecia’s legacy work with artists that she respects and has been mentored by and was heavily influenced by her experiences over the past two years\, and all that she has learned since the release of Pursuance at the cusp of the pandemic.\n\nLakecia says: “This album is a bit of a rebirth for me; it continues the inter-generational legacy work I’ve been doing in the past by featuring guests that have inspired me musically\, spiritually and as a human being. I am painting the picture of reinventing and recreating oneself from ‘the ashes’\, so to speak\, although this time using my own compositions as the vehicle. I am excited to be starting a new journey and partnering with Whirlwind Recordings to introduce this album to the world.” One of the most sought-after and revered saxophonists in the world\, Lakecia was voted 2020 Downbeat Critics Poll Rising Star Alto Saxophonist and Up and Coming Artist of the Year by the Jazz Journalists Association. Known for her charisma and dynamism as a player\, as a composer she has an inimitable skill of fusing traditional conceptions of jazz\, hiphop and soul. She’s performed alongside Stevie Wonder\, Alicia Keys\, The Roots\, Macy Gray and many more.\n\n\n\nShowtimes: 5:30pm & 7:30pm\n\nFees Applied To All Ticket Purchases
URL:https://notoriousjazz.com/event/lakecia-benjamin-phoenix
LOCATION:The 1905\, 830 N Shaver Sreet\, Portland\, OR\, 97227\, United States
CATEGORIES:Club
ATTACH;FMTTYPE=image/jpeg:https://notoriousjazz.com/wp-content/uploads/2023/05/LAKECIA-BENJAMIN.jpeg
END:VEVENT
BEGIN:VEVENT
DTSTART;TZID=America/New_York:20230602T190000
DTEND;TZID=America/New_York:20230603T230000
DTSTAMP:20260421T123320
CREATED:20230527T163912Z
LAST-MODIFIED:20230527T164237Z
UID:35381-1685732400-1685833200@notoriousjazz.com
SUMMARY:THE BRIANNA THOMAS BAND
DESCRIPTION:Vocalist\, composer\, arranger Brianna Thomas is one of the most evocative and accomplished vocalists of her generation. Blessed with a sublime and soulfully syncopated soprano voice that scats\, swoons\, and croons at the speed of swing\, Thomas has worked with a plethora of jazz stars\, from Clark Terry\, Dianne Reeves\, and Russell Malone to Houston Person\, the Count Basie Orchestra\, Wynton Marsalis\, and the Lincoln Center Jazz Orchestra. \nShowtimes: 7:00pm & 9:30pm \nFees Applied To All Ticket Purchases
URL:https://notoriousjazz.com/event/the-brianna-thomas-band
LOCATION:South\, 600 N. Broad Street\, Philadelphia\, PA\, 19130\, United States
CATEGORIES:Club
ATTACH;FMTTYPE=image/jpeg:https://notoriousjazz.com/wp-content/uploads/2023/05/BRIANNA-THOMAS.jpg
END:VEVENT
BEGIN:VEVENT
DTSTART;TZID=America/New_York:20230602T190000
DTEND;TZID=America/New_York:20230603T230000
DTSTAMP:20260421T123320
CREATED:20230527T171618Z
LAST-MODIFIED:20230527T171900Z
UID:35384-1685732400-1685833200@notoriousjazz.com
SUMMARY:MONTY ALEXANDER
DESCRIPTION:Monty Alexander ~ piano | Luke Sellick ~ bass  | Jason Brown ~ drums \nConsidered among the greatest jazz pianists ever\, Monty Alexander has recorded over 75 albums and played countless sold-out shows in his six-plus decade career. \nDynamic\, sophisticated and innovative\, he’s a master of swing\, bop\, the American songbook\, Caribbean music and everything in between\, brilliantly merging them into something unique and unforgettable. His acclaimed new album\, The Montreux Years\, left one reviewer “wondering if Monty simply had more fingers than the average pianist.” \nShowtimes: 7:00pm & 9:00pm \nFees Applied To All Ticket Purchases
URL:https://notoriousjazz.com/event/monty-alexander-2
LOCATION:Jazz Forum Arts\, 1 Dixon Lane\, Tarrytown\, NY\, 10591\, United States
CATEGORIES:Club
ATTACH;FMTTYPE=image/jpeg:https://notoriousjazz.com/wp-content/uploads/2023/05/MONTY-ALEXANDER.jpg
END:VEVENT
BEGIN:VEVENT
DTSTART;TZID=America/New_York:20230603T130000
DTEND;TZID=America/New_York:20230603T150000
DTSTAMP:20260421T123320
CREATED:20230527T172859Z
LAST-MODIFIED:20230527T173313Z
UID:35389-1685797200-1685804400@notoriousjazz.com
SUMMARY:MARK MORGANELLI & THE JAZZ FORUM ALL~STARS
DESCRIPTION:Mark Morganelli & The Jazz Forum All-Stars: Celebrate Brasil! featuring Eddie Monteiro & Tiago Michelin \n“As a master musician\, Mark Morganelli has used his gifts as a soloist\, band leader and tour guide to bring you to Brasil and Brasil to you\, with this classic new album of musical gems. Each song is a treasure. Listen to it over and over as I have done so five times already.” – David Amram Composer\, conductor\, multi-instrumentalist and author \nShowtimes: 1:00pm & 2:00pm
URL:https://notoriousjazz.com/event/mark-morganelli-the-jazz-forum-allstars-2
LOCATION:Jazz Forum Arts\, 1 Dixon Lane\, Tarrytown\, NY\, 10591\, United States
CATEGORIES:Club
ATTACH;FMTTYPE=image/jpeg:https://notoriousjazz.com/wp-content/uploads/2023/05/MARK-MORGANELLI.jpg
END:VEVENT
END:VCALENDAR