BEGIN:VCALENDAR
VERSION:2.0
PRODID:-//Notorious Jazz - ECPv6.15.17//NONSGML v1.0//EN
CALSCALE:GREGORIAN
METHOD:PUBLISH
X-WR-CALNAME:Notorious Jazz
X-ORIGINAL-URL:https://notoriousjazz.com
X-WR-CALDESC:Events for Notorious Jazz
REFRESH-INTERVAL;VALUE=DURATION:PT1H
X-Robots-Tag:noindex
X-PUBLISHED-TTL:PT1H
BEGIN:VTIMEZONE
TZID:America/New_York
BEGIN:DAYLIGHT
TZOFFSETFROM:-0500
TZOFFSETTO:-0400
TZNAME:EDT
DTSTART:20220313T070000
END:DAYLIGHT
BEGIN:STANDARD
TZOFFSETFROM:-0400
TZOFFSETTO:-0500
TZNAME:EST
DTSTART:20221106T060000
END:STANDARD
BEGIN:DAYLIGHT
TZOFFSETFROM:-0500
TZOFFSETTO:-0400
TZNAME:EDT
DTSTART:20230312T070000
END:DAYLIGHT
BEGIN:STANDARD
TZOFFSETFROM:-0400
TZOFFSETTO:-0500
TZNAME:EST
DTSTART:20231105T060000
END:STANDARD
BEGIN:DAYLIGHT
TZOFFSETFROM:-0500
TZOFFSETTO:-0400
TZNAME:EDT
DTSTART:20240310T070000
END:DAYLIGHT
BEGIN:STANDARD
TZOFFSETFROM:-0400
TZOFFSETTO:-0500
TZNAME:EST
DTSTART:20241103T060000
END:STANDARD
END:VTIMEZONE
BEGIN:VTIMEZONE
TZID:America/Los_Angeles
BEGIN:DAYLIGHT
TZOFFSETFROM:-0800
TZOFFSETTO:-0700
TZNAME:PDT
DTSTART:20220313T100000
END:DAYLIGHT
BEGIN:STANDARD
TZOFFSETFROM:-0700
TZOFFSETTO:-0800
TZNAME:PST
DTSTART:20221106T090000
END:STANDARD
BEGIN:DAYLIGHT
TZOFFSETFROM:-0800
TZOFFSETTO:-0700
TZNAME:PDT
DTSTART:20230312T100000
END:DAYLIGHT
BEGIN:STANDARD
TZOFFSETFROM:-0700
TZOFFSETTO:-0800
TZNAME:PST
DTSTART:20231105T090000
END:STANDARD
BEGIN:DAYLIGHT
TZOFFSETFROM:-0800
TZOFFSETTO:-0700
TZNAME:PDT
DTSTART:20240310T100000
END:DAYLIGHT
BEGIN:STANDARD
TZOFFSETFROM:-0700
TZOFFSETTO:-0800
TZNAME:PST
DTSTART:20241103T090000
END:STANDARD
END:VTIMEZONE
BEGIN:VEVENT
DTSTART;TZID=America/New_York:20230601T190000
DTEND;TZID=America/New_York:20230604T234500
DTSTAMP:20260421T104647
CREATED:20230527T143951Z
LAST-MODIFIED:20230527T151050Z
UID:35347-1685646000-1685922300@notoriousjazz.com
SUMMARY:GEORGE COLEMAN
DESCRIPTION:George Coleman – tenor saxophone\nPeter Bernstein – guitar\nTadataka Unno – piano\nJohn Webber – bass\nGeorge Coleman Jr. – drums \nLegendary tenor saxophonist George Coleman—a renowned performer and living legend—is no stranger to SMOKE Jazz Club. The NEA Jazz Master opened the club in 1999 and returned to christen its reopening in July 2022. This upcoming visit has Coleman at the helm of a special quintet that includes guitarist Peter Bernstein\, bassist John Webber\, and his drummer son George Coleman Jr. He is still making some of the most inspired music of his celebrated career\, which has included work with B.B. King\, Miles Davis\, and Herbie Hancock\, among many others. Originally from Memphis\, Tennessee\, the blues remains at the heart of Coleman’s harmonically advanced music. Downbeat reports\, “When you hear the tenor sax of George Coleman\, you know it’s him within a few notes. That deep park of a tone evokes a time and place—be it his historic work with Max Roach\, Chet Baker\, and Miles Davis\, or as a leader in his own right.” \nShowtimes: 7:00pm | 9:00pm | 10:30pm \nStreaming: $15.oo ~ Friday & Saturday Shows \nFess Applied To All Ticket/Pass Purchases
URL:https://notoriousjazz.com/event/george-coleman
LOCATION:Smoke Jazz & Supper Club\, 2751 Broadway\, New York City\, NY\, 10025\, United States
CATEGORIES:Club
ATTACH;FMTTYPE=image/jpeg:https://notoriousjazz.com/wp-content/uploads/2023/05/GEORGE-COLEMAN.jpg
END:VEVENT
BEGIN:VEVENT
DTSTART;TZID=America/Los_Angeles:20230604T183000
DTEND;TZID=America/Los_Angeles:20230604T200000
DTSTAMP:20260421T104647
CREATED:20230530T212848Z
LAST-MODIFIED:20230530T221939Z
UID:35487-1685903400-1685908800@notoriousjazz.com
SUMMARY:DELFEAYO MARSALIS & THE UPTOWN JAZZ ORCHESTRA
DESCRIPTION:As an acclaimed trombonist\, composer\, and producer\, Delfeayo Marsalis has also dedicated his prolific career to music theatre and education. Along with the Marsalis family of musicians including his father Ellis\, the artist was destined to a life in music. \n\n\n\n\n\nMarsalis has toured internationally with jazz legends such as Ray Charles\, Art Blakey\, Max Roach\, Elvin Jones and Slide Hampton\, as well as leading his own groups. \nAt the age of 17\, Marsalis began his career as a producer and has to date produced over 120 recordings garnering one Grammy award and several nominations. \nIn 2008\, he formed the Uptown Jazz Orchestra\, a highly entertaining ensemble that focuses on maintaining important jazz traditions such as riff playing\, New Orleans polyphony and spontaneous arrangements. \nDelfeayo also formed the Uptown Music Theatre in 2000. A non-profit organization that empowers youth through musical theatre training. He has written sixteen musicals to date based on historical and/or uniting the community. In addition\, he has composed over 90 songs that help introduce kids to jazz through musical theatre and has reached over 5\,000 students nationally with his Swinging with the Cool School soft introduction to jazz workshops. \nMarsalis has a dual Bachelor’s degree in Music performance and Production from Berklee College of Music\, and a Masters in Jazz Performance from the University of Louisville. A Doctorate has also been conferred from the New England College.
URL:https://notoriousjazz.com/event/delfeayo-marsalis-the-uptown-jazz-orchestra
LOCATION:Campus Jax\, 3950 Campus Drive\, Newport Beach\, CA\, 92660\, United States
CATEGORIES:Club,Restaurant
ATTACH;FMTTYPE=image/png:https://notoriousjazz.com/wp-content/uploads/2023/05/DELFEAYO-MARSALIS.png
END:VEVENT
END:VCALENDAR