BEGIN:VCALENDAR
VERSION:2.0
PRODID:-//Notorious Jazz - ECPv6.15.17//NONSGML v1.0//EN
CALSCALE:GREGORIAN
METHOD:PUBLISH
X-WR-CALNAME:Notorious Jazz
X-ORIGINAL-URL:https://notoriousjazz.com
X-WR-CALDESC:Events for Notorious Jazz
REFRESH-INTERVAL;VALUE=DURATION:PT1H
X-Robots-Tag:noindex
X-PUBLISHED-TTL:PT1H
BEGIN:VTIMEZONE
TZID:America/New_York
BEGIN:DAYLIGHT
TZOFFSETFROM:-0500
TZOFFSETTO:-0400
TZNAME:EDT
DTSTART:20220313T070000
END:DAYLIGHT
BEGIN:STANDARD
TZOFFSETFROM:-0400
TZOFFSETTO:-0500
TZNAME:EST
DTSTART:20221106T060000
END:STANDARD
BEGIN:DAYLIGHT
TZOFFSETFROM:-0500
TZOFFSETTO:-0400
TZNAME:EDT
DTSTART:20230312T070000
END:DAYLIGHT
BEGIN:STANDARD
TZOFFSETFROM:-0400
TZOFFSETTO:-0500
TZNAME:EST
DTSTART:20231105T060000
END:STANDARD
BEGIN:DAYLIGHT
TZOFFSETFROM:-0500
TZOFFSETTO:-0400
TZNAME:EDT
DTSTART:20240310T070000
END:DAYLIGHT
BEGIN:STANDARD
TZOFFSETFROM:-0400
TZOFFSETTO:-0500
TZNAME:EST
DTSTART:20241103T060000
END:STANDARD
END:VTIMEZONE
BEGIN:VTIMEZONE
TZID:America/Los_Angeles
BEGIN:DAYLIGHT
TZOFFSETFROM:-0800
TZOFFSETTO:-0700
TZNAME:PDT
DTSTART:20220313T100000
END:DAYLIGHT
BEGIN:STANDARD
TZOFFSETFROM:-0700
TZOFFSETTO:-0800
TZNAME:PST
DTSTART:20221106T090000
END:STANDARD
BEGIN:DAYLIGHT
TZOFFSETFROM:-0800
TZOFFSETTO:-0700
TZNAME:PDT
DTSTART:20230312T100000
END:DAYLIGHT
BEGIN:STANDARD
TZOFFSETFROM:-0700
TZOFFSETTO:-0800
TZNAME:PST
DTSTART:20231105T090000
END:STANDARD
BEGIN:DAYLIGHT
TZOFFSETFROM:-0800
TZOFFSETTO:-0700
TZNAME:PDT
DTSTART:20240310T100000
END:DAYLIGHT
BEGIN:STANDARD
TZOFFSETFROM:-0700
TZOFFSETTO:-0800
TZNAME:PST
DTSTART:20241103T090000
END:STANDARD
END:VTIMEZONE
BEGIN:VEVENT
DTSTART;TZID=America/New_York:20230606T190000
DTEND;TZID=America/New_York:20230610T230000
DTSTAMP:20260421T140025
CREATED:20230527T194700Z
LAST-MODIFIED:20230527T200421Z
UID:35402-1686078000-1686438000@notoriousjazz.com
SUMMARY:STACEY KENT
DESCRIPTION:Stacey Kent is a jazz singer in the mould of the greats\, with a legion of fans worldwide\, a host of honors and awards including a Grammy nomination\, album sales in excess of 2 million\, Platinum\, Double-Gold and Gold-selling albums that have reached a series of No. 1 chart positions during the span of her career. \nWith a catalogue of studio albums\, including the Platinum-selling\, Grammy-nominated Breakfast On The Morning Tram (EMI/Blue Note 2007) and an impressive list of collaborations\, Stacey has graced the stages of more than 55 countries over the course of her career. \nStacey has cemented her reputation as a singer capable of putting a distinctive stamp on an impressive repertoire of standards. Her ability to communicate emotion through a nuanced and minimalist approach was showcased on Jim Tomlinson’s album\, The Lyric (Token). This album brought her to the attention of Blue Note records with whom she signed in 2007. With each successive album\, Stacey’s style has become more honed as her artistic outlook has broadened\, leading her beyond the Great American Songbook to French chanson and Brazilian music which form an ever-larger part of her repertoire. \nAmong French\, Italian and German\, Stacey also speaks Portuguese. She has toured widely in Brazil and collaborated with many of her heroes including Edu Lobo\, Dori and Danilo Caymmi\, Roberto Menescal\, and most notably Marcos Valle\, who invited her to celebrate his 50 years in music on the album\, Ao Vivo (Sony 2013). \nDuring the COVID 19 pandemic she was busy recording from home and staying in touch with her fans through social media. She has released Songs From Other Places and her forthcoming studio album\, Summer Me\, Winter Me\, originally scheduled for release in October 2020 is now planned for release in 2022. \nShowtimes vary through the week. Fees are included in ticket price.
URL:https://notoriousjazz.com/event/stacey-kent
LOCATION:Birdland\, 315 W 44th Street\, #5402\, New York City\, NY\, 10036\, United States
CATEGORIES:Club
ATTACH;FMTTYPE=image/jpeg:https://notoriousjazz.com/wp-content/uploads/2023/05/STACEY-KENT.jpg
END:VEVENT
BEGIN:VEVENT
DTSTART;TZID=America/Los_Angeles:20230608T181500
DTEND;TZID=America/Los_Angeles:20230610T203000
DTSTAMP:20260421T140025
CREATED:20230220T141514Z
LAST-MODIFIED:20230220T141514Z
UID:34219-1686248100-1686429000@notoriousjazz.com
SUMMARY:THE MUSIC OF BURT BACHARACH
DESCRIPTION:Burt Freeman Bacharach | May 12\, 1928 – February 8\, 2023   \nAn American composer\, songwriter\, record producer\, and pianist who is widely regarded as one of the most important and influential figures of 20th-century popular music. Starting in the 1950s\, he composed hundreds of pop songs\, many in collaboration with lyricist Hal David. Bacharach’s music is characterized by unusual chord progressions\, influenced by his background in jazz harmony\, and uncommon selections of instruments for small orchestras. He arranged\, conducted\, and produced much of his recorded output. \nOver 1\,000 different artists have recorded Bacharach’s songs. From 1961 to 1972\, most of Bacharach and David’s hits were written specifically for and performed by Dionne Warwick\, but earlier associations from 1957 to 1963 saw the composing duo work with Marty Robbins\, Perry Como\, Gene McDaniels\, and Jerry Butler. Following the initial success of these collaborations\, Bacharach wrote hits for singers such as Gene Pitney\, Cilla Black\, Dusty Springfield\, Tom Jones\, and B. J. Thomas.
URL:https://notoriousjazz.com/event/the-music-of-burt-bacharach
LOCATION:The Jazz Lounge\, 6818 El Cajon Boulevard\, San Diego\, CA\, 92115\, United States
CATEGORIES:Club
ATTACH;FMTTYPE=image/jpeg:https://notoriousjazz.com/wp-content/uploads/2023/02/BURT-BACHARACH.jpg
END:VEVENT
BEGIN:VEVENT
DTSTART;TZID=America/New_York:20230608T190000
DTEND;TZID=America/New_York:20230611T234500
DTSTAMP:20260421T140025
CREATED:20230527T150047Z
LAST-MODIFIED:20230527T150904Z
UID:35356-1686250800-1686527100@notoriousjazz.com
SUMMARY:ORRIN EVANS
DESCRIPTION:Sean Jones – trumpet\nGary Thomas – tenor saxophone\nOrrin Evans – piano\nRobert Hurst – bass\nMarvin “Smitty” Smith – drums \nPianist Orrin Evans celebrates the release of his exciting new album\, The Red Door (SMOKE Sessions Records)\, leading an exceptional quintet featuring trumpeter Sean Jones\, tenor saxophonist Gary Thomas\, bassist Robert Hurst\, and drummer Marvin “Smitty: Smith. Evans is a master at assembling inspired groups\, and this one proves it again. The New York Times reports\, “Mr. Evans is a viable candidate for jazz’s most resourceful and invigorating contemporary pianist\,” while WBGO Radio adds that he is “a highly esteemed pianist with post-bop dynamism in his bloodstream.” \nShowtimes: 7:00pm | 9:00pm | 10:30pm \nStreaming: $15:00 ~ Friday & Saturday Shows \nFess Applied To All Ticket/Pass Purchases
URL:https://notoriousjazz.com/event/orrin-evans
LOCATION:Smoke Jazz & Supper Club\, 2751 Broadway\, New York City\, NY\, 10025\, United States
CATEGORIES:Club
ATTACH;FMTTYPE=image/jpeg:https://notoriousjazz.com/wp-content/uploads/2023/05/ORRIN-EVANS.jpg
END:VEVENT
END:VCALENDAR