BEGIN:VCALENDAR
VERSION:2.0
PRODID:-//Notorious Jazz - ECPv6.15.17//NONSGML v1.0//EN
CALSCALE:GREGORIAN
METHOD:PUBLISH
X-WR-CALNAME:Notorious Jazz
X-ORIGINAL-URL:https://notoriousjazz.com
X-WR-CALDESC:Events for Notorious Jazz
REFRESH-INTERVAL;VALUE=DURATION:PT1H
X-Robots-Tag:noindex
X-PUBLISHED-TTL:PT1H
BEGIN:VTIMEZONE
TZID:America/New_York
BEGIN:DAYLIGHT
TZOFFSETFROM:-0500
TZOFFSETTO:-0400
TZNAME:EDT
DTSTART:20220313T070000
END:DAYLIGHT
BEGIN:STANDARD
TZOFFSETFROM:-0400
TZOFFSETTO:-0500
TZNAME:EST
DTSTART:20221106T060000
END:STANDARD
BEGIN:DAYLIGHT
TZOFFSETFROM:-0500
TZOFFSETTO:-0400
TZNAME:EDT
DTSTART:20230312T070000
END:DAYLIGHT
BEGIN:STANDARD
TZOFFSETFROM:-0400
TZOFFSETTO:-0500
TZNAME:EST
DTSTART:20231105T060000
END:STANDARD
BEGIN:DAYLIGHT
TZOFFSETFROM:-0500
TZOFFSETTO:-0400
TZNAME:EDT
DTSTART:20240310T070000
END:DAYLIGHT
BEGIN:STANDARD
TZOFFSETFROM:-0400
TZOFFSETTO:-0500
TZNAME:EST
DTSTART:20241103T060000
END:STANDARD
END:VTIMEZONE
BEGIN:VEVENT
DTSTART;TZID=America/New_York:20230615T190000
DTEND;TZID=America/New_York:20230618T234500
DTSTAMP:20260421T123414
CREATED:20230527T150724Z
LAST-MODIFIED:20230527T150812Z
UID:35359-1686855600-1687131900@notoriousjazz.com
SUMMARY:VINCENT HERRING
DESCRIPTION:Vincent Herring – alto saxophone\nJeremy Pelt – trumpet\nJames Carter – tenor saxophone\nPaul Bollenbeck – guitar\nDavid Kikoski – piano\nEssiet Essiet – bass\nJeff “Tain” Watts – drums \nThe fiery and soulful alto saxophonist Vincent Herring convenes a spectacular all-star octet featuring Jeremy Pelt\, James Carter\, Paul Bollenback\, David Kikoski\, Essiet Essiet\, and Jeff “Tain” Watts. WNPR reports that “Herring fuses instrumental mastery with equal and unified parts of jazz’s holy trinity of heart\, mind\, and soul\,” which is also a perfect description of this project. Something Else! was the only Blue Note album recorded by the great alto saxophonist Cannonball Adderley. Released in 1958\, it became an iconic masterpiece for its blend of heart\, mind\, and soul. Something Else!\, the band\, takes its inspiration from this soul-warming music with new arrangements and original compositions in the same spirit. \nShowtimes: 7:00pm | 9:00pm | 10:30pm \nStreaming: $15.00 ~ Friday & Saturday Shows \nFess Applied To All Ticket/Pass Purchases \n 
URL:https://notoriousjazz.com/event/vincent-herring
LOCATION:Smoke Jazz & Supper Club\, 2751 Broadway\, New York City\, NY\, 10025\, United States
CATEGORIES:Club
ATTACH;FMTTYPE=image/jpeg:https://notoriousjazz.com/wp-content/uploads/2023/05/VINCENT-HERRING.jpg
END:VEVENT
END:VCALENDAR