BEGIN:VCALENDAR
VERSION:2.0
PRODID:-//Notorious Jazz - ECPv6.15.17//NONSGML v1.0//EN
CALSCALE:GREGORIAN
METHOD:PUBLISH
X-WR-CALNAME:Notorious Jazz
X-ORIGINAL-URL:https://notoriousjazz.com
X-WR-CALDESC:Events for Notorious Jazz
REFRESH-INTERVAL;VALUE=DURATION:PT1H
X-Robots-Tag:noindex
X-PUBLISHED-TTL:PT1H
BEGIN:VTIMEZONE
TZID:America/New_York
BEGIN:DAYLIGHT
TZOFFSETFROM:-0500
TZOFFSETTO:-0400
TZNAME:EDT
DTSTART:20220313T070000
END:DAYLIGHT
BEGIN:STANDARD
TZOFFSETFROM:-0400
TZOFFSETTO:-0500
TZNAME:EST
DTSTART:20221106T060000
END:STANDARD
BEGIN:DAYLIGHT
TZOFFSETFROM:-0500
TZOFFSETTO:-0400
TZNAME:EDT
DTSTART:20230312T070000
END:DAYLIGHT
BEGIN:STANDARD
TZOFFSETFROM:-0400
TZOFFSETTO:-0500
TZNAME:EST
DTSTART:20231105T060000
END:STANDARD
BEGIN:DAYLIGHT
TZOFFSETFROM:-0500
TZOFFSETTO:-0400
TZNAME:EDT
DTSTART:20240310T070000
END:DAYLIGHT
BEGIN:STANDARD
TZOFFSETFROM:-0400
TZOFFSETTO:-0500
TZNAME:EST
DTSTART:20241103T060000
END:STANDARD
END:VTIMEZONE
BEGIN:VEVENT
DTSTART;TZID=America/New_York:20230620T190000
DTEND;TZID=America/New_York:20230624T170000
DTSTAMP:20260421T140024
CREATED:20230527T201939Z
LAST-MODIFIED:20230527T212922Z
UID:35405-1687287600-1687626000@notoriousjazz.com
SUMMARY:MARIA SCHNEIDER ORCHESTRA
DESCRIPTION:Maria Schneider’s music has been hailed by critics as “evocative\, majestic\, magical\, heart-stoppingly gorgeous\, imaginative\, revelatory\, riveting\, daring\, and beyond categorization.” Blurring the lines between genres\, her varied commissioners stretch from Jazz at Lincoln Center to The Saint Paul Chamber Orchestra to the American Dance Festival\, and include collaboration with David Bowie. She is among a small few to receive Grammys in multiple genres\, having received the award in jazz and classical\, as well as for her work with David Bowie. \nSchneider’s many honors also include: 14 Grammy-nominations\, 7 Grammy Awards\, numerous Jazz Journalists Association awards\, DownBeat and Jazztimes Critics and Readers Polls awards\, an honorary doctorate from her alma mater\, the University of Minnesota\, ASCAP’s esteemed Concert Music Award (2014)\, the nation’s highest honor in jazz\, “NEA Jazz Master” (2019)\, and election into the 2020 American Academy of Arts and Sciences.
URL:https://notoriousjazz.com/event/maria-schneider-orchestra-2
LOCATION:Birdland\, 315 W 44th Street\, #5402\, New York City\, NY\, 10036\, United States
CATEGORIES:Club
ATTACH;FMTTYPE=image/jpeg:https://notoriousjazz.com/wp-content/uploads/2023/05/MARIA-SCHNEIDER.jpg
END:VEVENT
END:VCALENDAR