BEGIN:VCALENDAR
VERSION:2.0
PRODID:-//Notorious Jazz - ECPv6.15.17//NONSGML v1.0//EN
CALSCALE:GREGORIAN
METHOD:PUBLISH
X-WR-CALNAME:Notorious Jazz
X-ORIGINAL-URL:https://notoriousjazz.com
X-WR-CALDESC:Events for Notorious Jazz
REFRESH-INTERVAL;VALUE=DURATION:PT1H
X-Robots-Tag:noindex
X-PUBLISHED-TTL:PT1H
BEGIN:VTIMEZONE
TZID:America/New_York
BEGIN:DAYLIGHT
TZOFFSETFROM:-0500
TZOFFSETTO:-0400
TZNAME:EDT
DTSTART:20220313T070000
END:DAYLIGHT
BEGIN:STANDARD
TZOFFSETFROM:-0400
TZOFFSETTO:-0500
TZNAME:EST
DTSTART:20221106T060000
END:STANDARD
BEGIN:DAYLIGHT
TZOFFSETFROM:-0500
TZOFFSETTO:-0400
TZNAME:EDT
DTSTART:20230312T070000
END:DAYLIGHT
BEGIN:STANDARD
TZOFFSETFROM:-0400
TZOFFSETTO:-0500
TZNAME:EST
DTSTART:20231105T060000
END:STANDARD
BEGIN:DAYLIGHT
TZOFFSETFROM:-0500
TZOFFSETTO:-0400
TZNAME:EDT
DTSTART:20240310T070000
END:DAYLIGHT
BEGIN:STANDARD
TZOFFSETFROM:-0400
TZOFFSETTO:-0500
TZNAME:EST
DTSTART:20241103T060000
END:STANDARD
END:VTIMEZONE
BEGIN:VTIMEZONE
TZID:Europe/London
BEGIN:DAYLIGHT
TZOFFSETFROM:+0000
TZOFFSETTO:+0100
TZNAME:BST
DTSTART:20220327T010000
END:DAYLIGHT
BEGIN:STANDARD
TZOFFSETFROM:+0100
TZOFFSETTO:+0000
TZNAME:GMT
DTSTART:20221030T010000
END:STANDARD
BEGIN:DAYLIGHT
TZOFFSETFROM:+0000
TZOFFSETTO:+0100
TZNAME:BST
DTSTART:20230326T010000
END:DAYLIGHT
BEGIN:STANDARD
TZOFFSETFROM:+0100
TZOFFSETTO:+0000
TZNAME:GMT
DTSTART:20231029T010000
END:STANDARD
BEGIN:DAYLIGHT
TZOFFSETFROM:+0000
TZOFFSETTO:+0100
TZNAME:BST
DTSTART:20240331T010000
END:DAYLIGHT
BEGIN:STANDARD
TZOFFSETFROM:+0100
TZOFFSETTO:+0000
TZNAME:GMT
DTSTART:20241027T010000
END:STANDARD
END:VTIMEZONE
BEGIN:VEVENT
DTSTART;TZID=America/New_York:20230627T190000
DTEND;TZID=America/New_York:20230701T230000
DTSTAMP:20260421T123305
CREATED:20230527T214154Z
LAST-MODIFIED:20230527T214154Z
UID:35408-1687892400-1688252400@notoriousjazz.com
SUMMARY:RAVI COLTRANE
DESCRIPTION:In the course of his three decade career\, critically acclaimed\, GRAMMY® nominated saxophonist\, bandleader\, and composer Ravi Coltrane has performed and recorded with jazz legends Elvin Jones\, Terence Blanchard\, Kenny Barron\, Steve Coleman\, McCoy Tyner\, Jack DeJohnette\, and many more. Born in Long Island\, Ravi is the second son of jazz icons John Coltrane and Alice Coltrane. Alice Coltrane\, was a significant influence on Ravi’s spiritually-tinged style of jazz and it was Ravi who encouraged Alice\, after a long hiatus\, to return to performing and recording with “Translinear Light” (Impulse!\, 2004)\, before her passing in 2007. Ravi has released six albums as a leader. His latest\, Spirit Fiction\, is on the Blue Note Record label. \nShowtimes: 7:00pm | 8:30pm | 10:30pm \nFees Applied To All Ticket Purchases
URL:https://notoriousjazz.com/event/ravi-coltrane
LOCATION:Birdland\, 315 W 44th Street\, #5402\, New York City\, NY\, 10036\, United States
CATEGORIES:Club
ATTACH;FMTTYPE=image/png:https://notoriousjazz.com/wp-content/uploads/2023/05/RAVI-COLTRANE.png
END:VEVENT
BEGIN:VEVENT
DTSTART;TZID=America/New_York:20230629T193000
DTEND;TZID=America/New_York:20230629T210000
DTSTAMP:20260421T123305
CREATED:20230622T182802Z
LAST-MODIFIED:20230622T183136Z
UID:35821-1688067000-1688072400@notoriousjazz.com
SUMMARY:SHARÓN CLARK: TRIBUTE TO BALTIMORE'S ETHEL ENNIS
DESCRIPTION:Sharón Clark [Vocals]\nBenjie Porecki [Piano]\nLenny Robinson [Drums]\nMichael Bowie [Bass] \nSharón Clark will be doing a tribute to Baltimore’s own\, Ethel Ennis\, who was an American jazz singer whose career spanned seven decades. Ennis spent the majority of her life in her hometown of Baltimore\, Maryland\, where she was affectionately known as the “First Lady of Jazz.” \n“You can’t underestimate the transformation of what seems like an ordinary song when an interpreter like Sharón Clark…tears it apart and peers inside” – The New York Times \nDC jazz fans beat a path to clubs whenever singer Sharón Clark takes the stage. This prolific artist has assumed the mantle of Washington’s Queen of Jazz. Jazz Times calls her “a revelation… I never thought I’d hear a singer with the range\, musicality and command of tone and timbre that was Sarah [Vaughan] at her best\, but now I have.” As a youngster\, Sharón Clark started her career with her twin sister as the Bottle Caps\, making promotional appearances for the Coca-Cola Company\, and she got her first solo jazz gig singing at King’s Dominion. Today\, she’s a regular at DC’s Blues Alley and is a featured soloist with the Smithsonian Jazz Masterworks Orchestra. No stranger to the road\, Sharón Clark has headlined at major festivals across the U.S. and toured internationally—she has a faithful fan base in Europe\, Russia and Israel. \nTicket Fees: $3.10 – $3.46
URL:https://notoriousjazz.com/event/sharon-clark-tribute-to-baltimores-ethel-ennis
LOCATION:Keystone Korner Baltimore\, 1350 Lancaster Street\, Baltimore\, MD\, 21231\, United States
CATEGORIES:Club
ATTACH;FMTTYPE=image/png:https://notoriousjazz.com/wp-content/uploads/2023/06/SHARON-CLARK.png
END:VEVENT
BEGIN:VEVENT
DTSTART;TZID=Europe/London:20230629T200000
DTEND;TZID=Europe/London:20230629T220000
DTSTAMP:20260421T123305
CREATED:20230608T205522Z
LAST-MODIFIED:20230609T123557Z
UID:35622-1688068800-1688076000@notoriousjazz.com
SUMMARY:THAD JONES LEGACY ORCHESTRA
DESCRIPTION:To mark the 100th birthday of legendary trumpeter Thad Jones\, saxophonist Mark Buckingham and the “Thad Jones Legacy Orchestra” will present a variety of tunes to celebrate one of Jazz’s most influential arrangers! Featuring London’s finest Jazz musicians\, the band will revisit Thad Jones’s contribution to the Count Basie Orchestra\, his own compositions within the Thad Jones / Mel Lewis Orchestra and the Danish Radio Big Band as well as tributes written in memory of the master by other celebrated composers. From “Shiny Stockings” to “Big Dipper” and “A Child is Born”\, expect to hear all the classics as well as some obscure gems! \n***Cover does not include fees!
URL:https://notoriousjazz.com/event/thad-jones-legacy-orchestra
LOCATION:Spicejazz Soho\, 6 Moor Street\, London\, England\, W1D 5NA\, United Kingdom
CATEGORIES:Club
ATTACH;FMTTYPE=image/jpeg:https://notoriousjazz.com/wp-content/uploads/2023/06/THAD-JONES.jpeg
END:VEVENT
END:VCALENDAR