BEGIN:VCALENDAR
VERSION:2.0
PRODID:-//Notorious Jazz - ECPv6.15.17//NONSGML v1.0//EN
CALSCALE:GREGORIAN
METHOD:PUBLISH
X-WR-CALNAME:Notorious Jazz
X-ORIGINAL-URL:https://notoriousjazz.com
X-WR-CALDESC:Events for Notorious Jazz
REFRESH-INTERVAL;VALUE=DURATION:PT1H
X-Robots-Tag:noindex
X-PUBLISHED-TTL:PT1H
BEGIN:VTIMEZONE
TZID:America/New_York
BEGIN:DAYLIGHT
TZOFFSETFROM:-0500
TZOFFSETTO:-0400
TZNAME:EDT
DTSTART:20220313T070000
END:DAYLIGHT
BEGIN:STANDARD
TZOFFSETFROM:-0400
TZOFFSETTO:-0500
TZNAME:EST
DTSTART:20221106T060000
END:STANDARD
BEGIN:DAYLIGHT
TZOFFSETFROM:-0500
TZOFFSETTO:-0400
TZNAME:EDT
DTSTART:20230312T070000
END:DAYLIGHT
BEGIN:STANDARD
TZOFFSETFROM:-0400
TZOFFSETTO:-0500
TZNAME:EST
DTSTART:20231105T060000
END:STANDARD
BEGIN:DAYLIGHT
TZOFFSETFROM:-0500
TZOFFSETTO:-0400
TZNAME:EDT
DTSTART:20240310T070000
END:DAYLIGHT
BEGIN:STANDARD
TZOFFSETFROM:-0400
TZOFFSETTO:-0500
TZNAME:EST
DTSTART:20241103T060000
END:STANDARD
END:VTIMEZONE
BEGIN:VEVENT
DTSTART;TZID=America/New_York:20230706T190000
DTEND;TZID=America/New_York:20230709T234500
DTSTAMP:20260421T090847
CREATED:20230630T163115Z
LAST-MODIFIED:20230630T163115Z
UID:35983-1688670000-1688946300@notoriousjazz.com
SUMMARY:MIGUEL ZENÓN QUARTET
DESCRIPTION:Miguel Zenón – alto saxophone | Luis Perdomo – piano | Hans Glawischnig – bass | Varun Das – drums\n\n“One of the most esteemed and singular-voiced alto saxophonists in jazz” – Downbeat\n\nAlto saxophonist Miguel Zenón makes his SMOKE debut leading his acclaimed quartet featuring pianist Luis Perdomo\, bassist Hans Glawischnig\, and drummer Varun Das. Zenón\, originally from San Juan\, Puerto Rico\, is a master at blending innovation and tradition. Widely considered one of the most groundbreaking and influential saxophonists and composers of his generation\, he has also developed a unique voice and has perfected a fine mix between jazz and his many musical influences. Some musicians Zenón has performed with include Charlie Haden\, Fred Hersch\, Kenny Werner\, David Sánchez\, Danilo Perez\, Kurt Elling\, and Bobby Hutcherson. He was chosen as alto saxophonist of the year and jazz artist of the year by the JazzTimes Critic’s Poll and is the recipient of multiple GRAMMY nominations\, and is a Guggenheim and MacArthur Fellow in 2008. On his selection by the MacArthur Foundation wrote\, “This young musician and composer is at once reestablishing the artistic\, cultural\, and social tradition of jazz while creating an entirely new jazz language for the 21st century.”
URL:https://notoriousjazz.com/event/miguel-zenon-quartet-2
LOCATION:Smoke Jazz & Supper Club\, 2751 Broadway\, New York City\, NY\, 10025\, United States
CATEGORIES:Club
ATTACH;FMTTYPE=image/jpeg:https://notoriousjazz.com/wp-content/uploads/2023/06/MIGUEL-ZENON.jpeg
END:VEVENT
BEGIN:VEVENT
DTSTART;TZID=America/New_York:20230707T190000
DTEND;TZID=America/New_York:20230708T220000
DTSTAMP:20260421T090847
CREATED:20230701T205245Z
LAST-MODIFIED:20230701T210326Z
UID:36030-1688756400-1688853600@notoriousjazz.com
SUMMARY:NICOLE HENRY
DESCRIPTION:The New York Times\, Miami Herald\, and Jazz Times Magazine have compared powerhouse jazz vocalist Nicole Henry to Whitney Houston and Natalie Cole for her dynamic range\, impeccable phrasing\, and bluesy gospel style. Whether burning through a swing tune or gently caressing a ballad she returns to Middle C after four hugely successful shows\, truly makes each song uniquely her own and “aims right for the emotional center.” (Billboard) \nCelebrating a 20-year career and 8 critically acclaimed chart-topping CDs\, Nicole is the recipient of a Soul Train Award for “Best Traditional Jazz Performance\,” and has garnered four Top-10 jazz albums on the U.S. Billboard; JazzWeek; HMV Japan and U.K. Sweet Rhythms charts. \n\n\n\nThe New York Times raved\, “Every gesture and inflection conveyed confidence and mastery…I had the sense of being in the presence of a pop-soul superwoman.” Broadway World says\,“So powerful is her charisma\, so unique is her personality\, so rich is her music\, so abandoned is her joy that you can’t watch her without being drawn in.” \n\n\nHer latest chart-topping album\, “Time to Love Again” features reimagined versions of jazz standards as well as soul\, pop\, and folk songs by masters like Anthony Newly\, Stevie Wonder\, Joan Armatrading\, James Taylor\, Rodger & Hart and Buffy St. Marie. Ms. Henry will tell real stories through peerless interpretations of songs from that CD release as well as music from her vast catalogue and repertoire. Expect to be transported and thoroughly entertained…
URL:https://notoriousjazz.com/event/nicole-henry-8
LOCATION:Middle C Jazz\, 300 South Brevard Street\, Charlotte\, NC\, 28202\, United States
CATEGORIES:Club
ATTACH;FMTTYPE=image/jpeg:https://notoriousjazz.com/wp-content/uploads/2023/07/NICOLE-HENRY.jpg
END:VEVENT
BEGIN:VEVENT
DTSTART;TZID=America/New_York:20230707T190000
DTEND;TZID=America/New_York:20230708T230000
DTSTAMP:20260421T090847
CREATED:20230622T185028Z
LAST-MODIFIED:20230623T141909Z
UID:35831-1688756400-1688857200@notoriousjazz.com
SUMMARY:WARREN WOLF CD RELEASE ~ CHANO POZO: ORIGINS
DESCRIPTION:Celebrate the release of Warren Wolf’s newest album\, “Chano Pozo: ORIGINS”\, at Keystone Korner Baltimore on July 7th & 8th! \nWarren Wolf [vibes]\nAlex Brown [piano]\nBlake Meister [bass]\nBrent Birckhead [saxophone]\nCharles Wilson [drums]\nImani-Grace Cooper [vocals] \nWarren Wolf is a multi-instrumentalist from Baltimore\, MD. From the young age of three years old\, Warren has been trained on the Vibraphone/Marimba\, Drums\, and Piano. Under the guidance of his father Warren Wolf Sr.\, Warren has a deep background in all genres of music. Vibraphonist Warren Wolf is one of the hardest swinging virtuosos in all of modern music. \n“Chano Pozo: ORIGINS” is Warren’s 10th record as a recording artist\, and is set to release July 7th\, 2023. It features himself playing all instruments\, except for the horns. All songs are original except for “LADY” by D’Angelo and Raphael Saadiq. \nShowtimes ~ 7:00pm & 9:30pm \nTicket Fees: $3.10 – $3.46 \nStreaming: $10:00 + $1.70
URL:https://notoriousjazz.com/event/warren-wolf-cd-release-chano-pozo-origins
LOCATION:Keystone Korner Baltimore\, 1350 Lancaster Street\, Baltimore\, MD\, 21231\, United States
CATEGORIES:Club
ATTACH;FMTTYPE=image/jpeg:https://notoriousjazz.com/wp-content/uploads/2023/06/WARREN-WOLF.jpg
END:VEVENT
BEGIN:VEVENT
DTSTART;TZID=America/New_York:20230707T190000
DTEND;TZID=America/New_York:20230708T230000
DTSTAMP:20260421T090847
CREATED:20230701T174018Z
LAST-MODIFIED:20230701T180139Z
UID:36003-1688756400-1688857200@notoriousjazz.com
SUMMARY:MAUCHA ADNET: BOSSA ALWAYS NOVA
DESCRIPTION:Maucha Adnet was born in Rio de Janeiro\, Brazil. She started her professional singing career at the age of 15\, as a member of vocal group Céu da Boca.  Maucha toured with Jobim throughout Brazil\, United States\, Japan\, Israel and Europe and performed in Jazz Festivals and venues such as Carnegie Hall (NY)\, Avery Ficher Hall (NY)\, Hollywood Ball (LA)\, Bill Graham Wiltern Theatre (LA) and many others. \nMaucha has also recorded with such artists as Dorival Caymmi\, Chico Buarque\, Dori Caymmi\, Caetano Veloso\, Toninho Horta\, Mario Adnet\, Joyce\, Nara Leão\, Cesar Camargo Mariano\, Charlie Byrd\, Gil Goldstein\, Emily Remler\, Rob Mounsey\, Othelo Molineaux\, Trio da Paz\, Herry Allen\, Duduka Da Fonseca\, Slide Hampton and many others. She was the guest vocalist on Randy Brecker’s Grammy Winner CD ‘Into the Sun’. \nResiding in New York for many years\, Maucha has been performing regurlaly with her own band and has performed in shows with Claudio Roditi\, Herbie Mann\, Trio da Paz\, Oscar Castro Neves\, Eliane Elias\, Mark Johnson\, Slide Hampton\, Randy Brecker\, Carnegie Hall Jazz Band at various venues\, notably; Carnegie Hall\, Avery Fisher Hall\, Blue Note and Birdland. Most recently she was the guest vocalist performing with Wynton Marsalis and the Lincoln Center Jazz Orchestra with Cyro Baptista at  Alice Tully Hall (NY)\, may  2002.  Maucha has a solo CD ‘Songs I Learned From Jobim’\, released in Japan (Venus Records). \nShowtimes: 7:00pm | 9:30pm
URL:https://notoriousjazz.com/event/maucha-adnet-bossa-always-nova
LOCATION:Jazz Forum Arts\, 1 Dixon Lane\, Tarrytown\, NY\, 10591\, United States
CATEGORIES:Club
ATTACH;FMTTYPE=image/png:https://notoriousjazz.com/wp-content/uploads/2023/07/MAUCHA-ADNET.png
END:VEVENT
END:VCALENDAR