BEGIN:VCALENDAR
VERSION:2.0
PRODID:-//Notorious Jazz - ECPv6.15.17//NONSGML v1.0//EN
CALSCALE:GREGORIAN
METHOD:PUBLISH
X-ORIGINAL-URL:https://notoriousjazz.com
X-WR-CALDESC:Events for Notorious Jazz
REFRESH-INTERVAL;VALUE=DURATION:PT1H
X-Robots-Tag:noindex
X-PUBLISHED-TTL:PT1H
BEGIN:VTIMEZONE
TZID:America/New_York
BEGIN:DAYLIGHT
TZOFFSETFROM:-0500
TZOFFSETTO:-0400
TZNAME:EDT
DTSTART:20220313T070000
END:DAYLIGHT
BEGIN:STANDARD
TZOFFSETFROM:-0400
TZOFFSETTO:-0500
TZNAME:EST
DTSTART:20221106T060000
END:STANDARD
BEGIN:DAYLIGHT
TZOFFSETFROM:-0500
TZOFFSETTO:-0400
TZNAME:EDT
DTSTART:20230312T070000
END:DAYLIGHT
BEGIN:STANDARD
TZOFFSETFROM:-0400
TZOFFSETTO:-0500
TZNAME:EST
DTSTART:20231105T060000
END:STANDARD
BEGIN:DAYLIGHT
TZOFFSETFROM:-0500
TZOFFSETTO:-0400
TZNAME:EDT
DTSTART:20240310T070000
END:DAYLIGHT
BEGIN:STANDARD
TZOFFSETFROM:-0400
TZOFFSETTO:-0500
TZNAME:EST
DTSTART:20241103T060000
END:STANDARD
END:VTIMEZONE
BEGIN:VEVENT
DTSTART;TZID=America/New_York:20230713T080000
DTEND;TZID=America/New_York:20230716T170000
DTSTAMP:20260421T123629
CREATED:20230630T161248Z
LAST-MODIFIED:20230630T162005Z
UID:35980-1689235200-1689526800@notoriousjazz.com
SUMMARY:BILLY HARPER QUINTET
DESCRIPTION:Billy Harper – tenor saxophone | Freddie Hendrix – trumpet | Francesca Tanksley – piano | Ben Young – bass | Aaron Scott – drums \n“His improvisations are torrential\, dance-like and swinging\, spiraling upward to mountaintop pronouncements that can leave listeners in a sweat.” – The New York Times Tenor saxophonist Billy Harper leads his celebrated quintet with trumpeter Freddie Hendrix\, pianist Francesca Tanksley\, bassist Ben Young\, and drummer Aaron Scott. One of the indispensable saxophonists of the past 50 years stylistically indebted to Trane\, Harper has a distinctive sound and approach that is purely his own. Over the years\, he’s worked with Art Blakey\, Max Roach\, Gil Evans\, Elvin Jones\, Lee Morgan\, and\, most recently\, the Cookers. The San Francisco Chronicle says\, “He is a soul of sensitivity and intelligence\, as well as of explosive\, majestic passion.” “His viscous\, chocolaty tone and depth-charge bursts from the bottom of his range [are] a stark contrast to the current trend for a post-bop homogeneity of tone in the newer generation of saxophone sounds\,” reports JazzWise.
URL:https://notoriousjazz.com/event/billy-harper-quintet
LOCATION:Smoke Jazz & Supper Club\, 2751 Broadway\, New York City\, NY\, 10025\, United States
CATEGORIES:Club
ATTACH;FMTTYPE=image/jpeg:https://notoriousjazz.com/wp-content/uploads/2023/06/BILLY-HARPER.jpeg
END:VEVENT
BEGIN:VEVENT
DTSTART;TZID=America/New_York:20230716T200000
DTEND;TZID=America/New_York:20230716T233000
DTSTAMP:20260421T123629
CREATED:20230701T222247Z
LAST-MODIFIED:20230701T222247Z
UID:36047-1689537600-1689550200@notoriousjazz.com
SUMMARY:MIMI JONES & FRIENDS
DESCRIPTION:The Lab Session: Jam and Jazz Party \nFor more than two decades she’s been on the scene\, bassist/vocalist/producer/label owner and now filmmaker Mimi Jones has reigned supreme\, as a side woman to an impressive coterie of musicians and as a leader with three original recording projects on her own Hot Tone Music label. Born Miriam Sullivan in New York City on March 25\, 1972\, and was raised in the Bronx. Jones studied Music at the Manhattan School of Music Conservatory\, and has also studied with Linda McKnight\, Lisle Atkinson\, Barry Harris\, Milt Hinton\, Dr. Billy Taylor\, Yusef Lateef. She has toured extensively for over 30 years throughout the seven continents\, and has played with such people as Frank Ocean\, Kenny Barron\, DD Bridgewater\, Dianne Reeves\, Tia Fuller\, Roy Hargrove\, Terri Lyne Carrington\, Beyonce\, Jason Moran\, Common\, Black Thought and more. Mimi Jones co-directs a multimedia interdisciplinary production with pianist ArcoIris Sandoval entitled The D.O.M.E. Experience\, creating choreography\, musical and visual works inspired by social injustices and environmental changes in our world. Voted #1 & #2 rising star by the DownBeat polls for 3 consecutive years\, she currently works on a new project called The Black Madonna. The Berklee School of Music professor recently began collaborating with a trio called Nite Bjuti featuring Vocalist Candice Hoyes\, and Sound Chemist Val Jeanty. Mimi is a recipient of the Chamber Music America Performance Plus Award 2021.
URL:https://notoriousjazz.com/event/mimi-jones-friends-2
LOCATION:Room 623\,  271 West 119th Street\, Harlem\, New York City\, NY\, 10026\, United States
CATEGORIES:Club
ATTACH;FMTTYPE=image/jpeg:https://notoriousjazz.com/wp-content/uploads/2023/07/MIMI-JONES.jpg
END:VEVENT
END:VCALENDAR