BEGIN:VCALENDAR
VERSION:2.0
PRODID:-//Notorious Jazz - ECPv6.15.17//NONSGML v1.0//EN
CALSCALE:GREGORIAN
METHOD:PUBLISH
X-ORIGINAL-URL:https://notoriousjazz.com
X-WR-CALDESC:Events for Notorious Jazz
REFRESH-INTERVAL;VALUE=DURATION:PT1H
X-Robots-Tag:noindex
X-PUBLISHED-TTL:PT1H
BEGIN:VTIMEZONE
TZID:America/New_York
BEGIN:DAYLIGHT
TZOFFSETFROM:-0500
TZOFFSETTO:-0400
TZNAME:EDT
DTSTART:20220313T070000
END:DAYLIGHT
BEGIN:STANDARD
TZOFFSETFROM:-0400
TZOFFSETTO:-0500
TZNAME:EST
DTSTART:20221106T060000
END:STANDARD
BEGIN:DAYLIGHT
TZOFFSETFROM:-0500
TZOFFSETTO:-0400
TZNAME:EDT
DTSTART:20230312T070000
END:DAYLIGHT
BEGIN:STANDARD
TZOFFSETFROM:-0400
TZOFFSETTO:-0500
TZNAME:EST
DTSTART:20231105T060000
END:STANDARD
BEGIN:DAYLIGHT
TZOFFSETFROM:-0500
TZOFFSETTO:-0400
TZNAME:EDT
DTSTART:20240310T070000
END:DAYLIGHT
BEGIN:STANDARD
TZOFFSETFROM:-0400
TZOFFSETTO:-0500
TZNAME:EST
DTSTART:20241103T060000
END:STANDARD
END:VTIMEZONE
BEGIN:VEVENT
DTSTART;TZID=America/New_York:20230724T190000
DTEND;TZID=America/New_York:20230724T203000
DTSTAMP:20260421T104929
CREATED:20230714T103310Z
LAST-MODIFIED:20230714T103310Z
UID:36165-1690225200-1690230600@notoriousjazz.com
SUMMARY:METROPOLITAN JAZZ ORCHESTRA
DESCRIPTION:The Metropolitan Jazz Orchestra is an 18-piece “big band” featuring contemporary big-band jazz. Their selections include something for both young and old alike and considers the audience as an integral part of the show. Expect some humor\, scary-good charts\, outstanding local musicians and a very enjoyable evening! \nDirector – Jim Mick \nSaxes: Zack Cassell\, Adam Bell\, Sam Hesch\, Chris Wojtecki\, Larry Stephens \nTrombones: Kevin Buchanan\, Ron Argotsinger\, Spencer Malott\, Kiel Lauer \nTrumpets: Scott Handler\, David Froman\, Doug Barta\, Mark Ibsen \nRhythm: Ron Jolly – Piano\, Clint Dadian – Guitar\, Jason Malmberg – Bass\, Ian Spillman – Drums
URL:https://notoriousjazz.com/event/metropolitan-jazz-orchestra
LOCATION:Dazzle\, 1080 14th Street\, Denver\, CO\, 80202\, United States
CATEGORIES:Club
ATTACH;FMTTYPE=image/png:https://notoriousjazz.com/wp-content/uploads/2023/07/METROPOLITAN-JAZZ-ORCHESTRA.png
END:VEVENT
END:VCALENDAR