BEGIN:VCALENDAR
VERSION:2.0
PRODID:-//Notorious Jazz - ECPv6.15.17//NONSGML v1.0//EN
CALSCALE:GREGORIAN
METHOD:PUBLISH
X-ORIGINAL-URL:https://notoriousjazz.com
X-WR-CALDESC:Events for Notorious Jazz
REFRESH-INTERVAL;VALUE=DURATION:PT1H
X-Robots-Tag:noindex
X-PUBLISHED-TTL:PT1H
BEGIN:VTIMEZONE
TZID:America/New_York
BEGIN:DAYLIGHT
TZOFFSETFROM:-0500
TZOFFSETTO:-0400
TZNAME:EDT
DTSTART:20220313T070000
END:DAYLIGHT
BEGIN:STANDARD
TZOFFSETFROM:-0400
TZOFFSETTO:-0500
TZNAME:EST
DTSTART:20221106T060000
END:STANDARD
BEGIN:DAYLIGHT
TZOFFSETFROM:-0500
TZOFFSETTO:-0400
TZNAME:EDT
DTSTART:20230312T070000
END:DAYLIGHT
BEGIN:STANDARD
TZOFFSETFROM:-0400
TZOFFSETTO:-0500
TZNAME:EST
DTSTART:20231105T060000
END:STANDARD
BEGIN:DAYLIGHT
TZOFFSETFROM:-0500
TZOFFSETTO:-0400
TZNAME:EDT
DTSTART:20240310T070000
END:DAYLIGHT
BEGIN:STANDARD
TZOFFSETFROM:-0400
TZOFFSETTO:-0500
TZNAME:EST
DTSTART:20241103T060000
END:STANDARD
END:VTIMEZONE
BEGIN:VEVENT
DTSTART;TZID=America/New_York:20230727T190000
DTEND;TZID=America/New_York:20230730T230000
DTSTAMP:20260421T074743
CREATED:20230714T100331Z
LAST-MODIFIED:20230714T101420Z
UID:36162-1690484400-1690758000@notoriousjazz.com
SUMMARY:CHARLES MCPHERSON QUINTET
DESCRIPTION:84th Birthday Celebration \nCharles McPherson [alto saxophone]\nJavon Jackson [tenor saxophone]\nAmy Shook [bass]\nJeb Patton [piano]\nBilly Drummond [drums] \nFor more than 60 years\, saxophonist Charles McPherson has been one of the most expressive and highly regarded voices in jazz. His rich musical style\, rooted in the blues and bebop\, has influenced and inspired generations of musicians and listeners. Wynton Marsalis\, a longtime admirer says: “Charles is the very definition of excellence in our music. He is the definitive master on this instrument. He plays with exceptional harmonic accuracy and sophistication. He performs free-flowing\, melodic and thematically developed solos with unbelievable fire and an unparalleled depth of soul.” \nA former member of Art Blakey’s Jazz Messengers who also put in time with such jazz giants\, Javon Jackson keeps the fires burning for straight ahead jazz. \nAmy Shook is one of the most in-demand acoustic bassists in the mid-Atlantic\, coveted for her huge sound and infectious\, driving groove. In addition to being a premier performing and recording artist\, she is an accomplished multi-instrumentalist (playing acoustic bass\, electric bass\, violin\, viola\, and cello)\, composer and music educator. \nJeb Patton\, described as both a “young phenomon… on piano” and an “absolute great\,” has earned a well-regarded reputation in the international jazz community. The multi-talented Patton is known as a “player of great expression.” \nBilly Drummond is acclaimed by Downbeat as one of the hippest and versatile bandleaders now at work\, his thrilling\, powerful and highly musical playing has also made him one of the most called-for sidemen of his generation.
URL:https://notoriousjazz.com/event/charles-mcpherson-quintet
LOCATION:Keystone Korner Baltimore\, 1350 Lancaster Street\, Baltimore\, MD\, 21231\, United States
CATEGORIES:Club
ATTACH;FMTTYPE=image/jpeg:https://notoriousjazz.com/wp-content/uploads/2023/07/CHARLES-MCPHERSON.jpg
END:VEVENT
END:VCALENDAR