BEGIN:VCALENDAR
VERSION:2.0
PRODID:-//Notorious Jazz - ECPv6.15.17//NONSGML v1.0//EN
CALSCALE:GREGORIAN
METHOD:PUBLISH
X-WR-CALNAME:Notorious Jazz
X-ORIGINAL-URL:https://notoriousjazz.com
X-WR-CALDESC:Events for Notorious Jazz
REFRESH-INTERVAL;VALUE=DURATION:PT1H
X-Robots-Tag:noindex
X-PUBLISHED-TTL:PT1H
BEGIN:VTIMEZONE
TZID:America/New_York
BEGIN:DAYLIGHT
TZOFFSETFROM:-0500
TZOFFSETTO:-0400
TZNAME:EDT
DTSTART:20220313T070000
END:DAYLIGHT
BEGIN:STANDARD
TZOFFSETFROM:-0400
TZOFFSETTO:-0500
TZNAME:EST
DTSTART:20221106T060000
END:STANDARD
BEGIN:DAYLIGHT
TZOFFSETFROM:-0500
TZOFFSETTO:-0400
TZNAME:EDT
DTSTART:20230312T070000
END:DAYLIGHT
BEGIN:STANDARD
TZOFFSETFROM:-0400
TZOFFSETTO:-0500
TZNAME:EST
DTSTART:20231105T060000
END:STANDARD
BEGIN:DAYLIGHT
TZOFFSETFROM:-0500
TZOFFSETTO:-0400
TZNAME:EDT
DTSTART:20240310T070000
END:DAYLIGHT
BEGIN:STANDARD
TZOFFSETFROM:-0400
TZOFFSETTO:-0500
TZNAME:EST
DTSTART:20241103T060000
END:STANDARD
END:VTIMEZONE
BEGIN:VTIMEZONE
TZID:Europe/Sofia
BEGIN:DAYLIGHT
TZOFFSETFROM:+0200
TZOFFSETTO:+0300
TZNAME:EEST
DTSTART:20220327T010000
END:DAYLIGHT
BEGIN:STANDARD
TZOFFSETFROM:+0300
TZOFFSETTO:+0200
TZNAME:EET
DTSTART:20221030T010000
END:STANDARD
BEGIN:DAYLIGHT
TZOFFSETFROM:+0200
TZOFFSETTO:+0300
TZNAME:EEST
DTSTART:20230326T010000
END:DAYLIGHT
BEGIN:STANDARD
TZOFFSETFROM:+0300
TZOFFSETTO:+0200
TZNAME:EET
DTSTART:20231029T010000
END:STANDARD
BEGIN:DAYLIGHT
TZOFFSETFROM:+0200
TZOFFSETTO:+0300
TZNAME:EEST
DTSTART:20240331T010000
END:DAYLIGHT
BEGIN:STANDARD
TZOFFSETFROM:+0300
TZOFFSETTO:+0200
TZNAME:EET
DTSTART:20241027T010000
END:STANDARD
END:VTIMEZONE
BEGIN:VEVENT
DTSTART;TZID=America/New_York:20230804T190000
DTEND;TZID=America/New_York:20230805T230000
DTSTAMP:20260421T074510
CREATED:20230701T182013Z
LAST-MODIFIED:20230701T185537Z
UID:36010-1691175600-1691276400@notoriousjazz.com
SUMMARY:WILLIE JONES III QUINTET
DESCRIPTION:Jazz drummer Willie Jones III has played\, toured\, and recorded with Horace Silver\, Roy Hargrove\, Hank Jones\, Cedar Walton\, and Herbie Hancock. He played on Arturo Sandoval’s Grammy-winning 1998 album Hot House. \nJones was one of the founding members of the band Black Note in 1990. Members of this ensemble included\, at various times\, Ark Sano\, Eric Reed\, Gilbert Castellanos\, James Mahone\, Kenneth Crouch\, Mark Shelby\, and Richard E. Grant. They released several albums. \nIn 1991\, Jones began studying at the California Institute of the Arts\, where he took drum lessons from Albert “Tootie” Heath. Jones played with Milt Jackson in 1994\, and toured with trumpeter Arturo Sandoval from 1994 to 1998. \nJones was based in Los Angeles until he moved to New York in 1997. He played in trumpeter Roy Hargrove’s quintet from 1998 to 2006. \nIn 2000\, Jones founded an independent jazz label\, WJ3 Records. He has regularly played with pianist Eric Reed\, as the drummer for Wynton Marsalis’ Jazz at Lincoln Center\, and has several CDs released as a leader on his own label\, playing hard bop and swing. \nJones has taught at Northwestern University since 2010. \nShowtimes: 7:00pm | 9:30pm
URL:https://notoriousjazz.com/event/willie-jones-iii-quintet
LOCATION:Jazz Forum Arts\, 1 Dixon Lane\, Tarrytown\, NY\, 10591\, United States
CATEGORIES:Club
ATTACH;FMTTYPE=image/jpeg:https://notoriousjazz.com/wp-content/uploads/2023/07/WILLIE-JONES-III.jpg
END:VEVENT
BEGIN:VEVENT
DTSTART;TZID=America/New_York:20230804T193000
DTEND;TZID=America/New_York:20230806T230000
DTSTAMP:20260421T074510
CREATED:20230804T152207Z
LAST-MODIFIED:20230804T152929Z
UID:36468-1691177400-1691362800@notoriousjazz.com
SUMMARY:WYCLIFFE GORDON QUARTET
DESCRIPTION:Wycliffe Gordon experiences an impressive career touring the world performing to great acclaim from audiences and critics alike. Jazz Journalists Association named him 2020 “Trombonist of the Year” for the record breaking 13th time\, and he’s topped Downbeat Critics Poll for “BestTrombone” again for an unprecedented six times (2020\, 2018\, 2016\, 2014\, 2013 &2012). Last year he was the recipient of the “Louie Award”\, the International Trombone Award and the Satchmo Award\, among others. Wycliffe is a prolific recording artist and is extremely popular for his unmatched signature sound\, plunger technique and unique vocals. He can be heard on hundreds of recordings\, soundtracks\, live DVD’s and documentaries. In addition to an exceptionally successful solo career\, Gordon tours regularly leading his quintet\, headlining at legendary jazz venues and performing arts centers throughout the world. He is commissioned frequently\, and has an extensive catalog of original compositions that span the various timbres of jazz and chamber music. Musicians and ensembles of every caliber perform his music throughout the world and his arrangement of the theme song to NPR’s “All Things Considered” is heard daily across the globe. Gordon is a former veteran member of the Wynton Marsalis Septet\, the Lincoln Center Jazz Orchestra and has been a featured guest artist on Billy Taylor’s ” Jazz at the Kennedy Center” Series. Gordon is also one of America’s most persuasive and committed music educators\, and serves as Director of Jazz Studies at Augusta University in Augusta\, GA. Wycliffe Gordon is a Yamaha Performing Artist and has his own line of Wycliffe Gordon Pro Signature Mouthpieces by Pickett Brass.
URL:https://notoriousjazz.com/event/wycliffe-gordon-quartet
LOCATION:Birdland\, 315 W 44th Street\, #5402\, New York City\, NY\, 10036\, United States
CATEGORIES:Club
ATTACH;FMTTYPE=image/png:https://notoriousjazz.com/wp-content/uploads/2023/08/WYCLIFFE-GORDON.png
END:VEVENT
BEGIN:VEVENT
DTSTART;TZID=America/New_York:20230805T200000
DTEND;TZID=America/New_York:20230805T220000
DTSTAMP:20260421T074510
CREATED:20230722T152704Z
LAST-MODIFIED:20230723T125935Z
UID:36261-1691265600-1691272800@notoriousjazz.com
SUMMARY:BUENA VISTA ALL STARS
DESCRIPTION:Embark on a once-in-a-lifetime journey with Buena Vista All Stars\, descendants of the iconic Buena Vista Social Club. This extraordinary ensemble is bringing the vibrant spirit of Havana’s streets to the Arsht Center’s Knight Concert Hall\, delivering a mesmerizing blend of time-honored rhythms and narratives. \nThe lineup features unparalleled talent\, including Ibrahim Ferrer Jr.\, son of golden-voiced Ibrahim Ferrer\, who will appear in a sensational holographic projection. Grammy Award winner Juan De Marcos González\, lauded virtuoso Barbarito Torres\, piano prodigy Rubencito González and four-time Latin Grammy-nominated Danay Suárez join the ensemble\, conducted by esteemed musical director Demetrio Muñiz. \nJoin us for the inaugural performance of the Una Noche en La Habana Tour on August 5. Experience the enduring legacy of Cuba’s musical heritage\, artfully preserved and reimagined by Buena Vista All Stars. Secure your tickets now for an unforgettable celebration of Cuban music and culture.
URL:https://notoriousjazz.com/event/buena-vista-all-stars
LOCATION:Adrienne Arsht Center | Knight Concert Hall\, 1300 Biscayne Boulevard\, Miami\, FL\, 33132\, United States
CATEGORIES:Concert
ATTACH;FMTTYPE=image/jpeg:https://notoriousjazz.com/wp-content/uploads/2023/07/BUENA-VISTA-ALL-STARS.jpg
END:VEVENT
BEGIN:VEVENT
DTSTART;TZID=Europe/Sofia:20230805T200000
DTEND;TZID=Europe/Sofia:20230812T233000
DTSTAMP:20260421T074510
CREATED:20230728T083831Z
LAST-MODIFIED:20230728T084148Z
UID:36338-1691265600-1691883000@notoriousjazz.com
SUMMARY:BANSKO JAZZ FESTIVAL
DESCRIPTION:Three groups perform each  evening beginning at 8:00pm. \nThe Lineup: \nAugust 5: Velislav Stoyanov | Frank Gambali and His All~Star Band | Cinga Manga Funk \nAugust 6: Camelia Todorova and Konstantin Kostov Trio | Ari Erev Trio | Petar Slavov Special Quartet \nAugust 7: Veronika Todorova & Christopher Herman | Yonder Fokan Trio | Lucy Woodward Quartet \nAugust 8: Xul Gaspar Selko Quintet | On The Road~JP3 | Mauro Sigura Quartet \nAugust 9: Bluetronic~Miroslava Katsarova Trio | Presti~Lanzoni Duo | Zara Macfarlane Quartet \nAugust 10: Show Trio | Sheki And Friends | Jackson Mathod Quintet \nAugust 11: Posbalkanton | Georgi Kornazov Quartet | Jesus Molina & Los Dromeros \nAugust 12: Desy & The Shiny Stockings with Guest Atanas Popov | Espen Eriksen Trio and Andy Shepherd | Alfredo Rodriguez Trio \nTickets: \nSingle Event:  30~50 bgn | $16.84 ~ $28.07 \nEight Event Package: 120~260 bgn | $67.38~ $145.99
URL:https://notoriousjazz.com/event/bansko-jazz-festival
LOCATION:Nikola Vaptsarov Square\, Nikola Vaptsarov Square\, Bansko\, Bulgaria
CATEGORIES:Festival
ATTACH;FMTTYPE=image/png:https://notoriousjazz.com/wp-content/uploads/2023/07/BANSKO-JAZZ-FESTIVAL.png
END:VEVENT
END:VCALENDAR