BEGIN:VCALENDAR
VERSION:2.0
PRODID:-//Notorious Jazz - ECPv6.15.17//NONSGML v1.0//EN
CALSCALE:GREGORIAN
METHOD:PUBLISH
X-WR-CALNAME:Notorious Jazz
X-ORIGINAL-URL:https://notoriousjazz.com
X-WR-CALDESC:Events for Notorious Jazz
REFRESH-INTERVAL;VALUE=DURATION:PT1H
X-Robots-Tag:noindex
X-PUBLISHED-TTL:PT1H
BEGIN:VTIMEZONE
TZID:America/New_York
BEGIN:DAYLIGHT
TZOFFSETFROM:-0500
TZOFFSETTO:-0400
TZNAME:EDT
DTSTART:20220313T070000
END:DAYLIGHT
BEGIN:STANDARD
TZOFFSETFROM:-0400
TZOFFSETTO:-0500
TZNAME:EST
DTSTART:20221106T060000
END:STANDARD
BEGIN:DAYLIGHT
TZOFFSETFROM:-0500
TZOFFSETTO:-0400
TZNAME:EDT
DTSTART:20230312T070000
END:DAYLIGHT
BEGIN:STANDARD
TZOFFSETFROM:-0400
TZOFFSETTO:-0500
TZNAME:EST
DTSTART:20231105T060000
END:STANDARD
BEGIN:DAYLIGHT
TZOFFSETFROM:-0500
TZOFFSETTO:-0400
TZNAME:EDT
DTSTART:20240310T070000
END:DAYLIGHT
BEGIN:STANDARD
TZOFFSETFROM:-0400
TZOFFSETTO:-0500
TZNAME:EST
DTSTART:20241103T060000
END:STANDARD
END:VTIMEZONE
BEGIN:VEVENT
DTSTART;TZID=America/New_York:20230824T183000
DTEND;TZID=America/New_York:20230824T214500
DTSTAMP:20260421T074510
CREATED:20230807T014123Z
LAST-MODIFIED:20230807T014944Z
UID:36530-1692901800-1692913500@notoriousjazz.com
SUMMARY:RANDY NAPOLEAN QUARTET
DESCRIPTION:Known as a forward-thinking musician with a passion for the jazz tradition\, guitarist Randy Napoleon is an Associate Professor at Michigan State University. He is currently touring as a leader after twenty years of road apprenticeship with some of the most celebrated musicians and groups of our time. \nNapoleon cut his teeth touring with pianist Benny Green\, The Clayton-Hamilton Jazz Orchestra\, Michael Buble\, and a thirteen year tenure with Freddy Cole. He has also performed with artists across the jazz spectrum such as Bill Charlap\, Natalie Cole\, Monty Alexander\, Rodney Whitaker and John Pizzarelli. \nNapoleon has performed or arranged on over seventy records. He arranged as well as performed on Freddy Cole’s seven most recent records including the Grammy-nominated releases\, Freddy Cole Sings Mr. B and My Mood Is You. He performed on The Clayton Hamilton Orchestra: Live at MCG. Napoleon is featured on Buble’s Grammy-nominated CD/DVD Caught in the Act. \nNapoleon has played on The Tonight Show\, Late Night With David Letterman\, The View\, The Today Show\, and The Ellen DeGeneres show as well as TV shows in South America\, Europe and Asia. He has performed across the globe at notable venues including Royal Albert Hall\, The Sydney Opera House\, The Hollywood Bowl\, and Lincoln Center. \nTHE BAND: \nRandy Napoleon-Guitar\nRick Roe-Piano\nReuben Stump-Bass\nDavid Alvarez III-Drums
URL:https://notoriousjazz.com/event/randy-napolean-quartet
LOCATION:The Blue Llama\, 314 S Main Street\, Ann Arbor\, MI\, 48104\, United States
CATEGORIES:Club
ATTACH;FMTTYPE=image/jpeg:https://notoriousjazz.com/wp-content/uploads/2023/08/RANDY-NAPOLEON.jpg
END:VEVENT
END:VCALENDAR