BEGIN:VCALENDAR
VERSION:2.0
PRODID:-//Notorious Jazz - ECPv6.15.17//NONSGML v1.0//EN
CALSCALE:GREGORIAN
METHOD:PUBLISH
X-WR-CALNAME:Notorious Jazz
X-ORIGINAL-URL:https://notoriousjazz.com
X-WR-CALDESC:Events for Notorious Jazz
REFRESH-INTERVAL;VALUE=DURATION:PT1H
X-Robots-Tag:noindex
X-PUBLISHED-TTL:PT1H
BEGIN:VTIMEZONE
TZID:America/New_York
BEGIN:DAYLIGHT
TZOFFSETFROM:-0500
TZOFFSETTO:-0400
TZNAME:EDT
DTSTART:20220313T070000
END:DAYLIGHT
BEGIN:STANDARD
TZOFFSETFROM:-0400
TZOFFSETTO:-0500
TZNAME:EST
DTSTART:20221106T060000
END:STANDARD
BEGIN:DAYLIGHT
TZOFFSETFROM:-0500
TZOFFSETTO:-0400
TZNAME:EDT
DTSTART:20230312T070000
END:DAYLIGHT
BEGIN:STANDARD
TZOFFSETFROM:-0400
TZOFFSETTO:-0500
TZNAME:EST
DTSTART:20231105T060000
END:STANDARD
BEGIN:DAYLIGHT
TZOFFSETFROM:-0500
TZOFFSETTO:-0400
TZNAME:EDT
DTSTART:20240310T070000
END:DAYLIGHT
BEGIN:STANDARD
TZOFFSETFROM:-0400
TZOFFSETTO:-0500
TZNAME:EST
DTSTART:20241103T060000
END:STANDARD
END:VTIMEZONE
BEGIN:VEVENT
DTSTART;TZID=America/New_York:20230825T190000
DTEND;TZID=America/New_York:20230826T230000
DTSTAMP:20260421T074507
CREATED:20230808T221845Z
LAST-MODIFIED:20230808T221845Z
UID:36621-1692990000-1693090800@notoriousjazz.com
SUMMARY:RONI BEN~HUR SEXTET FEATURING GEORGE CABLES
DESCRIPTION:• Remembering Barry Harris \nBen~Hur started playing guitar when he was eleven. He learned about jazz from a high school’s friend’s record collection. In Israel he performed in clubs and at weddings and bar mitzvahs until he had enough money to move to the U.S. He arrived in New York City in 1985\, spending time at Barry Harris’s Jazz Cultural Theater. He took lessons from Harris\, then became a member of his band. \nBen-Hur’s experience as an educator dates back to 1981 in Israel. In the U.S. he started jazz music programs at Professional Performing Arts School\, the Coalition School for Social Change\, and at the Lucy Moses School. At the request of Bette Midler\, he started a jazz program for New York City high schools.[1] Ben-Hur began a jazz camp in Saint-Cézaire-sur-Siagne\, France\, with Santi Debriano. With Nilson Matta\, he began a jazz and Brazilian music camp in Bar Harbor\, Maine\, both intended for adult jazz amateurs. He is the founding director of the jazz program at the Lucy Moses School at Kaufman Center in Manhattan where he teaches. \nHis book Talk Jazz: Guitar (Mel Bay\, 2004) includes a CD with a removable guitar track of Ben-Hur performing the exercises in the book with Tardo Hammer on piano\, Earl May on bass\, and Leroy Williams on drums. \nHis album Anna’s Dance was named by The Village Voice one of the best jazz albums of 2001. All About Jazz called him “a virtuoso guitarist with impeccable swing”. In 2000\, he won the Jazziz reader poll for “Best New Talent”.
URL:https://notoriousjazz.com/event/roni-benhur-sextet-featuring-george-cables
LOCATION:Jazz Forum Arts\, 1 Dixon Lane\, Tarrytown\, NY\, 10591\, United States
CATEGORIES:Club
ATTACH;FMTTYPE=image/jpeg:https://notoriousjazz.com/wp-content/uploads/2023/08/RONI-BENHUR.jpg
END:VEVENT
END:VCALENDAR