BEGIN:VCALENDAR
VERSION:2.0
PRODID:-//Notorious Jazz - ECPv6.15.17//NONSGML v1.0//EN
CALSCALE:GREGORIAN
METHOD:PUBLISH
X-ORIGINAL-URL:https://notoriousjazz.com
X-WR-CALDESC:Events for Notorious Jazz
REFRESH-INTERVAL;VALUE=DURATION:PT1H
X-Robots-Tag:noindex
X-PUBLISHED-TTL:PT1H
BEGIN:VTIMEZONE
TZID:America/Chicago
BEGIN:DAYLIGHT
TZOFFSETFROM:-0600
TZOFFSETTO:-0500
TZNAME:CDT
DTSTART:20220313T080000
END:DAYLIGHT
BEGIN:STANDARD
TZOFFSETFROM:-0500
TZOFFSETTO:-0600
TZNAME:CST
DTSTART:20221106T070000
END:STANDARD
BEGIN:DAYLIGHT
TZOFFSETFROM:-0600
TZOFFSETTO:-0500
TZNAME:CDT
DTSTART:20230312T080000
END:DAYLIGHT
BEGIN:STANDARD
TZOFFSETFROM:-0500
TZOFFSETTO:-0600
TZNAME:CST
DTSTART:20231105T070000
END:STANDARD
BEGIN:DAYLIGHT
TZOFFSETFROM:-0600
TZOFFSETTO:-0500
TZNAME:CDT
DTSTART:20240310T080000
END:DAYLIGHT
BEGIN:STANDARD
TZOFFSETFROM:-0500
TZOFFSETTO:-0600
TZNAME:CST
DTSTART:20241103T070000
END:STANDARD
END:VTIMEZONE
BEGIN:VTIMEZONE
TZID:America/New_York
BEGIN:DAYLIGHT
TZOFFSETFROM:-0500
TZOFFSETTO:-0400
TZNAME:EDT
DTSTART:20220313T070000
END:DAYLIGHT
BEGIN:STANDARD
TZOFFSETFROM:-0400
TZOFFSETTO:-0500
TZNAME:EST
DTSTART:20221106T060000
END:STANDARD
BEGIN:DAYLIGHT
TZOFFSETFROM:-0500
TZOFFSETTO:-0400
TZNAME:EDT
DTSTART:20230312T070000
END:DAYLIGHT
BEGIN:STANDARD
TZOFFSETFROM:-0400
TZOFFSETTO:-0500
TZNAME:EST
DTSTART:20231105T060000
END:STANDARD
BEGIN:DAYLIGHT
TZOFFSETFROM:-0500
TZOFFSETTO:-0400
TZNAME:EDT
DTSTART:20240310T070000
END:DAYLIGHT
BEGIN:STANDARD
TZOFFSETFROM:-0400
TZOFFSETTO:-0500
TZNAME:EST
DTSTART:20241103T060000
END:STANDARD
END:VTIMEZONE
BEGIN:VEVENT
DTSTART;TZID=America/Chicago:20230831T110000
DTEND;TZID=America/Chicago:20230831T210000
DTSTAMP:20260421T061125
CREATED:20230807T025015Z
LAST-MODIFIED:20230821T144456Z
UID:36540-1693479600-1693515600@notoriousjazz.com
SUMMARY:CHICAGO JAZZ FESTIVAL
DESCRIPTION:Seating Bowl and Great Lawn open at 2:45pm. \nClaudia Cassidy Theater\, 2nd Floor North \n\n11am-12pm – The Live the Spirit Residency Young Masters – Presented by Live the Spirit\n12:15-1:15pm – Asian Improv\, Francis Wong’s “Legends and Legacies” – Presented by Asian Improv\n2-3pm – The Fred Jackson Quartet – Presented by The Elastic Arts Foundation\n3:15-5:15pm – What is thing called Jazz? Presented by the Education Committee of the Jazz Institute of Chicago\n\nPreston Bradly Hall\, 3rd Floor South \n\n11am-12pm – Zubin Edalji Quintet – Presented by The Hyde Park Jazz Festival\n12:30-1:30pm – Zack Markstet\, Performing Horace Silvers’ 1966 release “The Jody Grind” – Presented by The Fulton Street Collective\n2-3pm – The Natalie Scharf Quartet – Presented by Illiana Club\n3:30-4:30pm – Bobbi Wilsyn – Presented by The South Side Jazz Coalition\n\nJay Pritzker Pavilion \n\n6:30-7:30pm – Chico Freeman-100 Von Freeman Centennial\n8-9pm – Ron Carter and Foursight
URL:https://notoriousjazz.com/event/chicago-jazz-festival
LOCATION:Millennium Park\, 201 E. Randolph Street\, Chicago\, IL\, 60601\, United States
CATEGORIES:Festival
ATTACH;FMTTYPE=image/jpeg:https://notoriousjazz.com/wp-content/uploads/2023/08/CHICAGO-JAZZ-FESTIVAL.jpg
END:VEVENT
BEGIN:VEVENT
DTSTART;TZID=America/New_York:20230831T180000
DTEND;TZID=America/New_York:20230831T193000
DTSTAMP:20260421T061125
CREATED:20230825T144410Z
LAST-MODIFIED:20230825T144837Z
UID:36812-1693504800-1693510200@notoriousjazz.com
SUMMARY:GEORGE V. JOHNSON JR.
DESCRIPTION:Tribute To Charlie Parker | AH~LEU~CHA \nNative Washingtonian\, jazz vocalist-songwriter\, and recording artist George V. Johnson Jr. will perform (alongside his bandmates) excerpts from the “jazzical” Jazz Iz Really Classical Music\, a.k.a. Ah-Leu-Cha\, a spirited tribute to Charlie Parker featuring Johnson’s original lyrics. \nDeemed “Next in Line” by Eddie Jefferson\, the father of the art of jazz vocalese\, Johnson continues the legacy of writing lyrics to improvised solos and telling stories we love and appreciate. The performance will be an unforgettable evening celebrating the music of Charlie Parker. \nImagine listening to a seasoned jazz musician rip into a bebop solo so sizzling and smooth it makes your senses tingle. Close your eyes and play along. Try and picture the sweat bouncing off the performer like the notes that leap through the air. See if you can hear the mesmerizing melodies go up and down\, bringing you through joy and sadness\, taking your emotions on a sensory experience unlike any other. Now picture that musician and his beloved instrument: his voice. \nBand members Donvonte McCoy (trumpet)\, Elijah Easton (tenor saxophone)\, Allyn Johnson (piano)\, Herman Burney (bass)\, and Dana-j Hawkins (drums) are seasoned visionaries who’ve performed across the globe. Join us for a memorable performance.
URL:https://notoriousjazz.com/event/george-v-johnson-jr
LOCATION:Kennedy Center | Millenium Stage\, 2700 F Street\, NW\, Washington\, DC\,  20566\, United States
CATEGORIES:Concert,Festival
ATTACH;FMTTYPE=image/jpeg:https://notoriousjazz.com/wp-content/uploads/2023/08/GEORGE-V.-JOHNSON-JR.jpeg
END:VEVENT
BEGIN:VEVENT
DTSTART;TZID=America/New_York:20230831T183000
DTEND;TZID=America/New_York:20230831T214500
DTSTAMP:20260421T061125
CREATED:20230807T015952Z
LAST-MODIFIED:20230807T015952Z
UID:36533-1693506600-1693518300@notoriousjazz.com
SUMMARY:THE HURRICANE TRIO
DESCRIPTION:In 2023 the Detroit Jazz Festival Global-Connect International All-Star Initiative explores the fusion of Detroit and Italian jazz artistry embodied in a multi-generational quartet featuring the lauded Milan\, Italy based Hurricane Trio: Roberto Mattei-Bass\, Lorenzo Blardone- Piano and Massimiliano Salina-Drums – and\, the award-winning saxophonist from Detroit\, Chris Collins; internationally recognized for his singular role in the global jazz scene. This powerhouse quartet serves as the gravity- center for uniting artists and legacies from both cultures. Known individually for their unique creative and technical prowess\, collectively\, the ensemble creates highly refined\, dynamic\, communicative\, unified and thoroughly modern jazz performances. The band presents original compositions and sophisticated improvisation born from cross-cultural fertilization and study of each other’s jazz traditions. Built on infectious grooves to complex metric environments\, powerful lyricism to inventive angularity and fresh harmonic dimensions\, the music captures the emotion\, artistry\, intellect\, and legacy that defines great jazz art while displaying the wonders that come from true cultural collaboration.In 2023\, the Detroit Jazz Festival Global-Connect International All- Stars will present music from their new CD “Turning Point” with concert tours in Japan\, Europe and the USA culminating with a feature appearance at the 2023 Detroit Jazz Festival September 1-4\, 2023 in Downtown Detroit.
URL:https://notoriousjazz.com/event/the-hurricane-trio
LOCATION:The Blue Llama\, 314 S Main Street\, Ann Arbor\, MI\, 48104\, United States
CATEGORIES:Club
ATTACH;FMTTYPE=image/jpeg:https://notoriousjazz.com/wp-content/uploads/2023/08/THE-HURRICANE-TRIO.jpg
END:VEVENT
END:VCALENDAR