BEGIN:VCALENDAR
VERSION:2.0
PRODID:-//Notorious Jazz - ECPv6.15.17//NONSGML v1.0//EN
CALSCALE:GREGORIAN
METHOD:PUBLISH
X-WR-CALNAME:Notorious Jazz
X-ORIGINAL-URL:https://notoriousjazz.com
X-WR-CALDESC:Events for Notorious Jazz
REFRESH-INTERVAL;VALUE=DURATION:PT1H
X-Robots-Tag:noindex
X-PUBLISHED-TTL:PT1H
BEGIN:VTIMEZONE
TZID:America/Chicago
BEGIN:DAYLIGHT
TZOFFSETFROM:-0600
TZOFFSETTO:-0500
TZNAME:CDT
DTSTART:20220313T080000
END:DAYLIGHT
BEGIN:STANDARD
TZOFFSETFROM:-0500
TZOFFSETTO:-0600
TZNAME:CST
DTSTART:20221106T070000
END:STANDARD
BEGIN:DAYLIGHT
TZOFFSETFROM:-0600
TZOFFSETTO:-0500
TZNAME:CDT
DTSTART:20230312T080000
END:DAYLIGHT
BEGIN:STANDARD
TZOFFSETFROM:-0500
TZOFFSETTO:-0600
TZNAME:CST
DTSTART:20231105T070000
END:STANDARD
BEGIN:DAYLIGHT
TZOFFSETFROM:-0600
TZOFFSETTO:-0500
TZNAME:CDT
DTSTART:20240310T080000
END:DAYLIGHT
BEGIN:STANDARD
TZOFFSETFROM:-0500
TZOFFSETTO:-0600
TZNAME:CST
DTSTART:20241103T070000
END:STANDARD
END:VTIMEZONE
BEGIN:VTIMEZONE
TZID:America/New_York
BEGIN:DAYLIGHT
TZOFFSETFROM:-0500
TZOFFSETTO:-0400
TZNAME:EDT
DTSTART:20220313T070000
END:DAYLIGHT
BEGIN:STANDARD
TZOFFSETFROM:-0400
TZOFFSETTO:-0500
TZNAME:EST
DTSTART:20221106T060000
END:STANDARD
BEGIN:DAYLIGHT
TZOFFSETFROM:-0500
TZOFFSETTO:-0400
TZNAME:EDT
DTSTART:20230312T070000
END:DAYLIGHT
BEGIN:STANDARD
TZOFFSETFROM:-0400
TZOFFSETTO:-0500
TZNAME:EST
DTSTART:20231105T060000
END:STANDARD
BEGIN:DAYLIGHT
TZOFFSETFROM:-0500
TZOFFSETTO:-0400
TZNAME:EDT
DTSTART:20240310T070000
END:DAYLIGHT
BEGIN:STANDARD
TZOFFSETFROM:-0400
TZOFFSETTO:-0500
TZNAME:EST
DTSTART:20241103T060000
END:STANDARD
END:VTIMEZONE
BEGIN:VEVENT
DTSTART;TZID=America/Chicago:20230901T113000
DTEND;TZID=America/Chicago:20230901T210000
DTSTAMP:20260421T061901
CREATED:20230807T025734Z
LAST-MODIFIED:20230821T144613Z
UID:36543-1693567800-1693602000@notoriousjazz.com
SUMMARY:CHICAGO JAZZ FESTIVAL
DESCRIPTION:Seating Bowl and Great Lawn open at 2:45pm. \nVon Freeman Pavilion (North Promenade) \n\n11:30-12:25pm – Eric Hochberg String Thing\n12:40-1:35pm – Alexis Lombre Quartet\n1:50-2:45pm – Anthony Bruno Quartet\n\nJay Pritzker Pavilion \nSecurity gates open 2 hours before the event start time. The concert perimeter (Pritzker Pavilion\, Stage and Great Lawn) will be closed to the public for 1 hour before the gates open. \n\n4:15-5:05pm – Juan Pastor Chinchano\n5:25 – 6:10pm – Walter Smith III Quartet\n6:25 – 7:25pm – Ari Brown Quintet\n7:45-9pm – Dianne Reeves
URL:https://notoriousjazz.com/event/chicago-jazz-festival-2
LOCATION:Millennium Park\, 201 E. Randolph Street\, Chicago\, IL\, 60601\, United States
CATEGORIES:Festival
ATTACH;FMTTYPE=image/jpeg:https://notoriousjazz.com/wp-content/uploads/2023/08/CHICAGO-JAZZ-FESTIVAL.jpg
END:VEVENT
BEGIN:VEVENT
DTSTART;TZID=America/New_York:20230901T183000
DTEND;TZID=America/New_York:20230901T183000
DTSTAMP:20260421T061901
CREATED:20230820T200226Z
LAST-MODIFIED:20230820T200226Z
UID:36721-1693593000-1693593000@notoriousjazz.com
SUMMARY:MAUREESE ITSON
DESCRIPTION:Maureese Itson is a renowned\, up and coming Inspirational Saxophonist in the Seattle area. His desire is to inspire people to “Love God\, Love People\, and Live Amazing” through the gift of music. “It amazes me to see the joy and feel the love from people through music. Music awakens my soul”. He began his love for music growing up in Atlanta\, GA. He is a retired Air Force veteran where he spent 20+ years serving. He has a lovely wife and daughter that he loves dearly. \nMaureese has been featured on the local Trinity Broadcast Network “Seattle Praise the Lord”\, The Washington State Fair\, Argosy cruises\, the Islander Yacht\, and the Gaillard in Charleston\, SC. He has performed and shared the stage with artist Michael Bolton\, The Mighty Clouds of Joy\, Gospel Jazz Artist Ben Tankard\, Saxophonist Tom Braxton\, Contemporary Christian artists “The Benions”\, Jazz Trumpeter Bobby Medina\, The Jazz Disciples\, Toyin Adekale to name a few. Keep a look out for up coming events in the Seattle area\, nationally and abroad from this sought after artist. \nSuggested Donation: $5.00 | 25 & Younger: Free | Youth Arive At 6:00pm For Free Dinner
URL:https://notoriousjazz.com/event/maureese-itson
LOCATION:Coffee Oasis\, 822 Burwell Street\, Bremerton\, WA\, 98337\, United States
CATEGORIES:Club
ATTACH;FMTTYPE=image/jpeg:https://notoriousjazz.com/wp-content/uploads/2023/08/MAUREESE-ITSON.jpeg
END:VEVENT
BEGIN:VEVENT
DTSTART;TZID=America/New_York:20230901T190000
DTEND;TZID=America/New_York:20230901T230000
DTSTAMP:20260421T061901
CREATED:20230820T174504Z
LAST-MODIFIED:20230820T175008Z
UID:36702-1693594800-1693609200@notoriousjazz.com
SUMMARY:TOMI BERRY
DESCRIPTION:Nights Over Egypt: A Jazz/R&B Oasis! \nWherever Tomi Berry sings\, she spreads joy.  Whether singing smooth R&B\, swinging jazz\, or sultry ballads\, she holds an audience in rapt attention.  A spiritual song-stylist\, she engages her listeners in musical conversation. The 2016 42nd Annual Lawrence Award Winner for “Best Seasoned Performer” and the runner up for the 2016’s inaugural Atlanta’s Top Vocalist competition\, Susan “Tomi” Berry has an extensive background in  performing and public speaking. \n​An accomplished\, classically trained singer\, Tomi has performed most of her life in multiple music genres\, starting formally in gospel and spiritual church choirs in her hometown of Montclair\, NJ. She continued to perform throughout college in classical and madrigal choirs\, chorale and was the first soloist to sing with the college jazz band.  She also performed with a campus band that did pop and R&B tunes for campus events and private functions. \n\nIn Atlanta\, she performed with the Hillside Chapel and Truth Center Choir and Jubilee Singers and was a member of the “neo-spiritual” group I Am Unlimited. She has been a member and briefly  served on the board of Southeastern Organization for Jazz Arts (SOJA) where she performed a two-woman show with vocalist Nina Carl\, with support from Terry Harper on piano\, Danny Harper on trumpet and Delbert Felix on contrabass. \nShe also had the opportunity to perform with jazz pianist/songwriter\, Donald Brown during an in-home performance in the Atlanta area and has been supported by jazz pianist/musician/songwriter Takana Miyamoto on multiple projects as well as by pianist Rodney Martino Avery. She was the featured performer at The Velvet Note Acoustic Living Room in 2013 where she performed two shows featuring GRAMMY Award winning\, Atlanta-based producer/keyboardist\, Phil Davis\, bassist. Trey Gilbert\, and drummer\, Joey Williams. Tomi continues to perform at clubs in the Atlanta metro area like Riley’s on the Square\, church and community events and frequents the local jam sessions including Venkman’s and The Velvet Note Acoustic Living Room. \n\nAlso performing live is Indigokat Soul\, Dance Grooves by DJ Lane. \nAttire: Sophisticated\, Black with Bling and Dressy \nAdmission/Secure Reservation : $IndigoKat58 via CashApp by 8.25.23
URL:https://notoriousjazz.com/event/tomi-berry
LOCATION:The Candela Bar\, 5780 CH James Parkway\, Ste 250\, Powder Springs\, GA\, 30127\, United States
CATEGORIES:Club
ATTACH;FMTTYPE=image/jpeg:https://notoriousjazz.com/wp-content/uploads/2023/08/TOMI-BERRY.jpg
END:VEVENT
BEGIN:VEVENT
DTSTART;TZID=America/New_York:20230901T190000
DTEND;TZID=America/New_York:20230902T230000
DTSTAMP:20260421T061901
CREATED:20230701T195644Z
LAST-MODIFIED:20230701T195644Z
UID:36021-1693594800-1693695600@notoriousjazz.com
SUMMARY:DAVE STRYKER QUARTET
DESCRIPTION:When Dave Stryker was ten years old\, he was inspired by the Beatles to start playing guitar. His interest was rock and roll until he heard the albums My Favorite Things by John Coltrane and Beyond the Blue Horizon by George Benson. By seventeen\, he was a jazz guitarist in Omaha. In 1978 he moved to Los Angeles where he took lessons from another Omaha native\, Billy Rogers\, and met organist Jack McDuff. After moving to New York City\, he toured with McDuff in 1984–5\, then spent ten years with saxophonist Stanley Turrentine. \nStryker formed a band with Steve Slagle and a trio with Jared Gold and Tony Reedus (later McClenty Hunter and Billy Hart). He worked with the late Kevin Mahogany as sideman\, composer\, and arranger\, appeared with him at Carnegie Hall\, and toured with him in Europe and Japan. He has also worked with Eliane Elias\, Javon Jackson\, and Andy LaVerne. \nHe teaches jazz guitar at Indiana University and Montclair State University and at the Jamey Aebersold Summer Jazz Workshop\, the Litchfield Jazz Camp\, and the Veneto/New School Workshop in Italy. \nIn 2018 Stryker began teaching jazz guitar online through the ArtistWorks music education website.
URL:https://notoriousjazz.com/event/dave-stryker-quartet
LOCATION:Jazz Forum Arts\, 1 Dixon Lane\, Tarrytown\, NY\, 10591\, United States
CATEGORIES:Club
ATTACH;FMTTYPE=image/jpeg:https://notoriousjazz.com/wp-content/uploads/2023/07/DAVE-STRYKER.jpg
END:VEVENT
END:VCALENDAR