BEGIN:VCALENDAR
VERSION:2.0
PRODID:-//Notorious Jazz - ECPv6.15.17//NONSGML v1.0//EN
CALSCALE:GREGORIAN
METHOD:PUBLISH
X-ORIGINAL-URL:https://notoriousjazz.com
X-WR-CALDESC:Events for Notorious Jazz
REFRESH-INTERVAL;VALUE=DURATION:PT1H
X-Robots-Tag:noindex
X-PUBLISHED-TTL:PT1H
BEGIN:VTIMEZONE
TZID:America/New_York
BEGIN:DAYLIGHT
TZOFFSETFROM:-0500
TZOFFSETTO:-0400
TZNAME:EDT
DTSTART:20220313T070000
END:DAYLIGHT
BEGIN:STANDARD
TZOFFSETFROM:-0400
TZOFFSETTO:-0500
TZNAME:EST
DTSTART:20221106T060000
END:STANDARD
BEGIN:DAYLIGHT
TZOFFSETFROM:-0500
TZOFFSETTO:-0400
TZNAME:EDT
DTSTART:20230312T070000
END:DAYLIGHT
BEGIN:STANDARD
TZOFFSETFROM:-0400
TZOFFSETTO:-0500
TZNAME:EST
DTSTART:20231105T060000
END:STANDARD
BEGIN:DAYLIGHT
TZOFFSETFROM:-0500
TZOFFSETTO:-0400
TZNAME:EDT
DTSTART:20240310T070000
END:DAYLIGHT
BEGIN:STANDARD
TZOFFSETFROM:-0400
TZOFFSETTO:-0500
TZNAME:EST
DTSTART:20241103T060000
END:STANDARD
END:VTIMEZONE
BEGIN:VTIMEZONE
TZID:America/Chicago
BEGIN:DAYLIGHT
TZOFFSETFROM:-0600
TZOFFSETTO:-0500
TZNAME:CDT
DTSTART:20220313T080000
END:DAYLIGHT
BEGIN:STANDARD
TZOFFSETFROM:-0500
TZOFFSETTO:-0600
TZNAME:CST
DTSTART:20221106T070000
END:STANDARD
BEGIN:DAYLIGHT
TZOFFSETFROM:-0600
TZOFFSETTO:-0500
TZNAME:CDT
DTSTART:20230312T080000
END:DAYLIGHT
BEGIN:STANDARD
TZOFFSETFROM:-0500
TZOFFSETTO:-0600
TZNAME:CST
DTSTART:20231105T070000
END:STANDARD
BEGIN:DAYLIGHT
TZOFFSETFROM:-0600
TZOFFSETTO:-0500
TZNAME:CDT
DTSTART:20240310T080000
END:DAYLIGHT
BEGIN:STANDARD
TZOFFSETFROM:-0500
TZOFFSETTO:-0600
TZNAME:CST
DTSTART:20241103T070000
END:STANDARD
END:VTIMEZONE
BEGIN:VEVENT
DTSTART;VALUE=DATE:20230902
DTEND;VALUE=DATE:20230905
DTSTAMP:20260421T063034
CREATED:20230601T104658Z
LAST-MODIFIED:20230601T104658Z
UID:35507-1693641600-1693814399@notoriousjazz.com
SUMMARY:LOWCOUNTRY JAZZ FESTIVAL
DESCRIPTION:Day 1: Jonathan Butler & Gregory Porter \nDay 2: Dave Koz\, Candy Dulfer\, Eric Darius\, Maysa Leek\, Avery Sunshine and \nUnder the artistic direction of producer Tony Clarke\, in collaboration with the Gaillard Center’s artistic team\, the festival returns with a stellar lineup of award-winning jazz singers and musicians Dave Koz & Friends\, Gregory Porter\, Avery*Sunshine\, and Jonathan Butler. \nThis year\, the finest smooth jazz combined with bluesy soul will create a relevant sound that resonates with the region’s discerning music audiences young and old.  Charleston\, South Carolina played an important role in the early development of jazz. It was a thriving center of African American music in the late 19th and early 20th centuries\, and was home to many of the first jazz musicians and bands. The city was also a major port\, which helped to spread jazz music to other parts of the country and the world.  The weekend celebrates these genres in the heart of downtown Charleston\, allowing attendees to experience this vibrant cultural city with a fitting soundtrack. \nThe Festival is welcoming back the soulful sounds of jazz legend Dave Koz\, the renowned saxophonist who delivers an unforgettable performance every time he takes the stage\, and adding headliner GRAMMY award-winning artist Gregory Porter\, whose cross-pollinated brand combines jazz\, soul\, and gospel. Inspirational singer-songwriter and guitarist Jonathan Butler and vibrant\, soulful singer\, pianist\, and composer Avery*Sunshine will open. \nThe Gaillard is cementing its role as a leading non-profit performing arts center in the Southeast dedicated to commissioning and presenting ambitious cultural programming and popular performances that engage audiences\, foster community\, and prompt essential dialogue. Central to this is the Labor Day weekend\, which sees the Lowcountry Jazz Festival take over the building. \nIn addition to annually bringing together jazz fans from across the Southeast\, the Festival is the primary fundraiser for Closing the Gap in Health Care\, Inc.
URL:https://notoriousjazz.com/event/lowcountry-jazz-festival
LOCATION:Charleston Gaillard Center\, 95 Calhoun Street\,  Charleston\, SC\, 29401\, United States
CATEGORIES:Festival
ATTACH;FMTTYPE=image/png:https://notoriousjazz.com/wp-content/uploads/2023/06/dLOWCOUNTRY-JAZZ-FESTIVAL.png
END:VEVENT
BEGIN:VEVENT
DTSTART;TZID=America/Chicago:20230903T110000
DTEND;TZID=America/Chicago:20230903T210000
DTSTAMP:20260421T063034
CREATED:20230807T030913Z
LAST-MODIFIED:20230821T144726Z
UID:36547-1693738800-1693774800@notoriousjazz.com
SUMMARY:CHICAGO JAZZ FESTIVAL
DESCRIPTION:Seating Bowl and Great Lawn open at 2:45pm. \nHarris Theater Rooftop – Jazz: Next Gen Jazz (Enter on Randolph St.) \n\n11-11:40am – Saucedo Alumni Latin Jazz Collective\n12-12:40pm – Urban Horizons\n1-1:40pm – Charlie Reichert Powell & New River\n2-2:40pm – Neon Wilderness\n3-3:40pm – Mxmrys\n\nVon Freeman Pavilion (North Promenade) \n\n11:30-12:25pm – Herbsaint\n12:40-1:35pm – Tim Fitzgerald Wes Montgomery Project\n1:50-2:45pm – Christian Dillingham Quartet\n3-4pm – Petra’s Recession Seven\n\nJay Pritzker Pavilion \n\n4:15-5:05pm – The Pharez Whitted Quintet\n5:25-6:10pm – Chicago Soul Jazz Collective w/ Dee Alexander\n6:25-7:25pm – Billy Valentine\n7:45-9pm – Juan de Marcos and the Afro-Cuban All Stars
URL:https://notoriousjazz.com/event/chicago-jazz-festival-4
LOCATION:Millennium Park\, 201 E. Randolph Street\, Chicago\, IL\, 60601\, United States
CATEGORIES:Festival
ATTACH;FMTTYPE=image/jpeg:https://notoriousjazz.com/wp-content/uploads/2023/08/CHICAGO-JAZZ-FESTIVAL.jpg
END:VEVENT
BEGIN:VEVENT
DTSTART;TZID=America/New_York:20230903T120000
DTEND;TZID=America/New_York:20230903T220000
DTSTAMP:20260421T063034
CREATED:20230730T171947Z
LAST-MODIFIED:20230730T171947Z
UID:36397-1693742400-1693778400@notoriousjazz.com
SUMMARY:SAMARA JOY
DESCRIPTION:Samara Joy performs as part of the DC Jazz Festival along with Kenny Garrett and Sounds From the Ancestors\, Dave Holland Trio feat. Kevin Eubanks and Eric Harland\, Big Chief Donald Harrison\, Isabella Olivier\, Ludovica Burtone Quartet\, Vinny Valentino feat. Marshall Keys\, Frederico Pena\, Dennis Chambers\, Birckhead\, and Mark G. Meadows. \n 
URL:https://notoriousjazz.com/event/samara-joy-3
LOCATION:District Wharf\, 1100 Maine Avenue SW\, Washington\, DC\, 20024The Municipal Fish Market at The Wharf is the oldest continuously-operating open-air fish market in the United States\, dating back to 1805. The Fish Market remains an iconic DC destination for hungry locals and savvy visitors seeking fresh fish\, crabs\, cooked seafood.\, United States
CATEGORIES:Festival
ATTACH;FMTTYPE=image/jpeg:https://notoriousjazz.com/wp-content/uploads/2023/07/SAMARA-JOY.jpeg
END:VEVENT
BEGIN:VEVENT
DTSTART;TZID=America/New_York:20230903T130000
DTEND;TZID=America/New_York:20230903T210000
DTSTAMP:20260421T063034
CREATED:20230903T042144Z
LAST-MODIFIED:20230903T042337Z
UID:36905-1693746000-1693774800@notoriousjazz.com
SUMMARY:DC JAZZ FESTIVAL | THE WHARF
DESCRIPTION:District Pier \n\nVinny Valentino Group | GRAMMY Nominated | 2:40pm \n\nDave Holland Trio | NEA Jazz Master\, GRAMMY Awards Winner | 4:005pm \n\nSamara Joy | 2023 GRAMMY Award Winner for Best New Artist | 5:50pm \n\nKenny Garrett | NEA Jazz Master\, GRAMMY Awards Winner | 7:55pm \n\n\nTransit Pier \n\n\nMark G. Meadows | 1:00pm \n\nBirckhead | Best Alto Saxophonist by the Washington City Paper | 2:00 P \n\n\nBig Chief Donald Harrison | NEA Jazz Master | 4:45 PM \n\nEtienne Charles |Creative Capital Awardee\, Guggenheim Fellow | 5:00 PM \n\n\n\nSold Out Tickets: ADA Seated ~ $89.00 | Seated ~ $119.00
URL:https://notoriousjazz.com/event/dc-jazz-festival-the-wharf
LOCATION:DC Jazzz Festival | The Wharf\, Washington\, DC\, United States
CATEGORIES:Festival
ATTACH;FMTTYPE=image/png:https://notoriousjazz.com/wp-content/uploads/2023/09/DC-JAZZ-FESTIVAL.png
END:VEVENT
BEGIN:VEVENT
DTSTART;TZID=America/New_York:20230903T160000
DTEND;TZID=America/New_York:20230903T193000
DTSTAMP:20260421T063034
CREATED:20230701T201224Z
LAST-MODIFIED:20230701T201224Z
UID:36024-1693756800-1693769400@notoriousjazz.com
SUMMARY:ANDROMEDA TURRE
DESCRIPTION:Andromeda Turre is a consummate performer and composer who has honed her craft over a lifetime immersed in music. Born into a family of jazz musicians\, she was fortunate to glean from the greats\, including Dizzy Gillespie\, Max Roach\, Wynton Marsalis as well as her parents Steve Turre and Akua Dixon. \nFormally trained at The Boston Conservatory\, where she studied theater\, and at Berklee College of Music\, where she focused on vocal performance\, her talents have taken her around the world\, from touring with Ray Charles\, to reigning as the “Queen of the Blues\,” at Tokyo Disney and headlining festivals with her own music in 17 countries worldwide. Turre’s artistic practice is rooted in providing her audience with an immersive experience\, inviting them into new depths of perspective and self discovery. \nIn addition to her vocal talents\, Andromeda is an accomplished composer whose original works have been featured in film\, television\, and video games. Her music is deeply influenced by her life’s experiences\, and often addresses themes of social justice\, spirituality and self-discovery. She composed the score and 13 original songs for Lena: Lessons from a Lady\, a musical about the life of Lena Horne\, and has been highly sought after as a curator of bespoke music experiences for corporate events. Andromeda’s work as an Artistic Director for Central Park’s premier 2022 Juneteenth Celebration and Music Supervisor for Aquila Theater’s adaptation of The Great Gatsby\, demonstrates her ability to create unforgettable experiences that leave a lasting impact. She is currently working on a highly engaging experience for Central Park’s 2023 Juneteenth Celebration.
URL:https://notoriousjazz.com/event/andromeda-turre
LOCATION:Jazz Forum Arts\, 1 Dixon Lane\, Tarrytown\, NY\, 10591\, United States
CATEGORIES:Club
ATTACH;FMTTYPE=image/png:https://notoriousjazz.com/wp-content/uploads/2023/07/ANDROMEDA-TURRE.png
END:VEVENT
END:VCALENDAR