BEGIN:VCALENDAR
VERSION:2.0
PRODID:-//Notorious Jazz - ECPv6.15.17//NONSGML v1.0//EN
CALSCALE:GREGORIAN
METHOD:PUBLISH
X-ORIGINAL-URL:https://notoriousjazz.com
X-WR-CALDESC:Events for Notorious Jazz
REFRESH-INTERVAL;VALUE=DURATION:PT1H
X-Robots-Tag:noindex
X-PUBLISHED-TTL:PT1H
BEGIN:VTIMEZONE
TZID:America/Los_Angeles
BEGIN:DAYLIGHT
TZOFFSETFROM:-0800
TZOFFSETTO:-0700
TZNAME:PDT
DTSTART:20220313T100000
END:DAYLIGHT
BEGIN:STANDARD
TZOFFSETFROM:-0700
TZOFFSETTO:-0800
TZNAME:PST
DTSTART:20221106T090000
END:STANDARD
BEGIN:DAYLIGHT
TZOFFSETFROM:-0800
TZOFFSETTO:-0700
TZNAME:PDT
DTSTART:20230312T100000
END:DAYLIGHT
BEGIN:STANDARD
TZOFFSETFROM:-0700
TZOFFSETTO:-0800
TZNAME:PST
DTSTART:20231105T090000
END:STANDARD
BEGIN:DAYLIGHT
TZOFFSETFROM:-0800
TZOFFSETTO:-0700
TZNAME:PDT
DTSTART:20240310T100000
END:DAYLIGHT
BEGIN:STANDARD
TZOFFSETFROM:-0700
TZOFFSETTO:-0800
TZNAME:PST
DTSTART:20241103T090000
END:STANDARD
END:VTIMEZONE
BEGIN:VTIMEZONE
TZID:America/New_York
BEGIN:DAYLIGHT
TZOFFSETFROM:-0500
TZOFFSETTO:-0400
TZNAME:EDT
DTSTART:20220313T070000
END:DAYLIGHT
BEGIN:STANDARD
TZOFFSETFROM:-0400
TZOFFSETTO:-0500
TZNAME:EST
DTSTART:20221106T060000
END:STANDARD
BEGIN:DAYLIGHT
TZOFFSETFROM:-0500
TZOFFSETTO:-0400
TZNAME:EDT
DTSTART:20230312T070000
END:DAYLIGHT
BEGIN:STANDARD
TZOFFSETFROM:-0400
TZOFFSETTO:-0500
TZNAME:EST
DTSTART:20231105T060000
END:STANDARD
BEGIN:DAYLIGHT
TZOFFSETFROM:-0500
TZOFFSETTO:-0400
TZNAME:EDT
DTSTART:20240310T070000
END:DAYLIGHT
BEGIN:STANDARD
TZOFFSETFROM:-0400
TZOFFSETTO:-0500
TZNAME:EST
DTSTART:20241103T060000
END:STANDARD
END:VTIMEZONE
BEGIN:VEVENT
DTSTART;TZID=America/Los_Angeles:20230907T193000
DTEND;TZID=America/Los_Angeles:20230910T210000
DTSTAMP:20260421T061912
CREATED:20230730T184458Z
LAST-MODIFIED:20230730T185849Z
UID:36406-1694115000-1694379600@notoriousjazz.com
SUMMARY:LIZZ WRIGHT
DESCRIPTION:A steward of American music\, acclaimed vocalist Lizz Wright reclaims her legacy with the launch of an independent record company\, Blues & Greens Records. Wright’s label venture is designed to forge an innovative business model where artists are positioned to build sustainable and wholesome careers. Blues & Greens Records launches with the June 15\, 2022 release of Holding Space\, a brilliant live album capturing a Berlin\, Germany concert where Wright and her band close out their 2018 European summer tour. In a short film companion piece\, Wright reflects with her bandmates about what it actually feels like to have the presence of a listening world in her life. \nRising out of the pandemic and returning to stages across the globe\, Wright embraces her career through an inspired initiative where she is at the helm of her business. After 20+ years of major and indie label contracts\, Wright sees the imbalances of power and unfairnesses in artistic ownership. Blues & Greens Records creates a healthy ecosystem for Wright\, and inspires her to imagine and develop offerings for emerging artists. Her debut release\, Holding Space\, becomes the first master recording she owns. \nTHIS EVENT IS AVAILABLE TO MEMBERS ONLY \nIn addition to early access to tickets and Members-Only events\, Members at the $80 Supporter Level and higher enjoy the following ticket discounts: \n25% off select concerts\n10% off orders of 10+ tickets\nFREE Listening Parties\nNo Ticket Service Fees (up to $9.50 per ticket)
URL:https://notoriousjazz.com/event/lizz-wright-2
LOCATION:SFJazz Center | Miner Auditorium\, 201 Franklin Street\, San Francisco\, CA\, 94102\, United States
CATEGORIES:Concert
ATTACH;FMTTYPE=image/jpeg:https://notoriousjazz.com/wp-content/uploads/2023/07/LIZZ-WRIGHT.jpeg
END:VEVENT
BEGIN:VEVENT
DTSTART;TZID=America/Los_Angeles:20230908T180000
DTEND;TZID=America/Los_Angeles:20230908T235900
DTSTAMP:20260421T061912
CREATED:20230807T195329Z
LAST-MODIFIED:20230807T222944Z
UID:36561-1694196000-1694217540@notoriousjazz.com
SUMMARY:RED DRESS JAZZ GALA
DESCRIPTION:Location: Langston Hughes Performing Arts Institute\, 104 17th Avenue s\, Seattle Washington 98144 \n\n6:00pm~9:00pm Featuring Nathan Breedlove | Eugenie Jones & A History Worth Preserving by Washington State Historical Society’s Stephanie Johnson~Tolliver\n\nTickets ~ https://www.eventbrite.com/e/jsjw-red-dress-jazz-gala-tickets-691994944507?aff=oddtdtcreator \nLocation: Wonder Bar\, 1800 S Jackson Street\, Seattle\, Washington 98144 \n\nBlues Bash After~Party featuring Raphael Tranquilino | 9:00pm\n\nTickets ~ https://www.eventbrite.com/e/rafael-tranquilino-blues-bash-tickets-692631568667?aff=oddtdtcreator \n 
URL:https://notoriousjazz.com/event/red-dress-jazz-gala
LOCATION:Jackson Street Jazz Walk\, S Jackson Street &\, Seattle\, WA\, United States
CATEGORIES:Festival
ATTACH;FMTTYPE=image/jpeg:https://notoriousjazz.com/wp-content/uploads/2023/08/RED-DRESS-GALA.jpg
END:VEVENT
BEGIN:VEVENT
DTSTART;TZID=America/New_York:20230908T190000
DTEND;TZID=America/New_York:20230909T223000
DTSTAMP:20260421T061912
CREATED:20230805T160912Z
LAST-MODIFIED:20230805T160912Z
UID:36486-1694199600-1694298600@notoriousjazz.com
SUMMARY:KENNY GARRETT
DESCRIPTION:NEA Jazz Master Saxophonist Kenny Garrett returns! With his illustrious career that includes hallmark stints with Miles Davis\, Art Blakey and The Jazz Messengers\, Donald Byrd\, Freddie Hubbard\, Woody Shaw and the Duke Ellington Orchestra\, as well as a heralded career as a solo artist that began more than 30 years ago\, he is easily recognized as one of modern jazz’s brightest and most influential living masters. And with the marvelous Sounds From The Ancestors\, the GRAMMY® Award-winning saxophonist shows no signs of resting on his laurels.
URL:https://notoriousjazz.com/event/kenny-garrett-2
LOCATION:Scullers Jazz Club\, 400 Soldiers Field Road\, Boston\, MA\, 02134\, United States
CATEGORIES:Club
ATTACH;FMTTYPE=image/jpeg:https://notoriousjazz.com/wp-content/uploads/2023/08/KENNY-GARRETT.jpg
END:VEVENT
END:VCALENDAR