BEGIN:VCALENDAR
VERSION:2.0
PRODID:-//Notorious Jazz - ECPv6.15.17//NONSGML v1.0//EN
CALSCALE:GREGORIAN
METHOD:PUBLISH
X-ORIGINAL-URL:https://notoriousjazz.com
X-WR-CALDESC:Events for Notorious Jazz
REFRESH-INTERVAL;VALUE=DURATION:PT1H
X-Robots-Tag:noindex
X-PUBLISHED-TTL:PT1H
BEGIN:VTIMEZONE
TZID:America/Los_Angeles
BEGIN:DAYLIGHT
TZOFFSETFROM:-0800
TZOFFSETTO:-0700
TZNAME:PDT
DTSTART:20220313T100000
END:DAYLIGHT
BEGIN:STANDARD
TZOFFSETFROM:-0700
TZOFFSETTO:-0800
TZNAME:PST
DTSTART:20221106T090000
END:STANDARD
BEGIN:DAYLIGHT
TZOFFSETFROM:-0800
TZOFFSETTO:-0700
TZNAME:PDT
DTSTART:20230312T100000
END:DAYLIGHT
BEGIN:STANDARD
TZOFFSETFROM:-0700
TZOFFSETTO:-0800
TZNAME:PST
DTSTART:20231105T090000
END:STANDARD
BEGIN:DAYLIGHT
TZOFFSETFROM:-0800
TZOFFSETTO:-0700
TZNAME:PDT
DTSTART:20240310T100000
END:DAYLIGHT
BEGIN:STANDARD
TZOFFSETFROM:-0700
TZOFFSETTO:-0800
TZNAME:PST
DTSTART:20241103T090000
END:STANDARD
END:VTIMEZONE
BEGIN:VTIMEZONE
TZID:America/New_York
BEGIN:DAYLIGHT
TZOFFSETFROM:-0500
TZOFFSETTO:-0400
TZNAME:EDT
DTSTART:20220313T070000
END:DAYLIGHT
BEGIN:STANDARD
TZOFFSETFROM:-0400
TZOFFSETTO:-0500
TZNAME:EST
DTSTART:20221106T060000
END:STANDARD
BEGIN:DAYLIGHT
TZOFFSETFROM:-0500
TZOFFSETTO:-0400
TZNAME:EDT
DTSTART:20230312T070000
END:DAYLIGHT
BEGIN:STANDARD
TZOFFSETFROM:-0400
TZOFFSETTO:-0500
TZNAME:EST
DTSTART:20231105T060000
END:STANDARD
BEGIN:DAYLIGHT
TZOFFSETFROM:-0500
TZOFFSETTO:-0400
TZNAME:EDT
DTSTART:20240310T070000
END:DAYLIGHT
BEGIN:STANDARD
TZOFFSETFROM:-0400
TZOFFSETTO:-0500
TZNAME:EST
DTSTART:20241103T060000
END:STANDARD
END:VTIMEZONE
BEGIN:VTIMEZONE
TZID:America/Phoenix
BEGIN:STANDARD
TZOFFSETFROM:-0700
TZOFFSETTO:-0700
TZNAME:MST
DTSTART:20220101T000000
END:STANDARD
END:VTIMEZONE
BEGIN:VEVENT
DTSTART;TZID=America/Los_Angeles:20231011T190000
DTEND;TZID=America/Los_Angeles:20231015T230000
DTSTAMP:20260421T045822
CREATED:20231008T184028Z
LAST-MODIFIED:20231008T184232Z
UID:37345-1697050800-1697410800@notoriousjazz.com
SUMMARY:NICHOLAS PAYTON & NEW WORLD ORDER
DESCRIPTION:As a leading voice in American popular music\, the 2x Grammy Award-winning and 5x Grammy nominee\, Nicholas Payton is a multi-instrumentalist\, vocalist\, composer\, producer\, arranger\, essayist\, and social activist who defies musical and artistic categories.\n\nAll the while\, he honors the tradition of what he terms “postmodern New Orleans music\,” as well as the spirit of Black American Music\, of which he states\, “There are no fields\, per se. There are lineages.”
URL:https://notoriousjazz.com/event/nicholas-payton-new-world-order
LOCATION:Black Cat\, 400 Eddy Street\, San Francisco\, CA\, 94109\, United States
CATEGORIES:Club
ATTACH;FMTTYPE=image/jpeg:https://notoriousjazz.com/wp-content/uploads/2023/10/NICHOLAS-PAYTON.jpeg
END:VEVENT
BEGIN:VEVENT
DTSTART;TZID=America/New_York:20231014T170000
DTEND;TZID=America/New_York:20231016T230000
DTSTAMP:20260421T045822
CREATED:20231008T215658Z
LAST-MODIFIED:20231008T215930Z
UID:37367-1697302800-1697497200@notoriousjazz.com
SUMMARY:ROY HARGROVE BIG BAND: HAPPY BIRTHDAY ROY!
DESCRIPTION:The Roy Hargrove Big Band celebrates what would have been his birthday — and the magnitude of his contribution — by sharing his expression with new listeners and longtime fans. Always energetic\, always swinging\, the outfit’s repertoire includes Hargrove originals\, standard tunes\, and new music from current band members. Come celebrate a true champion of the music. \nPerformance Lineup: \n\n\n\n\n\nWillie Jones\, Danton Boller\, Saul Rubin\, Freddie Hendrix\, Wayne Tucker\, Duane Eubanks\, Camerahn Alforque\, Jason Jackson\, James Burton\, Rashaan Salaam\, Max Seigel\, Bruce Williams\, Mark Gross\, Mike Lee\, Keith Loftis\, Jason Marshall \n 
URL:https://notoriousjazz.com/event/roy-hargrove-big-band-happy-birthday-roy
LOCATION:Dizzy’s Club\, 10 Columbus Circle\, New York City\, NY\, 10019\, United States
CATEGORIES:Club
ATTACH;FMTTYPE=image/png:https://notoriousjazz.com/wp-content/uploads/2023/10/ROY-HARGROVE-BIG-BAND.png
END:VEVENT
BEGIN:VEVENT
DTSTART;TZID=America/Phoenix:20231014T190000
DTEND;TZID=America/Phoenix:20231014T230000
DTSTAMP:20260421T045822
CREATED:20231008T191832Z
LAST-MODIFIED:20231008T191900Z
UID:37356-1697310000-1697324400@notoriousjazz.com
SUMMARY:SOMETHING ELSE!
DESCRIPTION:Vincent Herring-alto sax\, James Carter-tenor sax\, Wallace Roney Jr.-trumpet\, Paul Bollenback-guitar\, Dave Kikoski-piano\, Essiet Essiet-bass\, Lewis Nash-drums \n“…the band wears its hard-bop heart on its sleeve …It practically dares audiences to sit still and remain on their best behavior.” – Steve Futterman\, The New Yorker \nA Soul Jazz Revue led by Vincent Herring\, featuring some of the very best musicians today\, playing the most iconic toe-tapping Soul Jazz songs ever created. Something Else presents new arrangements and original compositions in the same genre.
URL:https://notoriousjazz.com/event/something-else
LOCATION:The Nash\, 110 E. Roosevelt Street\, Phoenix\, AZ\, 85004\, United States
CATEGORIES:Club
ATTACH;FMTTYPE=image/jpeg:https://notoriousjazz.com/wp-content/uploads/2023/10/SOMETHING-ELSE.jpg
END:VEVENT
END:VCALENDAR