BEGIN:VCALENDAR
VERSION:2.0
PRODID:-//Notorious Jazz - ECPv6.15.17//NONSGML v1.0//EN
CALSCALE:GREGORIAN
METHOD:PUBLISH
X-WR-CALNAME:Notorious Jazz
X-ORIGINAL-URL:https://notoriousjazz.com
X-WR-CALDESC:Events for Notorious Jazz
REFRESH-INTERVAL;VALUE=DURATION:PT1H
X-Robots-Tag:noindex
X-PUBLISHED-TTL:PT1H
BEGIN:VTIMEZONE
TZID:America/New_York
BEGIN:DAYLIGHT
TZOFFSETFROM:-0500
TZOFFSETTO:-0400
TZNAME:EDT
DTSTART:20220313T070000
END:DAYLIGHT
BEGIN:STANDARD
TZOFFSETFROM:-0400
TZOFFSETTO:-0500
TZNAME:EST
DTSTART:20221106T060000
END:STANDARD
BEGIN:DAYLIGHT
TZOFFSETFROM:-0500
TZOFFSETTO:-0400
TZNAME:EDT
DTSTART:20230312T070000
END:DAYLIGHT
BEGIN:STANDARD
TZOFFSETFROM:-0400
TZOFFSETTO:-0500
TZNAME:EST
DTSTART:20231105T060000
END:STANDARD
BEGIN:DAYLIGHT
TZOFFSETFROM:-0500
TZOFFSETTO:-0400
TZNAME:EDT
DTSTART:20240310T070000
END:DAYLIGHT
BEGIN:STANDARD
TZOFFSETFROM:-0400
TZOFFSETTO:-0500
TZNAME:EST
DTSTART:20241103T060000
END:STANDARD
END:VTIMEZONE
BEGIN:VEVENT
DTSTART;TZID=America/New_York:20231024T200000
DTEND;TZID=America/New_York:20231029T233000
DTSTAMP:20260421T050822
CREATED:20231022T205648Z
LAST-MODIFIED:20231022T210943Z
UID:37545-1698177600-1698622200@notoriousjazz.com
SUMMARY:RAVI COLTRANE
DESCRIPTION:He bears the name of jazz royalty\, and he’s spent many hours curating\, archiving and producing his parents’ recordings. But when he picks up his own saxophones\, Ravi Coltrane blows an original and distinctly modern strain of jazz\, distilling but never seeking to imitate his family’s adventurous improvising spirits. Now one of today’s top saxophonists. \nThe Band: Ravi Coltrane – Saxophone | Jonathan Finlayson – Trumpet | Luis Perdomo – Piano | Robert Hurst – Bass | Mark Whitfield Jr. – Drums \nAll Show Sold Out Except The 10:00pm Shows On Tuesday\, Wednesday\, Thursday & Sunday
URL:https://notoriousjazz.com/event/ravi-coltrane-2
LOCATION:Village Vanguard\, 178 7th Avenue S\, New York City\, NY\, 10014\, United States
CATEGORIES:Club
ATTACH;FMTTYPE=image/jpeg:https://notoriousjazz.com/wp-content/uploads/2023/10/RAVI-COLTRANE.jpg
END:VEVENT
BEGIN:VEVENT
DTSTART;TZID=America/New_York:20231026T170000
DTEND;TZID=America/New_York:20231029T230000
DTSTAMP:20260421T050822
CREATED:20231008T213331Z
LAST-MODIFIED:20231017T052004Z
UID:37363-1698339600-1698620400@notoriousjazz.com
SUMMARY:WYCLIFFE GORDON & FRIENDS
DESCRIPTION:Wycliffe A. Gordon jazz trombonist\, arranger\, composer\, band leader\, and music educator at the collegiate-conservatory level. Gordon also sings and plays didgeridoo\, trumpet\, soprano trombone\, tuba\, and piano. \nHis early works as a professional were with Wynton Marsalis\, but in 2010 he has expanded beyond swing and has experimented with new instruments. The strongest example of this might be The Search where he plays didgeridoo and covers Thelonious Monk songs. He has also played Gospel music. \nIn 1995\, Gordon arranged and orchestrated the theme song for NPR’s All Things Considered. Gordon’s arrangement and orchestration is the third version of the melody composed in 1971 by Donald Joseph Voegeli (1920–2009). \nOn September 24\, 2004\, Gordon conducted the Jazz at Lincoln Center Orchestra in the premiere of his new\, original score for “Body and Soul”\, the 1925 silent film directed by Oscar Micheaux. \nHe has recently gained more worldwide popularity\, being featured in South Australia’s Generations In Jazz 2016 and 2017\, playing alongside artists such as James Morrison\, Jazzmeia Horn\, Gordon Goodwin and Ross Irwin among others. For over a decade\, he has also worked with visual artist and educator Ligel Lambert on numerous collaborative projects.
URL:https://notoriousjazz.com/event/wycliffe-gordon-friends
LOCATION:Dizzy’s Club\, 10 Columbus Circle\, New York City\, NY\, 10019\, United States
CATEGORIES:Club
ATTACH;FMTTYPE=image/jpeg:https://notoriousjazz.com/wp-content/uploads/2023/10/WYCLIFFE-GORDON.jpeg
END:VEVENT
BEGIN:VEVENT
DTSTART;TZID=America/New_York:20231026T200000
DTEND;TZID=America/New_York:20231026T213000
DTSTAMP:20260421T050822
CREATED:20231008T034843Z
LAST-MODIFIED:20231008T034843Z
UID:37315-1698350400-1698355800@notoriousjazz.com
SUMMARY:CLARK TRACEY QUINTET
DESCRIPTION:Line-up: \nCLARK TRACEY drums \nJAMES OWSTON double bass \nGRAHAM HARVEY piano \nALEX CLARKE alto/tenor sax \nEMILY MASSER vocals \nMuch acclaimed jazz drummer Clark Tracey has been leading his own bands since 1981 and currently leads an ever evolving quintet as well as tribute bands to his father\, the late Stan Tracey. His latest quintet features a few of the most exciting young musicians today. \nAlex Clarke on alto and tenor sax is aged 23.  She won the Rising Star in the British Jazz Awards 2 years ago and was runner up in the BBC Young Jazz Musician last year.  Last year she successfully released her debut CD “Only A Year” with Dave Newton\, Dave Green and Clark Tracey. \nEmily Masser is an astonishing vocalist\, still 19 years of age and attending Trinity.  Her vocalese skills have already introduced her to hardened jazzers like Claire Martin and Liane Carroll who have both endorsed her and invited her to sit in with them.  Daughter of Dean Masser\, her years belie her enormous talent\, which began at Chethams School of Music. \nGraham Harvey is one of the UK’s most experienced pianists\, studied at Berkley\, MD of Incognito\, Stacey Kent’s pianist and much sought after as a freelancer. \nJames Owston on bass is 25\, a graduate of Birmingham Conservatoire and again a runner up in the BBC Young Jazz Musician Finals a few years ago. Considered by Clark to be one most technically gifted upright bassists in the UK and is now working with a variety of musicians.
URL:https://notoriousjazz.com/event/clark-tracey-quintet
LOCATION:Spicejazz Soho\, 6 Moor Street\, London\, England\, W1D 5NA\, United Kingdom
CATEGORIES:Club
ATTACH;FMTTYPE=image/jpeg:https://notoriousjazz.com/wp-content/uploads/2023/10/CLARK-TRACEY.jpeg
END:VEVENT
BEGIN:VEVENT
DTSTART;TZID=America/New_York:20231027T060000
DTEND;TZID=America/New_York:20231028T230000
DTSTAMP:20260421T050822
CREATED:20231016T003958Z
LAST-MODIFIED:20231016T003958Z
UID:37449-1698386400-1698534000@notoriousjazz.com
SUMMARY:JACKIEM JOYNER
DESCRIPTION:Contemporary saxophonist\, author\, and music producer Jackiem Joyner has set the bar high in his close 20 years as a performer.  With a number one jazz album\, several Billboard chart-topping hits\, and a series of critically acclaimed booksto his name\, he has shown himself to be the rare artist capable of transcending his instrument and reaching a mainstream audience. \nNow\, as he begins the 18th year of his career during a time of unprecedented change in the entertainment industry\, he remains as focused on his art as ever. \nJackiem was born in Norfolk\, VA.  At an early age\, he began to show signs of the restless creativity that would later define his career.  Despite his humble upbringing\, he was able to get his hands on a saxophone as a child.  The instrument quickly became his constant companion.  After years of practice\, he emerged in style with 2007’s ‘Babysoul.’ A masterclass in seductive smooth jazz\, the album marked the arrival of a brilliant instrumentalist\, and set the stage for a prolific recording career that would include Grammy runner ups\, hit singles\, and no shortage of critical adoration\, right up through 2019’s ‘Touch’\, and on to 2020’s EP “Journey of Passion” \nAs a performer\, he has toured over 30 countries and performed with the likes of the late George Duke\, Marcus Miller\, Keiko Matsui\, Donnie McClurkin\, Angela Bofill\, Najee\, Kirk Whalum\, Peter White\, and many others.
URL:https://notoriousjazz.com/event/jackiem-joyner
LOCATION:Middle C Jazz\, 300 South Brevard Street\, Charlotte\, NC\, 28202\, United States
CATEGORIES:Club
ATTACH;FMTTYPE=image/jpeg:https://notoriousjazz.com/wp-content/uploads/2023/10/JACKIEM-JOYNER.jpg
END:VEVENT
END:VCALENDAR