BEGIN:VCALENDAR
VERSION:2.0
PRODID:-//Notorious Jazz - ECPv6.15.17//NONSGML v1.0//EN
CALSCALE:GREGORIAN
METHOD:PUBLISH
X-WR-CALNAME:Notorious Jazz
X-ORIGINAL-URL:https://notoriousjazz.com
X-WR-CALDESC:Events for Notorious Jazz
REFRESH-INTERVAL;VALUE=DURATION:PT1H
X-Robots-Tag:noindex
X-PUBLISHED-TTL:PT1H
BEGIN:VTIMEZONE
TZID:America/New_York
BEGIN:DAYLIGHT
TZOFFSETFROM:-0500
TZOFFSETTO:-0400
TZNAME:EDT
DTSTART:20220313T070000
END:DAYLIGHT
BEGIN:STANDARD
TZOFFSETFROM:-0400
TZOFFSETTO:-0500
TZNAME:EST
DTSTART:20221106T060000
END:STANDARD
BEGIN:DAYLIGHT
TZOFFSETFROM:-0500
TZOFFSETTO:-0400
TZNAME:EDT
DTSTART:20230312T070000
END:DAYLIGHT
BEGIN:STANDARD
TZOFFSETFROM:-0400
TZOFFSETTO:-0500
TZNAME:EST
DTSTART:20231105T060000
END:STANDARD
BEGIN:DAYLIGHT
TZOFFSETFROM:-0500
TZOFFSETTO:-0400
TZNAME:EDT
DTSTART:20240310T070000
END:DAYLIGHT
BEGIN:STANDARD
TZOFFSETFROM:-0400
TZOFFSETTO:-0500
TZNAME:EST
DTSTART:20241103T060000
END:STANDARD
END:VTIMEZONE
BEGIN:VEVENT
DTSTART;TZID=America/New_York:20231109T190000
DTEND;TZID=America/New_York:20231112T223000
DTSTAMP:20260421T030353
CREATED:20231106T022302Z
LAST-MODIFIED:20231106T022302Z
UID:37760-1699556400-1699828200@notoriousjazz.com
SUMMARY:STANLEY JORDAN
DESCRIPTION:In a career that took flight in 1985 with commercial and critical acclaim\, guitar virtuoso Stanley Jordan has consistently displayed a chameleonic musical persona of openness\, imagination\, versatility and maverick daring. Be it bold reinventions of classical masterpieces or soulful explorations through pop-rock hits\, to blazing straight ahead jazz forays and ultramodern improvisational works-solo or with a group-Jordan can always be counted on to take listeners on breathless journeys into the unexpected. \nKey to Jordan’s fast-track acclaim was his mastery of a special technique on the guitar’s fretboard. Instead of conventional strumming and picking\, Jordan’s innovative “touch technique” is an advanced form of two-handed tapping. While a handful of other players were using similar techniques\, Stanley’s fluid\, multi-layered textures and sheer virtuosity raised the bar for excellence. But his technique\, though impressive\, is always a means to a musical end. His music is imbued with a warmth and sensitivity that has captured the imagination of listeners worldwide. A classically trained pianist before playing guitar\, Jordan wanted greater freedom in voicing chords on his guitar\, so he applied piano principles to do so. Jordan’s touch technique allows the guitarist to play melody and chords simultaneously with an unprecedented level of independence. It also allows Jordan to play simultaneously on two different guitars\, or even on guitar and piano. He says that “I think of it as a single instrument\, but one with a wide range of tonal colors-that’s why I do it.” \nTo date Jordan has performed in over 60 countries on 6 continents. He has performed at many festivals\, including the Kool Jazz Festival\, the Concord Jazz Festival\, and the Montreaux International Jazz Festival. During the 1980s he collaborated with a diverse array of artists\, including performances with Art Blakey and Richie Cole and recordings with Stanley Clarke and Kenny Rogers. The track with Rogers\, “Morning Desire”\, became America’s #1 country song in 1986. Later Jordan became a frequent guest with Les Paul during Paul’s legendary Monday nights at Iridium in New York. Today Jordan performs frequently as a soloist and with his band\, as well as collaborating with other guitarists such as Kevin Eubanks\, Sharon Isbin and Muriel Anderson. He’s also a frequent guest with jam bands such as the Dave Matthews Band\, the String Cheese Incident\, Phil Lesh\, Moe and Umphrey’s McGee.
URL:https://notoriousjazz.com/event/stanley-jordan-3
LOCATION:Blues Alley\, 1073 Wisconsin Avenue NW\, Washington\, DC\, 20007\, United States
CATEGORIES:Club
ATTACH;FMTTYPE=image/png:https://notoriousjazz.com/wp-content/uploads/2023/11/STANLEY-JORDAN.png
END:VEVENT
END:VCALENDAR