BEGIN:VCALENDAR
VERSION:2.0
PRODID:-//Notorious Jazz - ECPv6.15.17//NONSGML v1.0//EN
CALSCALE:GREGORIAN
METHOD:PUBLISH
X-WR-CALNAME:Notorious Jazz
X-ORIGINAL-URL:https://notoriousjazz.com
X-WR-CALDESC:Events for Notorious Jazz
REFRESH-INTERVAL;VALUE=DURATION:PT1H
X-Robots-Tag:noindex
X-PUBLISHED-TTL:PT1H
BEGIN:VTIMEZONE
TZID:America/New_York
BEGIN:DAYLIGHT
TZOFFSETFROM:-0500
TZOFFSETTO:-0400
TZNAME:EDT
DTSTART:20220313T070000
END:DAYLIGHT
BEGIN:STANDARD
TZOFFSETFROM:-0400
TZOFFSETTO:-0500
TZNAME:EST
DTSTART:20221106T060000
END:STANDARD
BEGIN:DAYLIGHT
TZOFFSETFROM:-0500
TZOFFSETTO:-0400
TZNAME:EDT
DTSTART:20230312T070000
END:DAYLIGHT
BEGIN:STANDARD
TZOFFSETFROM:-0400
TZOFFSETTO:-0500
TZNAME:EST
DTSTART:20231105T060000
END:STANDARD
BEGIN:DAYLIGHT
TZOFFSETFROM:-0500
TZOFFSETTO:-0400
TZNAME:EDT
DTSTART:20240310T070000
END:DAYLIGHT
BEGIN:STANDARD
TZOFFSETFROM:-0400
TZOFFSETTO:-0500
TZNAME:EST
DTSTART:20241103T060000
END:STANDARD
END:VTIMEZONE
BEGIN:VEVENT
DTSTART;TZID=America/New_York:20231109T190000
DTEND;TZID=America/New_York:20231112T223000
DTSTAMP:20260421T030241
CREATED:20231106T022302Z
LAST-MODIFIED:20231106T022302Z
UID:37760-1699556400-1699828200@notoriousjazz.com
SUMMARY:STANLEY JORDAN
DESCRIPTION:In a career that took flight in 1985 with commercial and critical acclaim\, guitar virtuoso Stanley Jordan has consistently displayed a chameleonic musical persona of openness\, imagination\, versatility and maverick daring. Be it bold reinventions of classical masterpieces or soulful explorations through pop-rock hits\, to blazing straight ahead jazz forays and ultramodern improvisational works-solo or with a group-Jordan can always be counted on to take listeners on breathless journeys into the unexpected. \nKey to Jordan’s fast-track acclaim was his mastery of a special technique on the guitar’s fretboard. Instead of conventional strumming and picking\, Jordan’s innovative “touch technique” is an advanced form of two-handed tapping. While a handful of other players were using similar techniques\, Stanley’s fluid\, multi-layered textures and sheer virtuosity raised the bar for excellence. But his technique\, though impressive\, is always a means to a musical end. His music is imbued with a warmth and sensitivity that has captured the imagination of listeners worldwide. A classically trained pianist before playing guitar\, Jordan wanted greater freedom in voicing chords on his guitar\, so he applied piano principles to do so. Jordan’s touch technique allows the guitarist to play melody and chords simultaneously with an unprecedented level of independence. It also allows Jordan to play simultaneously on two different guitars\, or even on guitar and piano. He says that “I think of it as a single instrument\, but one with a wide range of tonal colors-that’s why I do it.” \nTo date Jordan has performed in over 60 countries on 6 continents. He has performed at many festivals\, including the Kool Jazz Festival\, the Concord Jazz Festival\, and the Montreaux International Jazz Festival. During the 1980s he collaborated with a diverse array of artists\, including performances with Art Blakey and Richie Cole and recordings with Stanley Clarke and Kenny Rogers. The track with Rogers\, “Morning Desire”\, became America’s #1 country song in 1986. Later Jordan became a frequent guest with Les Paul during Paul’s legendary Monday nights at Iridium in New York. Today Jordan performs frequently as a soloist and with his band\, as well as collaborating with other guitarists such as Kevin Eubanks\, Sharon Isbin and Muriel Anderson. He’s also a frequent guest with jam bands such as the Dave Matthews Band\, the String Cheese Incident\, Phil Lesh\, Moe and Umphrey’s McGee.
URL:https://notoriousjazz.com/event/stanley-jordan-3
LOCATION:Blues Alley\, 1073 Wisconsin Avenue NW\, Washington\, DC\, 20007\, United States
CATEGORIES:Club
ATTACH;FMTTYPE=image/png:https://notoriousjazz.com/wp-content/uploads/2023/11/STANLEY-JORDAN.png
END:VEVENT
BEGIN:VEVENT
DTSTART;TZID=America/New_York:20231111T170000
DTEND;TZID=America/New_York:20231112T230000
DTSTAMP:20260421T030241
CREATED:20231029T200711Z
LAST-MODIFIED:20231029T201123Z
UID:37657-1699722000-1699830000@notoriousjazz.com
SUMMARY:TRIBUTE TO PHAROAH SANDERS
DESCRIPTION:Gary Bartz [Saxophone]\nJean Carn [Vocals]\nNorman Connors [Vocals & Drums]\nEddie Baccus Jr. [Saxophone] \nThe Starship Orchestra \nKnown for his overblowing\, harmonic\, and multi-phonic techniques on the saxophone\, as well as his use of “sheets of sound”\, American jazz musician Pharaoh Sanders played a prominent role in the development of free jazz and spiritual jazz through his work as a member of John Coltrane’s groups in the mid-1960s\, and later through his solo work. He released over thirty albums as a leader and collaborated extensively with vocalist Leon Thomas and pianist Alice Coltrane\, among many others. Fellow saxophonist Ornette Coleman once described him as “probably the best tenor player in the world”. Most of Sanders’ best-selling work was made in the late 1960s and early 1970s for Impulse Records\, including the 30-minute wave-on-wave of free jazz “The Creator Has a Master Plan” from the album Karma. \nA native of Baltimore\, Gary Bartz has been known to many as a trail blazer in the music business from the moment he started playing with Art Blakey at his father’s jazz club in his hometown to his own music throughout the 57 years as a professional musician. As if his Grammy Award with McCoy Tyner in 2005 (‘Illuminations’) wasn’t enough to carve out a place for Bartz in the jazz genre\, he has broken the mold with more than 40 solo albums and over 200 as a guest artist. \nDrummer and producer Norman Connors’ work has become a main staple of jazz-fusion\, with tracks including “Mother Of The Future” from album “Slew Foot” (1974)\, “Captain Connors” from album “This Is Your Life” (1977)\, “You Are My Starship” (1976) album\, et al. He has lead jazz recordings with Carlos Garnett\, Gary Bartz\, Dee Dee Bridgewater\, and Herbie Hancock. \nJean Carn began her recording career with her then-husband\, pianist Doug Carn\, founder of Black Jazz Records and had an astounding five octave voice range. She sang background for artists including the likes of Earth\, Wind & Fire and Norman Connors\, but in 1977\, she debuted solo\, playing a crucial role in the golden era of Philly soul. \nStreaming: $10.00 + fees \nShowtimes ~ Saturday: 7:00 & 9:30pm | Sunday: 5:00 & 7:30pm
URL:https://notoriousjazz.com/event/tribute-to-pharoah-sanders
LOCATION:Keystone Korner Baltimore\, 1350 Lancaster Street\, Baltimore\, MD\, 21231\, United States
CATEGORIES:Club
ATTACH;FMTTYPE=image/png:https://notoriousjazz.com/wp-content/uploads/2023/10/PHAROAH-SANDERS.png
END:VEVENT
BEGIN:VEVENT
DTSTART;TZID=America/New_York:20231112T080000
DTEND;TZID=America/New_York:20231112T170000
DTSTAMP:20260421T030241
CREATED:20231112T172313Z
LAST-MODIFIED:20231112T175526Z
UID:37841-1699776000-1699808400@notoriousjazz.com
SUMMARY:LAURENCE HOBGOOD
DESCRIPTION:Laurence Hobgood: pianist\, Matt Clohesy: bass\, Jared Schonig: drums. \nLaurence Hobgood\, a multifaceted artist with a career spanning over three decades\, brings his exceptional talents to the stage. From a young age\, he immersed himself in the world of music\, ultimately transitioning to jazz during his time at the University of Illinois. It was there that he developed his skills and artistic philosophy in a thriving musical environment. \nIn 1988\, Hobgood made his mark in Chicago\, collaborating with legendary musicians\, including Kurt Elling. Their partnership resulted in Grammy-nominated albums\, with Hobgood recognized as a producer when they clinched the 2010 Grammy for “Dedicated To You: Kurt Elling Sings The Music Of Coltrane and Hartman.” Hobgood’s achievements also include receiving ASCAP’s Deems Taylor Award and earning critical acclaim for his own albums\, such as “When The Heart Dances” and “PoemJazz\,” featuring poet Robert Pinsky. \nIn 2013\, he introduced the Laurence Hobgood Quintet\, a project celebrated by Downbeat magazine. Hobgood’s musical journey continues to captivate audiences worldwide\, making his performance on November 21st an event not to be missed. See you there!
URL:https://notoriousjazz.com/event/laurence-hobgood
LOCATION:Zinc Bar\, 82 West 3rd Street\, New York City\, NY\, 10012\, United States
CATEGORIES:Club
ATTACH;FMTTYPE=image/png:https://notoriousjazz.com/wp-content/uploads/2023/11/LAURENCE-HOBGOOD.png
END:VEVENT
BEGIN:VEVENT
DTSTART;TZID=America/New_York:20231112T193000
DTEND;TZID=America/New_York:20231112T210000
DTSTAMP:20260421T030241
CREATED:20231008T030817Z
LAST-MODIFIED:20231008T031207Z
UID:37302-1699817400-1699822800@notoriousjazz.com
SUMMARY:MADELEINE PEYROUX
DESCRIPTION:Every great musical project starts with a feeling that it’s time.So it was\, in 2004\, for Madeleine Peyroux: “when I got around to making Careless Love it had been a good eight years since my first album.” Eight years—forever in the music world. Not long After Dreamland dropped in ’96\, she had disappeared from the touring scene as well. Where had she been? What had she been doing\, and why?I was traveling a lot across America\, rediscovering the country and re-identifying as an American. I was born here in the States but moved with my mother to live in Paris when I was young. I met family I never met before. I caught up on what was happening with the music here. It was all a culture shock for me. When I came back to New York to make that first album I was like a deer in the headlights. It was my first time in a studio\, my first time back in America. Then 9/11 happened. Then George W. got re-elected. It was like the world was going crazy. After Dreamland I had signed with Sony and I was trying to make my second record. I was broke and I didn’t know what I was going to do next.Self-reflection and spiritual sensitivity are assets to any musician in the process of starting a career\, of establishing one’s musical identity and direction. They don’t\, however\, necessarily lock into the typical velocity of career-building. There were other things Peyroux had to handle. She underwent surgery on her vocal cords. She healed and worked with a vocal coach. As the ‘90s gave way to the first years of a new century\, she continued to question the how and\, significantly\, the why of what she was doing. (Her choice of the Dylan Thomas quote below\, from his 1946 poem “In my Craft and Sullen Art\,” helps explain her creative motivation.)
URL:https://notoriousjazz.com/event/madeleine-peyroux
LOCATION:City Winery Atlanta\, Ponce City Market\, 650 North Avenue NE\, Atlanta\, GA\, 30308\, United States
CATEGORIES:Club
ATTACH;FMTTYPE=image/jpeg:https://notoriousjazz.com/wp-content/uploads/2023/10/MADELEINE-PEYROUX.jpg
END:VEVENT
END:VCALENDAR