BEGIN:VCALENDAR
VERSION:2.0
PRODID:-//Notorious Jazz - ECPv6.15.17//NONSGML v1.0//EN
CALSCALE:GREGORIAN
METHOD:PUBLISH
X-WR-CALNAME:Notorious Jazz
X-ORIGINAL-URL:https://notoriousjazz.com
X-WR-CALDESC:Events for Notorious Jazz
REFRESH-INTERVAL;VALUE=DURATION:PT1H
X-Robots-Tag:noindex
X-PUBLISHED-TTL:PT1H
BEGIN:VTIMEZONE
TZID:America/New_York
BEGIN:DAYLIGHT
TZOFFSETFROM:-0500
TZOFFSETTO:-0400
TZNAME:EDT
DTSTART:20220313T070000
END:DAYLIGHT
BEGIN:STANDARD
TZOFFSETFROM:-0400
TZOFFSETTO:-0500
TZNAME:EST
DTSTART:20221106T060000
END:STANDARD
BEGIN:DAYLIGHT
TZOFFSETFROM:-0500
TZOFFSETTO:-0400
TZNAME:EDT
DTSTART:20230312T070000
END:DAYLIGHT
BEGIN:STANDARD
TZOFFSETFROM:-0400
TZOFFSETTO:-0500
TZNAME:EST
DTSTART:20231105T060000
END:STANDARD
BEGIN:DAYLIGHT
TZOFFSETFROM:-0500
TZOFFSETTO:-0400
TZNAME:EDT
DTSTART:20240310T070000
END:DAYLIGHT
BEGIN:STANDARD
TZOFFSETFROM:-0400
TZOFFSETTO:-0500
TZNAME:EST
DTSTART:20241103T060000
END:STANDARD
END:VTIMEZONE
BEGIN:VEVENT
DTSTART;TZID=America/New_York:20231121T190000
DTEND;TZID=America/New_York:20231121T203000
DTSTAMP:20260421T030255
CREATED:20231112T210010Z
LAST-MODIFIED:20231112T210010Z
UID:37856-1700593200-1700598600@notoriousjazz.com
SUMMARY:DIXIE KARAS QUINTET
DESCRIPTION:Dixie Karas — vocalist Ted Karas — guitar Steve Weingart — keyboard Bill Jackson — bass John Taylor — drums \nGet ready to be captivated by the mesmerizing melodies of Dixie Karas and her talented quintet at Caffe Vivace this November! Experience an unforgettable evening as Dixie Karas takes the stage\, enchanting the audience with her soulful voice and a repertoire of favorite Jazz and Adult Contemporary tunes. Mark your calendars now for a night of musical magic you won’t want to miss. Join us at Caffe Vivace and let the rhythms of jazz and soul sweep you away on a journey of pure musical delight! A $10 drink minimum is charged per person in the party\, per set\, if the total for beverages purchased by the party does not meet the minimum.
URL:https://notoriousjazz.com/event/dixie-karas-quintet
LOCATION:Caffè Vivace\, 975 E McMillan Street\, Cincinnati\, OH\, 45206\, United States
CATEGORIES:Club
ATTACH;FMTTYPE=image/jpeg:https://notoriousjazz.com/wp-content/uploads/2023/11/DIXIE-KARAS.jpeg
END:VEVENT
BEGIN:VEVENT
DTSTART;TZID=America/New_York:20231121T200000
DTEND;TZID=America/New_York:20231126T233000
DTSTAMP:20260421T030255
CREATED:20231022T212619Z
LAST-MODIFIED:20231022T215609Z
UID:37555-1700596800-1701041400@notoriousjazz.com
SUMMARY:JASON MORAN & THE BANDWAGON
DESCRIPTION:The Band: Jason Moran – piano | Tarus Mateen – bass\, double bass | Nasheet Waits – drums \nMoran worked with Greg Osby in his New Directions band and out of that band the trio that was formed became The Bandwagon. The trio performs many compositions of Moran’s and some by Mateen\, along with those by Duke Ellington\, Björk and Byard.
URL:https://notoriousjazz.com/event/jason-moran-the-bandwagon
LOCATION:Village Vanguard\, 178 7th Avenue S\, New York City\, NY\, 10014\, United States
CATEGORIES:Club
ATTACH;FMTTYPE=image/jpeg:https://notoriousjazz.com/wp-content/uploads/2023/10/JASON-MORAN.jpg
END:VEVENT
END:VCALENDAR