BEGIN:VCALENDAR
VERSION:2.0
PRODID:-//Notorious Jazz - ECPv6.15.17//NONSGML v1.0//EN
CALSCALE:GREGORIAN
METHOD:PUBLISH
X-ORIGINAL-URL:https://notoriousjazz.com
X-WR-CALDESC:Events for Notorious Jazz
REFRESH-INTERVAL;VALUE=DURATION:PT1H
X-Robots-Tag:noindex
X-PUBLISHED-TTL:PT1H
BEGIN:VTIMEZONE
TZID:America/New_York
BEGIN:DAYLIGHT
TZOFFSETFROM:-0500
TZOFFSETTO:-0400
TZNAME:EDT
DTSTART:20220313T070000
END:DAYLIGHT
BEGIN:STANDARD
TZOFFSETFROM:-0400
TZOFFSETTO:-0500
TZNAME:EST
DTSTART:20221106T060000
END:STANDARD
BEGIN:DAYLIGHT
TZOFFSETFROM:-0500
TZOFFSETTO:-0400
TZNAME:EDT
DTSTART:20230312T070000
END:DAYLIGHT
BEGIN:STANDARD
TZOFFSETFROM:-0400
TZOFFSETTO:-0500
TZNAME:EST
DTSTART:20231105T060000
END:STANDARD
BEGIN:DAYLIGHT
TZOFFSETFROM:-0500
TZOFFSETTO:-0400
TZNAME:EDT
DTSTART:20240310T070000
END:DAYLIGHT
BEGIN:STANDARD
TZOFFSETFROM:-0400
TZOFFSETTO:-0500
TZNAME:EST
DTSTART:20241103T060000
END:STANDARD
END:VTIMEZONE
BEGIN:VEVENT
DTSTART;TZID=America/New_York:20231220T190000
DTEND;TZID=America/New_York:20231224T235900
DTSTAMP:20260421T012144
CREATED:20231210T025855Z
LAST-MODIFIED:20231210T030823Z
UID:38210-1703098800-1703462340@notoriousjazz.com
SUMMARY:THE CATS
DESCRIPTION:Countdown Festival Quintet I ~ The Cats with special guests George Coleman Quintet featuring Emmet Cohen & Peter Bernstein.\n\n George Coleman – tenor saxophone | Peter Bernstein – guitar | Emmet Cohen – piano | John Webber– bass | Joe Farnsworth – drums \nSmoke’s annual year-ending festival celebrating the music of John Coltrane\, Countdown 2024\, gets off to an auspicious start with the one and only George Coleman leading an exceptional quintet. Originally from Memphis\, Tennessee\, Coleman is still making some of the most inspired music of his celebrated career\, including work with B.B. King\, Miles Davis\, and Herbie Hancock\, among many others. \n*Please Note: All 7PM and 9PM shows at Smoke are Dinner Shows \nFriday And Saturday Only: 10:30pm Added
URL:https://notoriousjazz.com/event/the-cats
LOCATION:Smoke Jazz & Supper Club\, 2751 Broadway\, New York City\, NY\, 10025\, United States
CATEGORIES:Club
ATTACH;FMTTYPE=image/jpeg:https://notoriousjazz.com/wp-content/uploads/2023/12/THE-CATS.jpeg
END:VEVENT
BEGIN:VEVENT
DTSTART;TZID=America/New_York:20231221T190000
DTEND;TZID=America/New_York:20231221T203000
DTSTAMP:20260421T012144
CREATED:20231211T173009Z
LAST-MODIFIED:20231211T173009Z
UID:38275-1703185200-1703190600@notoriousjazz.com
SUMMARY:HAILEY NISWANGER
DESCRIPTION:Saxophonist and composer Hailey Niswanger graduated in 2011 with a B.A. in Jazz Performance from Berklee College of Music in Boston\, Massachusetts. Hailing from Houston\, Texas she grew up in Portland\, Oregon\, and now currently lives in Los Angeles\, California.  She has shared the stage with Esperanza Spalding\, Terri Lyne Carrington\, Harvey Mason\, Mike Clark\, Michael Wolff\, Ralph Peterson Jr.\, and other jazz greats. She leads her own bands and has performed at festivals across the country. \nShe is a member of the Wolff & Clark Expedition\, a band formed by pianist\, Michael Wolff\, and drummer\, Mike Clark\, and was featured on their latest album\, Wolff & Clark Expedition 2.  Hailey has been a reoccurring guest soloist with The Soul Rebels Brass Band\, and has performed with Demi Lovato on Saturday Night Live\, and noise pop duo Sleigh Bells on Late Night with Jimmy Fallon and the Late Show with David Letterman. Hailey has released 3 album under her own name. \nIn 2016 Hailey formed MAE.SUN\, which features entirely original compositions. MAE.SUN is a mindful and eclectic band that defies genres and pushes boundaries. Inspired by swirling sounds from around the world\, this project taps into the collective consciousness\, and serves as an engaging mediation. MAE.SUN takes listeners on an emotional journey from beginning to end\, inviting them to feel connected to the present moment\, and all that is.
URL:https://notoriousjazz.com/event/hailey-niswanger
LOCATION:Mississippi Studios\, 3939 N Mississippi Avenue\, Portland\, OR\, 97227\, United States
CATEGORIES:Club
ATTACH;FMTTYPE=image/jpeg:https://notoriousjazz.com/wp-content/uploads/2023/12/HAILEY-NISWANGER.jpg
END:VEVENT
END:VCALENDAR