BEGIN:VCALENDAR
VERSION:2.0
PRODID:-//Notorious Jazz - ECPv6.15.17//NONSGML v1.0//EN
CALSCALE:GREGORIAN
METHOD:PUBLISH
X-WR-CALNAME:Notorious Jazz
X-ORIGINAL-URL:https://notoriousjazz.com
X-WR-CALDESC:Events for Notorious Jazz
REFRESH-INTERVAL;VALUE=DURATION:PT1H
X-Robots-Tag:noindex
X-PUBLISHED-TTL:PT1H
BEGIN:VTIMEZONE
TZID:America/New_York
BEGIN:DAYLIGHT
TZOFFSETFROM:-0500
TZOFFSETTO:-0400
TZNAME:EDT
DTSTART:20220313T070000
END:DAYLIGHT
BEGIN:STANDARD
TZOFFSETFROM:-0400
TZOFFSETTO:-0500
TZNAME:EST
DTSTART:20221106T060000
END:STANDARD
BEGIN:DAYLIGHT
TZOFFSETFROM:-0500
TZOFFSETTO:-0400
TZNAME:EDT
DTSTART:20230312T070000
END:DAYLIGHT
BEGIN:STANDARD
TZOFFSETFROM:-0400
TZOFFSETTO:-0500
TZNAME:EST
DTSTART:20231105T060000
END:STANDARD
BEGIN:DAYLIGHT
TZOFFSETFROM:-0500
TZOFFSETTO:-0400
TZNAME:EDT
DTSTART:20240310T070000
END:DAYLIGHT
BEGIN:STANDARD
TZOFFSETFROM:-0400
TZOFFSETTO:-0500
TZNAME:EST
DTSTART:20241103T060000
END:STANDARD
END:VTIMEZONE
BEGIN:VEVENT
DTSTART;TZID=America/New_York:20231225T170000
DTEND;TZID=America/New_York:20231228T220000
DTSTAMP:20260421T011939
CREATED:20231224T153224Z
LAST-MODIFIED:20231224T153645Z
UID:38424-1703523600-1703800800@notoriousjazz.com
SUMMARY:THE BAD PLUS
DESCRIPTION:The Bad Plus are the ultimate originals—a democratic unit with a clear vision and a refusal to conform to convention. For the past two decades\, they have played with spirit and adventure\, made their own rules and done so with a bold sense of creativity and intent. Avoiding easy categorization\, The Bad Plus has won critical acclaim and a legion of fans worldwide with their unique sound and flair for live performance. \nNow in their 22nd year\, The Bad Plus continues to push boundaries as founding members Reid Anderson (bass) and Dave King (drums) embark on a new piano-less incarnation of the band with Ben Monder (guitar) and Chris Speed (tenor saxophone) – instigating a new wave of excitement and anticipation within the band that is re-energizing their sound and inspiration. The Bad Plus have constantly searched to bridge genres and techniques while exploring the infinite possibilities of exceptional musicians working in perfect sync.
URL:https://notoriousjazz.com/event/the-bad-plus-4
LOCATION:Dakota\, 1010 Nicollet Mall\, Minneapolis\, MN\, 55403\, United States
CATEGORIES:Club
ATTACH;FMTTYPE=image/png:https://notoriousjazz.com/wp-content/uploads/2023/12/BAD-PLUS.png
END:VEVENT
BEGIN:VEVENT
DTSTART;TZID=America/New_York:20231228T193000
DTEND;TZID=America/New_York:20231228T230000
DTSTAMP:20260421T011939
CREATED:20231211T083636Z
LAST-MODIFIED:20231211T083636Z
UID:38256-1703791800-1703804400@notoriousjazz.com
SUMMARY:VICTOR GOINES
DESCRIPTION:Tonight\, New Orleans-bred and presently St. Louis x Chicago x NYC-based saxophonist\, clarinetist\, composer and educator Victor Goines is the guest bandleader of Snug’s “E-Day” Series\, when musicians close to our late great Ellis Marsalis present their tribute concerts to his musical legacy on the night of the week that was Ellis’ Snug residency for over 30 years. \nNotably\, Victor performed in the Ellis Marsalis Quartet for a number of years beginning in the 1980s. Ellis later hired Victor as a faculty member when he created the University of New Orleans Jazz Studies Department in 1989.  Victor Goines is widely recognized as one of the most engaging and versatile performers and composers in music today. Drawing from his New Orleans roots\, his extraordinary career includes performances throughout the world earning acclaim from audiences\, critics and colleagues. Goines has been a member of the Jazz at Lincoln Center Orchestra in NYC and the Wynton Marsalis Septet since 1993. \nHe has recorded and/or performed with many notable jazz and popular artists including Ahmad Jamal\, Ruth Brown\, Dee Dee Bridgewater\, Ray Charles\, Bob Dylan\, Dizzy Gillespie\, Lenny Kravitz\, Ellis Marsalis Jr\, Branford Marsalis\, Dianne Reeves\, Willie Nelson\, Marcus Roberts\, Diana Ross\, Stevie Wonder\, more. \nHis discography boasts over 20 albums as a bandleader\, and recordings on over 70 other releases\, including Wynton Marsalis’ Pulitzer Prize-winning recording\, “Blood on the Fields” and Ted Nash’s Grammy Award-winning “Presidential Suite.”  A gifted composer\, Goines has more than 100 original works to his credit\, including his 1992 debut album “Genesis” on the late Harold Battiste Jr’s seminal AFO Records. In 2000\, he was commissioned by Juilliard’s Dance Division to compose or their 50th Anniversary. \nVictor is currently the Executive Artistic Director at Jazz St. Louis. \n\nVictor Goines New Orleans Quartet\nVictor Goines – clarinet & saxophones\nOscar Rossignoli – piano\nJason Stewart – bass\nJason Marsalis – drums
URL:https://notoriousjazz.com/event/victor-goines
LOCATION:Snug Harbor\, 626 Frenchmen Street\, New Orleans\, LA\, 70116\, United States
CATEGORIES:Club
ATTACH;FMTTYPE=image/png:https://notoriousjazz.com/wp-content/uploads/2023/12/VICTOR-GOINES.png
END:VEVENT
END:VCALENDAR